PDS_VERSION_ID = PDS3
/* FILE DATA ELEMENTS */
RECORD_TYPE = UNDEFINED
/* POINTERS TO DATA OBJECTS */
^IMAGE = ("HB550_0000_RE4.TIF")
/* IDENTIFICATION DATA ELEMENTS */
DATA_SET_ID = "MEX-M-HRSC-4-REFDR-MAPPROJECT-EXT4-V4.0"
DATA_SET_NAME = "MARS EXPRESS HRSC MAP PROJECTED REFDR EXTENSION4 V4.0"
DETECTOR_ID = MEX_HRSC_RED
EVENT_TYPE = "MARS-REGIONAL-MAPPING-Vo-Te-Eo"
INSTRUMENT_HOST_ID = MEX
INSTRUMENT_HOST_NAME = "MARS EXPRESS"
INSTRUMENT_ID = HRSC
INSTRUMENT_NAME = "HIGH RESOLUTION STEREO CAMERA"
MISSION_NAME = "MARS EXPRESS"
MISSION_PHASE_NAME = ME_Phase_27
PROCESSING_LEVEL_ID = 4
PRODUCT_CREATION_TIME = 2023-01-30T11:30:59.000Z
PRODUCT_ID = "HB550_0000_RE4.TIF"
RELEASE_ID = 0001
REVISION_ID = 0000
/* QUALITY DATA ELEMENTS */
DATA_QUALITY_ID = 1
DATA_QUALITY_DESC = "Data calculated based on original SPICE kernels"
/* TIME DATA ELEMENTS */
SPACECRAFT_CLOCK_START_COUNT = "1/0307505106.09037"
SPACECRAFT_CLOCK_STOP_COUNT = "1/0307505334.46703"
START_TIME = 2013-01-29T02:06:21.080Z
STOP_TIME = 2013-01-29T02:08:46.357Z
/* ORBITAL DATA ELEMENTS */
ASCENDING_NODE_LONGITUDE = 357.08
MAXIMUM_RESOLUTION = 0.1474 <m/pixel>
FOOTPRINT_POINT_LATITUDE = (17.0528,17.0542,17.0554,17.0574,17.059 ,17.0604,17.0617,17.0633,17.0634, 17.0889,16.8574,16.6262,16.1611,15.8468 ,15.5332,15.0604,14.6612,14.3428, 14.1021,13.94,13.6968,13.535,13.3734, 13.1293,12.9644,12.7999,12.6355,12.4714 ,12.3073,12.0566,11.8896,11.7228, 11.5558,11.3043,11.1345,10.965,10.7957, 10.6264,10.4555,10.2833,10.1115,9.9399, 9.76852,9.59377,9.41921,9.24499,9.07114 ,8.8068,8.71842,8.71377,8.70864,8.70478 ,8.70032,8.69818,8.6939,8.68983,8.68964 ,8.69183,8.86911,9.04499,9.21916,9.3935 ,9.56811,9.74266,9.91367,10.0849, 10.2573,10.4311,10.6025,10.772,10.9416, 11.1116,11.2817,11.4504,11.7012,11.8683 ,12.0357,12.2869,12.4513,12.6158, 12.7805,12.9454,13.1104,13.3548,13.5166 ,13.6788,13.8413,14.004,14.1668,14.4851 ,14.8043,15.0443,15.2042,15.5179, 15.8319,16.1469,16.6125,16.9986,17.076, 17.0528)
FOOTPRINT_POINT_LONGITUDE = (93.8233,93.6152,93.4222,93.1104,92.873 ,92.6802,92.4872,92.264,92.2491,92.2316 ,92.2278,92.2239,92.2158,92.2101, 92.2042,92.195,92.1869,92.1802,92.1752, 92.1715,92.166,92.1623,92.1586,92.1529, 92.1489,92.1449,92.1408,92.1367,92.1326 ,92.1263,92.122,92.1176,92.1132,92.1064 ,92.1018,92.0971,92.0924,92.0877, 92.0828,92.0778,92.0727,92.0676,92.0625 ,92.0573,92.052,92.0466,92.0412,92.0329 ,92.03,92.0299,92.3598,92.6219,92.9537, 93.146,93.4956,93.863,93.8806,93.8922, 93.8906,93.8891,93.8876,93.886,93.8845, 93.8829,93.8812,93.8795,93.8782,93.8774 ,93.8761,93.8748,93.8735,93.8723,93.871 ,93.8698,93.8681,93.8668,93.8656, 93.8639,93.8628,93.8616,93.8605,93.8593 ,93.8582,93.8565,93.8554,93.8543, 93.8533,93.8523,93.8513,93.8492,93.8471 ,93.8456,93.8446,93.8428,93.8409, 93.8391,93.8364,93.8342,93.8337, 93.8233)
ORBIT_NUMBER = 11550
ORBITAL_ECCENTRICITY = 0.575
ORBITAL_INCLINATION = 86.89
ORBITAL_SEMIMAJOR_AXIS = 8829.4
PERIAPSIS_ALTITUDE = 364.33
PERIAPSIS_ARGUMENT_ANGLE = 146.06
PERIAPSIS_TIME = 2013-01-29T02:01:23.000Z
SPACECRAFT_ORIENTATION = (0.0,-1.0,0.0)
^MEX_ORIENTATION_DESC = "MEX_ORIENTATION_DESC.TXT"
SPACECRAFT_POINTING_MODE = NADIR
^MEX_POINTING_DESC = "MEX_POINTING_DESC.TXT"
RIGHT_ASCENSION = -1e+32
DECLINATION = -1e+32
OFFSET_ANGLE = -1e+32
SPACECRAFT_SOLAR_DISTANCE = 2.06692e+08
TARGET_NAME = MARS
/* CAMERA DATA ELEMENTS */
DETECTOR_TEMPERATURE = 19.5939 <degC>
FOCAL_PLANE_TEMPERATURE = 9.195 <degC>
INST_CMPRS_NAME = "DISCRETE COSINE TRANSFORMATION (DCT)"
INST_CMPRS_RATIO = 27.9207
INST_CMPRS_QUALITY = 0
INST_CMPRS_QUANTZ_TBL_ID = 0
INSTRUMENT_TEMPERATURE = 12.4574 <degC>
LENS_TEMPERATURE = 10.0106 <degC>
MACROPIXEL_SIZE = 8
MISSING_FRAMES = 0
PIXEL_SUBSAMPLING_FLAG = N
SIGNAL_CHAIN_ID = 2
/* RADIOMETRIC DATA ELEMENTS */
BANDWIDTH = 48.0 <nm>
CENTER_FILTER_WAVELENGTH = 748.0 <nm>
RADIANCE_OFFSET = 1.14375 <W*m**-2*sr**-1>
RADIANCE_SCALING_FACTOR = 0.00231866 <W*m**-2*sr**-1>
REFLECTANCE_SCALING_FACTOR = 0.000226055
MEX:REFLECTANCE_OFFSET = 0.111508
/* IMAGE OBJECT DEFINITIONS */
OBJECT = IMAGE
  INTERCHANGE_FORMAT = BINARY
  LINES = 4993
  LINE_SAMPLES = 1034
  SAMPLE_TYPE = UNSIGNED_INTEGER
  SAMPLE_BITS = 8
  BANDS = 1
  BAND_STORAGE_TYPE = BAND_SEQUENTIAL
  MAXIMUM = 255
  MEAN = 141.372
  MINIMUM = 1
  STANDARD_DEVIATION = 40.6137
END_OBJECT = IMAGE
/* MAP OBJECT DEFINITIONS */
OBJECT = IMAGE_MAP_PROJECTION
  ^DATA_SET_MAP_PROJECTION_CATALOG= "DSMAP.CAT"
  A_AXIS_RADIUS = 3396.0 <km>
  B_AXIS_RADIUS = 3396.0 <km>
  C_AXIS_RADIUS = 3396.0 <km>
  CENTER_LATITUDE = 0.0
  CENTER_LONGITUDE = 93.0
  COORDINATE_SYSTEM_NAME = PLANETOGRAPHIC
  COORDINATE_SYSTEM_TYPE = "BODY-FIXED ROTATING"
  EASTERNMOST_LONGITUDE = 93.8922
  FIRST_STANDARD_PARALLEL = "N/A"
  LINE_FIRST_PIXEL = 1
  LINE_LAST_PIXEL = 4993
  LINE_PROJECTION_OFFSET = 10124.5625
  MAP_PROJECTION_ROTATION = 0.0
  MAP_PROJECTION_TYPE = SINUSOIDAL
  MAP_RESOLUTION = 592.713803866667 <pixel/degree>
  MAP_SCALE = 0.1 <km/pixel>
  MAXIMUM_LATITUDE = 17.0889
  MINIMUM_LATITUDE = 8.689640000000001
  POSITIVE_LONGITUDE_DIRECTION = EAST
  REFERENCE_LATITUDE = "N/A"
  REFERENCE_LONGITUDE = "N/A"
  SAMPLE_FIRST_PIXEL = 1
  SAMPLE_LAST_PIXEL = 1034
  SAMPLE_PROJECTION_OFFSET = 544.1875
  SECOND_STANDARD_PARALLEL = "N/A"
  WESTERNMOST_LONGITUDE = 92.0299
END_OBJECT = IMAGE_MAP_PROJECTION
END
