PDS_VERSION_ID = PDS3
/* FILE DATA ELEMENTS */
RECORD_TYPE = UNDEFINED
/* POINTERS TO DATA OBJECTS */
^IMAGE = ("HB550_0000_IR4.TIF")
/* IDENTIFICATION DATA ELEMENTS */
DATA_SET_ID = "MEX-M-HRSC-4-REFDR-MAPPROJECT-EXT4-V4.0"
DATA_SET_NAME = "MARS EXPRESS HRSC MAP PROJECTED REFDR EXTENSION4 V4.0"
DETECTOR_ID = MEX_HRSC_IR
EVENT_TYPE = "MARS-REGIONAL-MAPPING-Vo-Te-Eo"
INSTRUMENT_HOST_ID = MEX
INSTRUMENT_HOST_NAME = "MARS EXPRESS"
INSTRUMENT_ID = HRSC
INSTRUMENT_NAME = "HIGH RESOLUTION STEREO CAMERA"
MISSION_NAME = "MARS EXPRESS"
MISSION_PHASE_NAME = ME_Phase_27
PROCESSING_LEVEL_ID = 4
PRODUCT_CREATION_TIME = 2023-01-30T11:30:59.000Z
PRODUCT_ID = "HB550_0000_IR4.TIF"
RELEASE_ID = 0001
REVISION_ID = 0000
/* QUALITY DATA ELEMENTS */
DATA_QUALITY_ID = 1
DATA_QUALITY_DESC = "Data calculated based on original SPICE kernels"
/* TIME DATA ELEMENTS */
SPACECRAFT_CLOCK_START_COUNT = "1/0307505106.09037"
SPACECRAFT_CLOCK_STOP_COUNT = "1/0307505334.46703"
START_TIME = 2013-01-29T02:05:15.931Z
STOP_TIME = 2013-01-29T02:07:26.539Z
/* ORBITAL DATA ELEMENTS */
ASCENDING_NODE_LONGITUDE = 357.08
MAXIMUM_RESOLUTION = 0.1372
FOOTPRINT_POINT_LATITUDE = (17.0682,17.0713,17.0729,17.0738, 17.0741,17.0741,17.0736,17.0736,17.0453 ,16.7343,16.3458,15.9505,15.6315, 15.3127,15.0737,14.7555,14.5939,14.4306 ,14.2673,14.1046,13.9412,13.6963, 13.4516,13.2885,13.1217,12.8711,12.704, 12.537,12.3701,12.2033,12.0363,11.8669, 11.696,11.4401,11.2694,11.0989,10.8431, 10.67,10.4957,10.3212,10.1469,9.8854, 9.71134,9.53425,9.35612,9.17807,9.00006 ,8.82223,8.73345,8.64468,8.64349, 8.64177,8.63873,8.63616,8.63394,8.62739 ,8.62713,8.6293,8.80738,8.98552,9.16372 ,9.34218,9.52083,9.69841,9.8732,10.048, 10.2226,10.4837,10.6584,10.8317,11.0878 ,11.2586,11.4293,11.6002,11.7711, 12.0266,12.1933,12.3603,12.5275,12.6947 ,12.862,13.0292,13.28,13.4434,13.6882, 13.8515,14.0148,14.1783,14.4236,14.5873 ,14.9884,15.3072,15.6265,15.7862, 16.0256,16.3416,16.5751,16.8865,16.9644 ,17.0682)
FOOTPRINT_POINT_LONGITUDE = (93.7697,93.4246,93.1623,92.9414, 92.7345,92.5136,92.3201,92.3063,92.2894 ,92.2855,92.2805,92.275,92.2704,92.2657 ,92.262,92.257,92.2544,92.2517,92.2489, 92.2463,92.2434,92.239,92.2345,92.2315, 92.2284,92.2236,92.2203,92.217,92.2136, 92.2103,92.2067,92.2034,92.1997,92.1943 ,92.1906,92.1868,92.1811,92.1772, 92.1732,92.1691,92.165,92.1587,92.1545, 92.1502,92.1457,92.1413,92.1367,92.1321 ,92.1299,92.1276,92.3761,92.6268,92.94, 93.1438,93.3319,93.7707,93.7864,93.7969 ,93.7964,93.7959,93.7954,93.7949, 93.7943,93.7938,93.7932,93.7927,93.7922 ,93.7919,93.7915,93.7911,93.7906, 93.7902,93.7899,93.7895,93.7892,93.7887 ,93.7884,93.7881,93.7877,93.7873,93.787 ,93.7867,93.7861,93.7858,93.7854, 93.7851,93.7848,93.7845,93.784,93.7837, 93.7829,93.7825,93.7819,93.7816,93.7813 ,93.7807,93.7803,93.7798,93.7796, 93.7697)
ORBIT_NUMBER = 11550
ORBITAL_ECCENTRICITY = 0.575
ORBITAL_INCLINATION = 86.89
ORBITAL_SEMIMAJOR_AXIS = 8829.4
PERIAPSIS_ALTITUDE = 364.33
PERIAPSIS_ARGUMENT_ANGLE = 146.06
PERIAPSIS_TIME = 2013-01-29T02:01:23.000Z
SPACECRAFT_ORIENTATION = (0.0,-1.0,0.0)
^MEX_ORIENTATION_DESC = "MEX_ORIENTATION_DESC.TXT"
SPACECRAFT_POINTING_MODE = NADIR
^MEX_POINTING_DESC = "MEX_POINTING_DESC.TXT"
RIGHT_ASCENSION = -1e+32
DECLINATION = -1e+32
OFFSET_ANGLE = -1e+32
SPACECRAFT_SOLAR_DISTANCE = 2.06692e+08
TARGET_NAME = MARS
/* CAMERA DATA ELEMENTS */
DETECTOR_TEMPERATURE = 18.1666
FOCAL_PLANE_TEMPERATURE = 9.195
INST_CMPRS_NAME = "DISCRETE COSINE TRANSFORMATION (DCT)"
INST_CMPRS_RATIO = 20.6857
INST_CMPRS_QUALITY = 0
INST_CMPRS_QUANTZ_TBL_ID = 0
INSTRUMENT_TEMPERATURE = 12.4574
LENS_TEMPERATURE = 10.0106
MACROPIXEL_SIZE = 8
MISSING_FRAMES = 0
PIXEL_SUBSAMPLING_FLAG = N
SIGNAL_CHAIN_ID = 2
/* RADIOMETRIC DATA ELEMENTS */
BANDWIDTH = 81.0
CENTER_FILTER_WAVELENGTH = 955.5
RADIANCE_OFFSET = 1.09228
RADIANCE_SCALING_FACTOR = 0.00232021
REFLECTANCE_SCALING_FACTOR = 0.000213848
MEX:REFLECTANCE_OFFSET = 0.100673
/* IMAGE OBJECT DEFINITIONS */
OBJECT = IMAGE
  INTERCHANGE_FORMAT = BINARY
  LINES = 4993
  LINE_SAMPLES = 1034
  SAMPLE_TYPE = UNSIGNED_INTEGER
  SAMPLE_BITS = 8
  BANDS = 1
  BAND_STORAGE_TYPE = BAND_SEQUENTIAL
  MAXIMUM = 255
  MEAN = 141.158
  MINIMUM = 1
  STANDARD_DEVIATION = 39.6449
END_OBJECT = IMAGE
/* MAP OBJECT DEFINITIONS */
OBJECT = IMAGE_MAP_PROJECTION
  ^DATA_SET_MAP_PROJECTION_CATALOG= "DSMAP.CAT"
  A_AXIS_RADIUS = 3396.0
  B_AXIS_RADIUS = 3396.0
  C_AXIS_RADIUS = 3396.0
  CENTER_LATITUDE = 0.0
  CENTER_LONGITUDE = 93.0
  COORDINATE_SYSTEM_NAME = PLANETOGRAPHIC
  COORDINATE_SYSTEM_TYPE = "BODY-FIXED ROTATING"
  EASTERNMOST_LONGITUDE = 93.79689999999999
  FIRST_STANDARD_PARALLEL = "N/A"
  LINE_FIRST_PIXEL = 1
  LINE_LAST_PIXEL = 4993
  LINE_PROJECTION_OFFSET = 10124.5625
  MAP_PROJECTION_ROTATION = 0.0
  MAP_PROJECTION_TYPE = SINUSOIDAL
  MAP_RESOLUTION = 592.713803866667
  MAP_SCALE = 0.1
  MAXIMUM_LATITUDE = 17.0741
  MINIMUM_LATITUDE = 8.627129999999999
  POSITIVE_LONGITUDE_DIRECTION = EAST
  REFERENCE_LATITUDE = "N/A"
  REFERENCE_LONGITUDE = "N/A"
  SAMPLE_FIRST_PIXEL = 1
  SAMPLE_LAST_PIXEL = 1034
  SAMPLE_PROJECTION_OFFSET = 544.1875
  SECOND_STANDARD_PARALLEL = "N/A"
  WESTERNMOST_LONGITUDE = 92.1276
END_OBJECT = IMAGE_MAP_PROJECTION
END
