PDS_VERSION_ID = PDS3
/* FILE DATA ELEMENTS */
RECORD_TYPE = UNDEFINED
/* POINTERS TO DATA OBJECTS */
^IMAGE = ("HB548_0000_BL4.TIF")
/* IDENTIFICATION DATA ELEMENTS */
DATA_SET_ID = "MEX-M-HRSC-4-REFDR-MAPPROJECT-EXT4-V4.0"
DATA_SET_NAME = "MARS EXPRESS HRSC MAP PROJECTED REFDR EXTENSION4 V4.0"
DETECTOR_ID = MEX_HRSC_BLUE
EVENT_TYPE = "MARS-REGIONAL-MAPPING-Vo-Im-Fl"
INSTRUMENT_HOST_ID = MEX
INSTRUMENT_HOST_NAME = "MARS EXPRESS"
INSTRUMENT_ID = HRSC
INSTRUMENT_NAME = "HIGH RESOLUTION STEREO CAMERA"
MISSION_NAME = "MARS EXPRESS"
MISSION_PHASE_NAME = ME_Phase_27
PROCESSING_LEVEL_ID = 4
PRODUCT_CREATION_TIME = 2023-01-30T11:30:59.000Z
PRODUCT_ID = "HB548_0000_BL4.TIF"
RELEASE_ID = 0001
REVISION_ID = 0000
/* QUALITY DATA ELEMENTS */
DATA_QUALITY_ID = 1
DATA_QUALITY_DESC = "Data calculated based on original SPICE kernels"
/* TIME DATA ELEMENTS */
SPACECRAFT_CLOCK_START_COUNT = "1/0307454965.07295"
SPACECRAFT_CLOCK_STOP_COUNT = "1/0307455161.48776"
START_TIME = 2013-01-28T12:10:26.453Z
STOP_TIME = 2013-01-28T12:11:45.539Z
/* ORBITAL DATA ELEMENTS */
ASCENDING_NODE_LONGITUDE = 357.11
MAXIMUM_RESOLUTION = 0.0862 <m/pixel>
FOOTPRINT_POINT_LATITUDE = (5.19077,5.19234,5.19442,5.19646, 5.19876,5.2018,5.20406,5.20607,5.20807, 5.2103,5.21228,5.21374,5.21566,5.21737, 5.21761,5.21623,5.09008,4.8761,4.70498, 4.53399,4.36326,4.1896,4.01602,3.84267, 3.66951,3.53745,3.36138,3.18553,3.00989 ,2.74258,2.56433,2.43073,2.25189, 2.16138,2.07097,1.98065,1.89038,1.71003 ,1.61901,1.52732,1.4357,1.34418,1.25273 ,1.16137,1.07002,0.977572,0.884801, 0.792044,0.74568,0.707506,0.704394, 0.702262,0.69954,0.697135,0.69512, 0.691876,0.689237,0.686087,0.683284, 0.681685,0.679082,0.677499,0.675346, 0.672751,0.672433,0.673696,0.766719, 0.859532,0.952613,1.04511,1.13661, 1.22819,1.31983,1.41154,1.50331,1.64099 ,1.8217,1.91214,2.00266,2.09322,2.18384 ,2.27452,2.4528,2.63131,2.81008,2.9883, 3.16425,3.34042,3.51682,3.64892,3.8224, 3.99613,4.17012,4.34391,4.51496,4.68619 ,4.85765,5.11394,5.15606,5.19077)
FOOTPRINT_POINT_LONGITUDE = (298.268,298.163,298.023,297.883, 297.726,297.516,297.358,297.218,297.078 ,296.921,296.781,296.676,296.536, 296.413,296.396,296.392,296.387,296.38, 296.374,296.368,296.362,296.356,296.35, 296.343,296.337,296.332,296.325,296.319 ,296.312,296.302,296.295,296.29,296.283 ,296.279,296.276,296.272,296.268, 296.261,296.257,296.254,296.25,296.246, 296.242,296.239,296.235,296.231,296.227 ,296.223,296.221,296.22,296.393,296.51, 296.666,296.802,296.918,297.112,297.267 ,297.462,297.637,297.734,297.889, 297.986,298.123,298.278,298.298,298.304 ,298.304,298.303,298.302,298.301,298.3, 298.299,298.298,298.298,298.297,298.295 ,298.294,298.293,298.292,298.292, 298.291,298.29,298.289,298.287,298.286, 298.284,298.283,298.281,298.28,298.279, 298.278,298.276,298.275,298.274,298.273 ,298.272,298.27,298.269,298.268, 298.268)
ORBIT_NUMBER = 11548
ORBITAL_ECCENTRICITY = 0.575
ORBITAL_INCLINATION = 86.89
ORBITAL_SEMIMAJOR_AXIS = 8824.7
PERIAPSIS_ALTITUDE = 364.83
PERIAPSIS_ARGUMENT_ANGLE = 146.44
PERIAPSIS_TIME = 2013-01-28T12:02:45.000Z
SPACECRAFT_ORIENTATION = (0.0,-1.0,0.0)
^MEX_ORIENTATION_DESC = "MEX_ORIENTATION_DESC.TXT"
SPACECRAFT_POINTING_MODE = NADIR
^MEX_POINTING_DESC = "MEX_POINTING_DESC.TXT"
RIGHT_ASCENSION = -1e+32
DECLINATION = -1e+32
OFFSET_ANGLE = -1e+32
SPACECRAFT_SOLAR_DISTANCE = 2.06687e+08
TARGET_NAME = MARS
/* CAMERA DATA ELEMENTS */
DETECTOR_TEMPERATURE = 18.7783 <degC>
FOCAL_PLANE_TEMPERATURE = 9.3989 <degC>
INST_CMPRS_NAME = "DISCRETE COSINE TRANSFORMATION (DCT)"
INST_CMPRS_RATIO = 8.68449
INST_CMPRS_QUALITY = 0
INST_CMPRS_QUANTZ_TBL_ID = 0
INSTRUMENT_TEMPERATURE = 12.0496 <degC>
LENS_TEMPERATURE = 9.3989 <degC>
MACROPIXEL_SIZE = 4
MISSING_FRAMES = 0
PIXEL_SUBSAMPLING_FLAG = N
SIGNAL_CHAIN_ID = 2
/* RADIOMETRIC DATA ELEMENTS */
BANDWIDTH = 76.0 <nm>
CENTER_FILTER_WAVELENGTH = 444.0 <nm>
RADIANCE_OFFSET = 0.594432 <W*m**-2*sr**-1>
RADIANCE_SCALING_FACTOR = 0.00129043 <W*m**-2*sr**-1>
REFLECTANCE_SCALING_FACTOR = 5.66393e-05
MEX:REFLECTANCE_OFFSET = 0.0260906
/* IMAGE OBJECT DEFINITIONS */
OBJECT = IMAGE
  INTERCHANGE_FORMAT = BINARY
  LINES = 2703
  LINE_SAMPLES = 1225
  SAMPLE_TYPE = UNSIGNED_INTEGER
  SAMPLE_BITS = 8
  BANDS = 1
  BAND_STORAGE_TYPE = BAND_SEQUENTIAL
  MAXIMUM = 255
  MEAN = 108.274
  MINIMUM = 1
  STANDARD_DEVIATION = 17.5043
END_OBJECT = IMAGE
/* MAP OBJECT DEFINITIONS */
OBJECT = IMAGE_MAP_PROJECTION
  ^DATA_SET_MAP_PROJECTION_CATALOG= "DSMAP.CAT"
  A_AXIS_RADIUS = 3396.0 <km>
  B_AXIS_RADIUS = 3396.0 <km>
  C_AXIS_RADIUS = 3396.0 <km>
  CENTER_LATITUDE = 0.0
  CENTER_LONGITUDE = 297.0
  COORDINATE_SYSTEM_NAME = PLANETOGRAPHIC
  COORDINATE_SYSTEM_TYPE = "BODY-FIXED ROTATING"
  EASTERNMOST_LONGITUDE = 298.304
  FIRST_STANDARD_PARALLEL = "N/A"
  LINE_FIRST_PIXEL = 1
  LINE_LAST_PIXEL = 2703
  LINE_PROJECTION_OFFSET = 3095.625
  MAP_PROJECTION_ROTATION = 0.0
  MAP_PROJECTION_TYPE = SINUSOIDAL
  MAP_RESOLUTION = 592.713803866667 <pixel/degree>
  MAP_SCALE = 0.1 <km/pixel>
  MAXIMUM_LATITUDE = 5.21761
  MINIMUM_LATITUDE = 0.672433
  POSITIVE_LONGITUDE_DIRECTION = EAST
  REFERENCE_LATITUDE = "N/A"
  REFERENCE_LONGITUDE = "N/A"
  SAMPLE_FIRST_PIXEL = 1
  SAMPLE_LAST_PIXEL = 1225
  SAMPLE_PROJECTION_OFFSET = 460.875
  SECOND_STANDARD_PARALLEL = "N/A"
  WESTERNMOST_LONGITUDE = 296.22
END_OBJECT = IMAGE_MAP_PROJECTION
END
