PDS_VERSION_ID = PDS3
/* FILE DATA ELEMENTS */
RECORD_TYPE = UNDEFINED
/* POINTERS TO DATA OBJECTS */
^IMAGE = ("HB543_0000_IR4.TIF")
/* IDENTIFICATION DATA ELEMENTS */
DATA_SET_ID = "MEX-M-HRSC-4-REFDR-MAPPROJECT-EXT4-V4.0"
DATA_SET_NAME = "MARS EXPRESS HRSC MAP PROJECTED REFDR EXTENSION4 V4.0"
DETECTOR_ID = MEX_HRSC_IR
EVENT_TYPE = "MARS-REGIONAL-MAPPING-Vo-Eo"
INSTRUMENT_HOST_ID = MEX
INSTRUMENT_HOST_NAME = "MARS EXPRESS"
INSTRUMENT_ID = HRSC
INSTRUMENT_NAME = "HIGH RESOLUTION STEREO CAMERA"
MISSION_NAME = "MARS EXPRESS"
MISSION_PHASE_NAME = ME_Phase_27
PROCESSING_LEVEL_ID = 4
PRODUCT_CREATION_TIME = 2023-01-30T11:30:59.000Z
PRODUCT_ID = "HB543_0000_IR4.TIF"
RELEASE_ID = 0001
REVISION_ID = 0000
/* QUALITY DATA ELEMENTS */
DATA_QUALITY_ID = 1
DATA_QUALITY_DESC = "Data calculated based on original SPICE kernels"
/* TIME DATA ELEMENTS */
SPACECRAFT_CLOCK_START_COUNT = "1/0307328946.09056"
SPACECRAFT_CLOCK_STOP_COUNT = "1/0307329178.06916"
START_TIME = 2013-01-27T01:09:15.813Z
STOP_TIME = 2013-01-27T01:11:33.592Z
/* ORBITAL DATA ELEMENTS */
ASCENDING_NODE_LONGITUDE = 357.21
MAXIMUM_RESOLUTION = 0.0665
FOOTPRINT_POINT_LATITUDE = (17.9313,17.9301,17.9288,17.927,17.9247 ,17.922,17.9184,17.9182,17.8901,17.4648 ,17.1247,16.8697,16.5294,16.1897, 16.0184,15.5102,15.1706,14.8285,14.6543 ,14.4801,14.306,14.1318,13.9577,13.7837 ,13.6099,13.4363,13.1691,12.9908, 12.8124,12.6343,12.4562,12.2783,12.1007 ,11.9196,11.7368,11.5545,11.3721, 11.1899,11.0076,10.8255,10.6407,10.4541 ,10.1744,9.98797,9.80163,9.61569, 9.33145,9.14087,9.04564,8.9975,8.99926, 9.00009,9.0005,9.00025,8.99952,8.99861, 8.99853,8.99965,9.19057,9.3814,9.57162, 9.75785,9.94423,10.1309,10.4114,10.5983 ,10.7842,10.9663,11.1489,11.3311, 11.5136,11.6962,11.8793,12.0621,12.2407 ,12.4183,12.5968,12.7745,12.953,13.1316 ,13.3103,13.4874,13.7486,13.923,14.0971 ,14.2715,14.533,14.7075,14.9685,15.4785 ,15.8188,16.1586,16.6692,17.0096, 17.1799,17.4354,17.6057,17.7762,17.8615 ,17.9313)
FOOTPRINT_POINT_LONGITUDE = (89.0228,88.7018,88.4871,88.2718, 88.0562,87.8399,87.5956,87.582,87.5647, 87.5612,87.5581,87.5556,87.552,87.5484, 87.5457,87.5402,87.5359,87.5312,87.5288 ,87.5263,87.5238,87.5212,87.5185, 87.5158,87.5131,87.5105,87.5061,87.5031 ,87.5,87.4969,87.4937,87.4906,87.4876, 87.4841,87.4804,87.4769,87.4733,87.4697 ,87.466,87.4622,87.4584,87.4544,87.4483 ,87.4441,87.4399,87.4358,87.4293, 87.4248,87.4225,87.4214,87.7418,88.0011 ,88.351,88.5938,88.836,89.0325,89.0476, 89.0526,89.052,89.0514,89.0509,89.0504, 89.0499,89.0493,89.0484,89.0479,89.0474 ,89.047,89.0465,89.0461,89.0456,89.0451 ,89.0445,89.0439,89.0434,89.0431, 89.0426,89.0423,89.0419,89.0414,89.0409 ,89.0405,89.0399,89.0394,89.039,89.0386 ,89.0379,89.0375,89.0368,89.0355, 89.0347,89.0339,89.0326,89.0318,89.0314 ,89.0308,89.0304,89.0299,89.0297, 89.0228)
ORBIT_NUMBER = 11543
ORBITAL_ECCENTRICITY = 0.575
ORBITAL_INCLINATION = 86.89
ORBITAL_SEMIMAJOR_AXIS = 8830.92
PERIAPSIS_ALTITUDE = 363.41
PERIAPSIS_ARGUMENT_ANGLE = 147.27
PERIAPSIS_TIME = 2013-01-27T01:05:55.000Z
SPACECRAFT_ORIENTATION = (0.0,-1.0,0.0)
^MEX_ORIENTATION_DESC = "MEX_ORIENTATION_DESC.TXT"
SPACECRAFT_POINTING_MODE = ACROSSTRACK
^MEX_POINTING_DESC = "MEX_POINTING_DESC.TXT"
RIGHT_ASCENSION = -1e+32
DECLINATION = -1e+32
OFFSET_ANGLE = -0.229
SPACECRAFT_SOLAR_DISTANCE = 2.06676e+08
TARGET_NAME = MARS
/* CAMERA DATA ELEMENTS */
DETECTOR_TEMPERATURE = 17.9627
FOCAL_PLANE_TEMPERATURE = 8.9911
INST_CMPRS_NAME = "DISCRETE COSINE TRANSFORMATION (DCT)"
INST_CMPRS_RATIO = 10.4834
INST_CMPRS_QUALITY = 0
INST_CMPRS_QUANTZ_TBL_ID = 0
INSTRUMENT_TEMPERATURE = 11.8457
LENS_TEMPERATURE = 9.6028
MACROPIXEL_SIZE = 4
MISSING_FRAMES = 0
PIXEL_SUBSAMPLING_FLAG = N
SIGNAL_CHAIN_ID = 2
/* RADIOMETRIC DATA ELEMENTS */
BANDWIDTH = 81.0
CENTER_FILTER_WAVELENGTH = 955.5
RADIANCE_OFFSET = 1.04937
RADIANCE_SCALING_FACTOR = 0.00220198
REFLECTANCE_SCALING_FACTOR = 0.000202918
MEX:REFLECTANCE_OFFSET = 0.0967022
/* IMAGE OBJECT DEFINITIONS */
OBJECT = IMAGE
  INTERCHANGE_FORMAT = BINARY
  LINES = 10579
  LINE_SAMPLES = 1998
  SAMPLE_TYPE = UNSIGNED_INTEGER
  SAMPLE_BITS = 8
  BANDS = 1
  BAND_STORAGE_TYPE = BAND_SEQUENTIAL
  MAXIMUM = 255
  MEAN = 142.611
  MINIMUM = 1
  STANDARD_DEVIATION = 40.2795
END_OBJECT = IMAGE
/* MAP OBJECT DEFINITIONS */
OBJECT = IMAGE_MAP_PROJECTION
  ^DATA_SET_MAP_PROJECTION_CATALOG= "DSMAP.CAT"
  A_AXIS_RADIUS = 3396.0
  B_AXIS_RADIUS = 3396.0
  C_AXIS_RADIUS = 3396.0
  CENTER_LATITUDE = 0.0
  CENTER_LONGITUDE = 88.0
  COORDINATE_SYSTEM_NAME = PLANETOGRAPHIC
  COORDINATE_SYSTEM_TYPE = "BODY-FIXED ROTATING"
  EASTERNMOST_LONGITUDE = 89.0526
  FIRST_STANDARD_PARALLEL = "N/A"
  LINE_FIRST_PIXEL = 1
  LINE_LAST_PIXEL = 10579
  LINE_PROJECTION_OFFSET = 21260.875
  MAP_PROJECTION_ROTATION = 0.0
  MAP_PROJECTION_TYPE = SINUSOIDAL
  MAP_RESOLUTION = 1185.42760773333
  MAP_SCALE = 0.05
  MAXIMUM_LATITUDE = 17.9313
  MINIMUM_LATITUDE = 8.9975
  POSITIVE_LONGITUDE_DIRECTION = EAST
  REFERENCE_LATITUDE = "N/A"
  REFERENCE_LONGITUDE = "N/A"
  SAMPLE_FIRST_PIXEL = 1
  SAMPLE_LAST_PIXEL = 1998
  SAMPLE_PROJECTION_OFFSET = 724.625
  SECOND_STANDARD_PARALLEL = "N/A"
  WESTERNMOST_LONGITUDE = 87.42140000000001
END_OBJECT = IMAGE_MAP_PROJECTION
END
