PDS_VERSION_ID = PDS3
/* FILE DATA ELEMENTS */
RECORD_TYPE = UNDEFINED
/* POINTERS TO DATA OBJECTS */
^IMAGE = ("HB541_0000_S24.TIF")
/* IDENTIFICATION DATA ELEMENTS */
DATA_SET_ID = "MEX-M-HRSC-4-REFDR-MAPPROJECT-EXT4-V4.0"
DATA_SET_NAME = "MARS EXPRESS HRSC MAP PROJECTED REFDR EXTENSION4 V4.0"
DETECTOR_ID = MEX_HRSC_S2
EVENT_TYPE = "MARS-REGIONAL-MAPPING-Vo-Im"
INSTRUMENT_HOST_ID = MEX
INSTRUMENT_HOST_NAME = "MARS EXPRESS"
INSTRUMENT_ID = HRSC
INSTRUMENT_NAME = "HIGH RESOLUTION STEREO CAMERA"
MISSION_NAME = "MARS EXPRESS"
MISSION_PHASE_NAME = ME_Phase_27
PROCESSING_LEVEL_ID = 4
PRODUCT_CREATION_TIME = 2023-01-30T11:30:59.000Z
PRODUCT_ID = "HB541_0000_S24.TIF"
RELEASE_ID = 0001
REVISION_ID = 0000
/* QUALITY DATA ELEMENTS */
DATA_QUALITY_ID = 1
DATA_QUALITY_DESC = "Data calculated based on original SPICE kernels"
/* TIME DATA ELEMENTS */
SPACECRAFT_CLOCK_START_COUNT = "1/0307278657.07284"
SPACECRAFT_CLOCK_STOP_COUNT = "1/0307278967.55803"
START_TIME = 2013-01-26T11:12:19.552Z
STOP_TIME = 2013-01-26T11:16:09.363Z
/* ORBITAL DATA ELEMENTS */
ASCENDING_NODE_LONGITUDE = 357.25
MAXIMUM_RESOLUTION = 0.0374
FOOTPRINT_POINT_LATITUDE = (15.6829,15.7014,15.7207,15.7307, 15.7448,15.7454,15.7552,15.4104,14.8228 ,14.3554,13.7599,13.284,13.0418,12.7996 ,12.5581,12.3172,12.0718,11.8262, 11.4581,11.0854,10.8362,10.5876,10.2099 ,9.95733,9.70536,9.4497,9.19331,8.93762 ,8.6793,8.41917,8.16019,7.89808,7.63497 ,7.37269,7.10597,6.70698,6.30312, 6.03389,5.76108,5.35253,5.07612,4.79886 ,4.52331,4.24051,3.82002,3.53669, 3.10683,2.96375,2.9625,2.9485,2.93377, 2.92128,2.90582,2.89529,2.88497,2.8731, 2.87235,2.87271,3.1595,3.4463,3.72998, 4.01386,4.29418,4.57543,4.99026,5.26695 ,5.67705,5.95038,6.22043,6.62561, 6.89246,7.15952,7.55591,7.81972,8.08204 ,8.3418,8.60232,8.99054,9.37431,9.63082 ,9.88345,10.1363,10.5148,10.7639, 11.0134,11.2639,11.5097,11.7558,12.0021 ,12.2482,12.4898,12.7319,12.9744, 13.2168,13.6933,14.2896,14.9939,15.577, 15.6926,15.6829)
FOOTPRINT_POINT_LONGITUDE = (293.064,292.572,292.073,291.821, 291.472,291.456,291.445,291.44,291.431, 291.423,291.413,291.404,291.4,291.395, 291.39,291.385,291.38,291.374,291.366, 291.358,291.352,291.345,291.336,291.329 ,291.323,291.316,291.309,291.301, 291.294,291.287,291.279,291.271,291.263 ,291.254,291.246,291.233,291.219, 291.209,291.2,291.185,291.175,291.165, 291.154,291.144,291.127,291.116,291.099 ,291.094,291.094,291.383,291.712, 291.978,292.324,292.587,292.849,293.171 ,293.191,293.198,293.194,293.191, 293.187,293.184,293.18,293.177,293.172, 293.168,293.164,293.16,293.157,293.153, 293.15,293.147,293.143,293.14,293.137, 293.134,293.132,293.128,293.124,293.121 ,293.119,293.116,293.112,293.11,293.108 ,293.105,293.103,293.101,293.098, 293.096,293.094,293.092,293.089,293.087 ,293.083,293.077,293.071,293.066, 293.065,293.064)
ORBIT_NUMBER = 11541
ORBITAL_ECCENTRICITY = 0.575
ORBITAL_INCLINATION = 86.89
ORBITAL_SEMIMAJOR_AXIS = 8827.76
PERIAPSIS_ALTITUDE = 363.92
PERIAPSIS_ARGUMENT_ANGLE = 147.65
PERIAPSIS_TIME = 2013-01-26T11:07:18.000Z
SPACECRAFT_ORIENTATION = (0.0,-1.0,0.0)
^MEX_ORIENTATION_DESC = "MEX_ORIENTATION_DESC.TXT"
SPACECRAFT_POINTING_MODE = ACROSSTRACK
^MEX_POINTING_DESC = "MEX_POINTING_DESC.TXT"
RIGHT_ASCENSION = -1e+32
DECLINATION = -1e+32
OFFSET_ANGLE = -0.64
SPACECRAFT_SOLAR_DISTANCE = 2.06673e+08
TARGET_NAME = MARS
/* CAMERA DATA ELEMENTS */
DETECTOR_TEMPERATURE = 18.9822
FOCAL_PLANE_TEMPERATURE = 9.3989
INST_CMPRS_NAME = "DISCRETE COSINE TRANSFORMATION (DCT)"
INST_CMPRS_RATIO = 10.8962
INST_CMPRS_QUALITY = 0
INST_CMPRS_QUANTZ_TBL_ID = 0
INSTRUMENT_TEMPERATURE = 11.8457
LENS_TEMPERATURE = 9.3989
MACROPIXEL_SIZE = 2
MISSING_FRAMES = 0
PIXEL_SUBSAMPLING_FLAG = N
SIGNAL_CHAIN_ID = 1
/* RADIOMETRIC DATA ELEMENTS */
BANDWIDTH = 178.0
CENTER_FILTER_WAVELENGTH = 679.0
RADIANCE_OFFSET = 3.7631
RADIANCE_SCALING_FACTOR = 0.0173062
REFLECTANCE_SCALING_FACTOR = 0.000391472
MEX:REFLECTANCE_OFFSET = 0.0851224
/* IMAGE OBJECT DEFINITIONS */
OBJECT = IMAGE
  INTERCHANGE_FORMAT = BINARY
  LINES = 30398
  LINE_SAMPLES = 4527
  SAMPLE_TYPE = UNSIGNED_INTEGER
  SAMPLE_BITS = 8
  BANDS = 1
  BAND_STORAGE_TYPE = BAND_SEQUENTIAL
  MAXIMUM = 255
  MEAN = 89.4086
  MINIMUM = 1
  STANDARD_DEVIATION = 33.523
END_OBJECT = IMAGE
/* MAP OBJECT DEFINITIONS */
OBJECT = IMAGE_MAP_PROJECTION
  ^DATA_SET_MAP_PROJECTION_CATALOG= "DSMAP.CAT"
  A_AXIS_RADIUS = 3396.0
  B_AXIS_RADIUS = 3396.0
  C_AXIS_RADIUS = 3396.0
  CENTER_LATITUDE = 0.0
  CENTER_LONGITUDE = 292.0
  COORDINATE_SYSTEM_NAME = PLANETOGRAPHIC
  COORDINATE_SYSTEM_TYPE = "BODY-FIXED ROTATING"
  EASTERNMOST_LONGITUDE = 293.198
  FIRST_STANDARD_PARALLEL = "N/A"
  LINE_FIRST_PIXEL = 1
  LINE_LAST_PIXEL = 30398
  LINE_PROJECTION_OFFSET = 37281.25
  MAP_PROJECTION_ROTATION = 0.0
  MAP_PROJECTION_TYPE = SINUSOIDAL
  MAP_RESOLUTION = 2370.85521546667
  MAP_SCALE = 0.025
  MAXIMUM_LATITUDE = 15.7552
  MINIMUM_LATITUDE = 2.87235
  POSITIVE_LONGITUDE_DIRECTION = EAST
  REFERENCE_LATITUDE = "N/A"
  REFERENCE_LONGITUDE = "N/A"
  SAMPLE_FIRST_PIXEL = 1
  SAMPLE_LAST_PIXEL = 4527
  SAMPLE_PROJECTION_OFFSET = 1903.25
  SECOND_STANDARD_PARALLEL = "N/A"
  WESTERNMOST_LONGITUDE = 291.094
END_OBJECT = IMAGE_MAP_PROJECTION
END
