PDS_VERSION_ID = PDS3
/* FILE DATA ELEMENTS */
RECORD_TYPE = UNDEFINED
/* POINTERS TO DATA OBJECTS */
^IMAGE = ("HB541_0000_S14.TIF")
/* IDENTIFICATION DATA ELEMENTS */
DATA_SET_ID = "MEX-M-HRSC-4-REFDR-MAPPROJECT-EXT4-V4.0"
DATA_SET_NAME = "MARS EXPRESS HRSC MAP PROJECTED REFDR EXTENSION4 V4.0"
DETECTOR_ID = MEX_HRSC_S1
EVENT_TYPE = "MARS-REGIONAL-MAPPING-Vo-Im"
INSTRUMENT_HOST_ID = MEX
INSTRUMENT_HOST_NAME = "MARS EXPRESS"
INSTRUMENT_ID = HRSC
INSTRUMENT_NAME = "HIGH RESOLUTION STEREO CAMERA"
MISSION_NAME = "MARS EXPRESS"
MISSION_PHASE_NAME = ME_Phase_27
PROCESSING_LEVEL_ID = 4
PRODUCT_CREATION_TIME = 2023-01-30T11:30:59.000Z
PRODUCT_ID = "HB541_0000_S14.TIF"
RELEASE_ID = 0001
REVISION_ID = 0000
/* QUALITY DATA ELEMENTS */
DATA_QUALITY_ID = 1
DATA_QUALITY_DESC = "Data calculated based on original SPICE kernels"
/* TIME DATA ELEMENTS */
SPACECRAFT_CLOCK_START_COUNT = "1/0307278657.07284"
SPACECRAFT_CLOCK_STOP_COUNT = "1/0307278967.55803"
START_TIME = 2013-01-26T11:11:00.577Z
STOP_TIME = 2013-01-26T11:14:18.967Z
/* ORBITAL DATA ELEMENTS */
ASCENDING_NODE_LONGITUDE = 357.25
MAXIMUM_RESOLUTION = 0.0343 <m/pixel>
FOOTPRINT_POINT_LATITUDE = (15.763,15.7498,15.7344,15.713,15.7124, 15.702,15.2392,14.5452,14.1914,13.954, 13.5984,13.1244,12.8866,12.6433,12.3999 ,12.1567,11.9137,11.6709,11.3019, 10.9289,10.6802,10.4316,10.183,9.80144, 9.54685,9.29247,9.03821,8.77961,8.51947 ,8.12951,7.86956,7.60502,7.33963, 7.07405,6.80842,6.53918,6.26789,5.99663 ,5.72616,5.31199,5.03546,4.7592,4.33799 ,4.05578,3.77431,3.48826,3.05857, 2.91561,2.90413,2.91217,2.92186,2.92701 ,2.93006,2.93321,2.93341,2.93412, 3.22108,3.50847,3.79549,4.2182,4.50007, 4.9202,5.19697,5.47406,5.75115,6.02227, 6.29327,6.56486,6.83483,7.2335,7.49949, 7.76569,8.02795,8.28846,8.54876,8.80976 ,9.06851,9.32296,9.57763,9.96005, 10.2153,10.4642,10.7131,10.9625,11.2114 ,11.5838,11.9486,12.1918,12.4353, 12.6789,13.0424,13.2799,13.636,13.9926, 14.2304,14.5852,15.1641,15.6279,15.7438 ,15.763)
FOOTPRINT_POINT_LONGITUDE = (292.999,292.549,292.092,291.54,291.525 ,291.515,291.51,291.503,291.499,291.496 ,291.492,291.486,291.483,291.479, 291.475,291.471,291.468,291.464,291.458 ,291.451,291.447,291.442,291.438,291.43 ,291.425,291.42,291.414,291.409,291.403 ,291.394,291.388,291.382,291.375, 291.369,291.362,291.355,291.348,291.341 ,291.334,291.322,291.314,291.307, 291.295,291.286,291.277,291.269,291.256 ,291.252,291.252,291.657,292.146, 292.493,292.751,293.025,293.042,293.048 ,293.047,293.046,293.045,293.043, 293.042,293.041,293.04,293.039,293.037, 293.036,293.035,293.034,293.034,293.032 ,293.031,293.03,293.029,293.028,293.027 ,293.026,293.025,293.024,293.024, 293.022,293.021,293.02,293.019,293.019, 293.018,293.016,293.015,293.014,293.013 ,293.012,293.011,293.01,293.008,293.007 ,293.006,293.005,293.002,293.0,293.0, 292.999)
ORBIT_NUMBER = 11541
ORBITAL_ECCENTRICITY = 0.575
ORBITAL_INCLINATION = 86.89
ORBITAL_SEMIMAJOR_AXIS = 8827.76
PERIAPSIS_ALTITUDE = 363.92
PERIAPSIS_ARGUMENT_ANGLE = 147.65
PERIAPSIS_TIME = 2013-01-26T11:07:18.000Z
SPACECRAFT_ORIENTATION = (0.0,-1.0,0.0)
^MEX_ORIENTATION_DESC = "MEX_ORIENTATION_DESC.TXT"
SPACECRAFT_POINTING_MODE = ACROSSTRACK
^MEX_POINTING_DESC = "MEX_POINTING_DESC.TXT"
RIGHT_ASCENSION = -1e+32
DECLINATION = -1e+32
OFFSET_ANGLE = -0.64
SPACECRAFT_SOLAR_DISTANCE = 2.06673e+08
TARGET_NAME = MARS
/* CAMERA DATA ELEMENTS */
DETECTOR_TEMPERATURE = 17.9627 <degC>
FOCAL_PLANE_TEMPERATURE = 9.3989 <degC>
INST_CMPRS_NAME = "DISCRETE COSINE TRANSFORMATION (DCT)"
INST_CMPRS_RATIO = 8.2744
INST_CMPRS_QUALITY = 0
INST_CMPRS_QUANTZ_TBL_ID = 0
INSTRUMENT_TEMPERATURE = 11.8457 <degC>
LENS_TEMPERATURE = 9.3989 <degC>
MACROPIXEL_SIZE = 2
MISSING_FRAMES = 0
PIXEL_SUBSAMPLING_FLAG = N
SIGNAL_CHAIN_ID = 1
/* RADIOMETRIC DATA ELEMENTS */
BANDWIDTH = 180.0 <nm>
CENTER_FILTER_WAVELENGTH = 677.0 <nm>
RADIANCE_OFFSET = 4.11706 <W*m**-2*sr**-1>
RADIANCE_SCALING_FACTOR = 0.0169266 <W*m**-2*sr**-1>
REFLECTANCE_SCALING_FACTOR = 0.000377206
MEX:REFLECTANCE_OFFSET = 0.091748
/* IMAGE OBJECT DEFINITIONS */
OBJECT = IMAGE
  INTERCHANGE_FORMAT = BINARY
  LINES = 30398
  LINE_SAMPLES = 4527
  SAMPLE_TYPE = UNSIGNED_INTEGER
  SAMPLE_BITS = 8
  BANDS = 1
  BAND_STORAGE_TYPE = BAND_SEQUENTIAL
  MAXIMUM = 255
  MEAN = 90.8635
  MINIMUM = 1
  STANDARD_DEVIATION = 33.6632
END_OBJECT = IMAGE
/* MAP OBJECT DEFINITIONS */
OBJECT = IMAGE_MAP_PROJECTION
  ^DATA_SET_MAP_PROJECTION_CATALOG= "DSMAP.CAT"
  A_AXIS_RADIUS = 3396.0 <km>
  B_AXIS_RADIUS = 3396.0 <km>
  C_AXIS_RADIUS = 3396.0 <km>
  CENTER_LATITUDE = 0.0
  CENTER_LONGITUDE = 292.0
  COORDINATE_SYSTEM_NAME = PLANETOGRAPHIC
  COORDINATE_SYSTEM_TYPE = "BODY-FIXED ROTATING"
  EASTERNMOST_LONGITUDE = 293.048
  FIRST_STANDARD_PARALLEL = "N/A"
  LINE_FIRST_PIXEL = 1
  LINE_LAST_PIXEL = 30398
  LINE_PROJECTION_OFFSET = 37281.25
  MAP_PROJECTION_ROTATION = 0.0
  MAP_PROJECTION_TYPE = SINUSOIDAL
  MAP_RESOLUTION = 2370.85521546667 <pixel/degree>
  MAP_SCALE = 0.025 <km/pixel>
  MAXIMUM_LATITUDE = 15.763
  MINIMUM_LATITUDE = 2.90413
  POSITIVE_LONGITUDE_DIRECTION = EAST
  REFERENCE_LATITUDE = "N/A"
  REFERENCE_LONGITUDE = "N/A"
  SAMPLE_FIRST_PIXEL = 1
  SAMPLE_LAST_PIXEL = 4527
  SAMPLE_PROJECTION_OFFSET = 1903.25
  SECOND_STANDARD_PARALLEL = "N/A"
  WESTERNMOST_LONGITUDE = 291.252
END_OBJECT = IMAGE_MAP_PROJECTION
END
