PDS_VERSION_ID = PDS3
/* FILE DATA ELEMENTS */
RECORD_TYPE = UNDEFINED
/* POINTERS TO DATA OBJECTS */
^IMAGE = ("HB535_0000_IR4.TIF")
/* IDENTIFICATION DATA ELEMENTS */
DATA_SET_ID = "MEX-M-HRSC-4-REFDR-MAPPROJECT-EXT4-V4.0"
DATA_SET_NAME = "MARS EXPRESS HRSC MAP PROJECTED REFDR EXTENSION4 V4.0"
DETECTOR_ID = MEX_HRSC_IR
EVENT_TYPE = "MARS-REGIONAL-MAPPING-Vo-Fl-Eo"
INSTRUMENT_HOST_ID = MEX
INSTRUMENT_HOST_NAME = "MARS EXPRESS"
INSTRUMENT_ID = HRSC
INSTRUMENT_NAME = "HIGH RESOLUTION STEREO CAMERA"
MISSION_NAME = "MARS EXPRESS"
MISSION_PHASE_NAME = ME_Phase_27
PROCESSING_LEVEL_ID = 4
PRODUCT_CREATION_TIME = 2023-01-30T11:30:59.000Z
PRODUCT_ID = "HB535_0000_IR4.TIF"
RELEASE_ID = 0001
REVISION_ID = 0000
/* QUALITY DATA ELEMENTS */
DATA_QUALITY_ID = 1
DATA_QUALITY_DESC = "Data calculated based on original SPICE kernels"
/* TIME DATA ELEMENTS */
SPACECRAFT_CLOCK_START_COUNT = "1/0307127747.08382"
SPACECRAFT_CLOCK_STOP_COUNT = "1/0307127967.04679"
START_TIME = 2013-01-24T17:15:57.411Z
STOP_TIME = 2013-01-24T17:17:51.555Z
/* ORBITAL DATA ELEMENTS */
ASCENDING_NODE_LONGITUDE = 357.36
MAXIMUM_RESOLUTION = 0.1449
FOOTPRINT_POINT_LATITUDE = (10.989,11.0127,11.0272,11.041,11.0542, 11.0668,11.0789,11.0796,11.0535,10.7813 ,10.5076,10.303,10.0308,9.6133,9.26539, 9.05651,8.77853,8.56436,8.42172,8.27928 ,8.13689,7.99535,7.85249,7.70977, 7.49467,7.27732,7.13238,6.98668,6.84189 ,6.62425,6.47911,6.3299,6.18141,6.03501 ,5.88685,5.66434,5.51509,5.36454, 5.21304,5.06173,4.91051,4.75931,4.60824 ,4.45722,4.30411,4.15034,3.99576, 3.84231,3.7657,3.75824,3.74464,3.73601, 3.72764,3.71647,3.70152,3.68777,3.67302 ,3.66033,3.65927,3.66105,3.89091, 4.04619,4.19894,4.3529,4.50412,4.6554, 4.88256,5.03397,5.18552,5.33642,5.48473 ,5.63315,5.78327,5.93128,6.15361, 6.30177,6.52174,6.66652,6.81285,6.9584, 7.10486,7.25062,7.39531,7.61067,7.75382 ,7.89665,8.18078,8.39391,8.5365,8.6779, 8.95688,9.23586,9.44532,9.79432,10.0008 ,10.2053,10.4783,10.8879,10.956,10.989)
FOOTPRINT_POINT_LONGITUDE = (188.102,187.727,187.49,187.256,187.024 ,186.795,186.568,186.554,186.551, 186.544,186.538,186.533,186.526,186.515 ,186.506,186.501,186.494,186.488, 186.484,186.481,186.477,186.473,186.469 ,186.465,186.459,186.453,186.449, 186.445,186.441,186.434,186.43,186.426, 186.422,186.417,186.413,186.406,186.402 ,186.398,186.393,186.388,186.384, 186.379,186.374,186.37,186.365,186.36, 186.355,186.35,186.348,186.347,186.62, 186.799,186.946,187.144,187.394,187.613 ,187.883,188.088,188.105,188.117, 188.118,188.117,188.118,188.118,188.117 ,188.117,188.117,188.117,188.117, 188.117,188.117,188.117,188.115,188.116 ,188.116,188.116,188.116,188.117, 188.116,188.116,188.115,188.115,188.116 ,188.117,188.116,188.116,188.117, 188.119,188.119,188.119,188.12,188.12, 188.121,188.122,188.122,188.123,188.124 ,188.125,188.126,188.102)
ORBIT_NUMBER = 11535
ORBITAL_ECCENTRICITY = 0.574
ORBITAL_INCLINATION = 86.9
ORBITAL_SEMIMAJOR_AXIS = 8822.14
PERIAPSIS_ALTITUDE = 363.44
PERIAPSIS_ARGUMENT_ANGLE = 148.67
PERIAPSIS_TIME = 2013-01-24T17:11:12.000Z
SPACECRAFT_ORIENTATION = (0.0,-1.0,0.0)
^MEX_ORIENTATION_DESC = "MEX_ORIENTATION_DESC.TXT"
SPACECRAFT_POINTING_MODE = ACROSSTRACK
^MEX_POINTING_DESC = "MEX_POINTING_DESC.TXT"
RIGHT_ASCENSION = -1e+32
DECLINATION = -1e+32
OFFSET_ANGLE = 1.078
SPACECRAFT_SOLAR_DISTANCE = 2.06669e+08
TARGET_NAME = MARS
/* CAMERA DATA ELEMENTS */
DETECTOR_TEMPERATURE = 17.9627
FOCAL_PLANE_TEMPERATURE = 8.7872
INST_CMPRS_NAME = "DISCRETE COSINE TRANSFORMATION (DCT)"
INST_CMPRS_RATIO = 15.4928
INST_CMPRS_QUALITY = 0
INST_CMPRS_QUANTZ_TBL_ID = 0
INSTRUMENT_TEMPERATURE = 12.0496
LENS_TEMPERATURE = 9.6028
MACROPIXEL_SIZE = 8
MISSING_FRAMES = 0
PIXEL_SUBSAMPLING_FLAG = N
SIGNAL_CHAIN_ID = 2
/* RADIOMETRIC DATA ELEMENTS */
BANDWIDTH = 81.0
CENTER_FILTER_WAVELENGTH = 955.5
RADIANCE_OFFSET = 1.21676
RADIANCE_SCALING_FACTOR = 0.00270279
REFLECTANCE_SCALING_FACTOR = 0.000249052
MEX:REFLECTANCE_OFFSET = 0.112119
/* IMAGE OBJECT DEFINITIONS */
OBJECT = IMAGE
  INTERCHANGE_FORMAT = BINARY
  LINES = 4355
  LINE_SAMPLES = 1110
  SAMPLE_TYPE = UNSIGNED_INTEGER
  SAMPLE_BITS = 8
  BANDS = 1
  BAND_STORAGE_TYPE = BAND_SEQUENTIAL
  MAXIMUM = 255
  MEAN = 100.434
  MINIMUM = 1
  STANDARD_DEVIATION = 35.5626
END_OBJECT = IMAGE
/* MAP OBJECT DEFINITIONS */
OBJECT = IMAGE_MAP_PROJECTION
  ^DATA_SET_MAP_PROJECTION_CATALOG= "DSMAP.CAT"
  A_AXIS_RADIUS = 3396.0
  B_AXIS_RADIUS = 3396.0
  C_AXIS_RADIUS = 3396.0
  CENTER_LATITUDE = 0.0
  CENTER_LONGITUDE = 187.0
  COORDINATE_SYSTEM_NAME = PLANETOGRAPHIC
  COORDINATE_SYSTEM_TYPE = "BODY-FIXED ROTATING"
  EASTERNMOST_LONGITUDE = 188.126
  FIRST_STANDARD_PARALLEL = "N/A"
  LINE_FIRST_PIXEL = 1
  LINE_LAST_PIXEL = 4355
  LINE_PROJECTION_OFFSET = 6556.4375
  MAP_PROJECTION_ROTATION = 0.0
  MAP_PROJECTION_TYPE = SINUSOIDAL
  MAP_RESOLUTION = 592.713803866667
  MAP_SCALE = 0.1
  MAXIMUM_LATITUDE = 11.0796
  MINIMUM_LATITUDE = 3.65927
  POSITIVE_LONGITUDE_DIRECTION = EAST
  REFERENCE_LATITUDE = "N/A"
  REFERENCE_LONGITUDE = "N/A"
  SAMPLE_FIRST_PIXEL = 1
  SAMPLE_LAST_PIXEL = 1110
  SAMPLE_PROJECTION_OFFSET = 426.9375
  SECOND_STANDARD_PARALLEL = "N/A"
  WESTERNMOST_LONGITUDE = 186.347
END_OBJECT = IMAGE_MAP_PROJECTION
END
