PDS_VERSION_ID = PDS3
/* FILE DATA ELEMENTS */
RECORD_TYPE = UNDEFINED
/* POINTERS TO DATA OBJECTS */
^IMAGE = ("HB526_0000_P14.TIF")
/* IDENTIFICATION DATA ELEMENTS */
DATA_SET_ID = "MEX-M-HRSC-4-REFDR-MAPPROJECT-EXT4-V4.0"
DATA_SET_NAME = "MARS EXPRESS HRSC MAP PROJECTED REFDR EXTENSION4 V4.0"
DETECTOR_ID = MEX_HRSC_P1
EVENT_TYPE = "MARS-REGIONAL-MAPPING-Im-Fl-La"
INSTRUMENT_HOST_ID = MEX
INSTRUMENT_HOST_NAME = "MARS EXPRESS"
INSTRUMENT_ID = HRSC
INSTRUMENT_NAME = "HIGH RESOLUTION STEREO CAMERA"
MISSION_NAME = "MARS EXPRESS"
MISSION_PHASE_NAME = ME_Phase_27
PROCESSING_LEVEL_ID = 4
PRODUCT_CREATION_TIME = 2023-01-30T11:30:59.000Z
PRODUCT_ID = "HB526_0000_P14.TIF"
RELEASE_ID = 0001
REVISION_ID = 0000
/* QUALITY DATA ELEMENTS */
DATA_QUALITY_ID = 1
DATA_QUALITY_DESC = "Data calculated based on original SPICE kernels"
/* TIME DATA ELEMENTS */
SPACECRAFT_CLOCK_START_COUNT = "1/0306901292.08244"
SPACECRAFT_CLOCK_STOP_COUNT = "1/0306901509.48535"
START_TIME = 2013-01-22T02:21:48.910Z
STOP_TIME = 2013-01-22T02:23:44.752Z
/* ORBITAL DATA ELEMENTS */
ASCENDING_NODE_LONGITUDE = 357.54
MAXIMUM_RESOLUTION = 0.0698
FOOTPRINT_POINT_LATITUDE = (10.3409,10.3492,10.3621,10.3746, 10.3865,10.3978,10.4087,10.4191,10.4197 ,10.4204,10.2157,9.93997,9.65977, 9.38011,9.1706,8.89087,8.60863,8.46565, 8.32297,8.18025,8.03682,7.8929,7.67863, 7.5358,7.31779,7.1718,6.95339,6.80769, 6.66223,6.51737,6.37175,6.22346,6.07432 ,5.85095,5.702,5.55331,5.33058,5.18038, 4.95291,4.80122,4.64937,4.49791,4.27091 ,4.04039,3.88611,3.73162,3.57706, 3.42324,3.19092,3.11212,3.06545,3.05582 ,3.04964,3.03873,3.0291,3.02172,3.01318 ,3.00313,2.99624,2.98151,2.97959, 2.98052,3.14033,3.2945,3.52546,3.67997, 3.83433,3.9879,4.21948,4.37039,4.52212, 4.67436,4.82496,4.97692,5.20517,5.35378 ,5.57664,5.80075,5.94973,6.09858, 6.32104,6.46637,6.61298,6.75856,6.97755 ,7.12369,7.26964,7.41553,7.70135, 7.91608,8.13168,8.55969,8.91066,9.18816 ,9.4694,9.75003,9.95995,10.2336,10.3022 ,10.3409)
FOOTPRINT_POINT_LONGITUDE = (28.0662,27.9162,27.6788,27.4442, 27.2125,26.9837,26.7573,26.5333,26.5194 ,26.5155,26.5107,26.5043,26.4978, 26.4911,26.486,26.4792,26.4723,26.4687, 26.465,26.4614,26.4579,26.4544,26.4489, 26.4453,26.4395,26.4357,26.4298,26.4258 ,26.4218,26.4177,26.4137,26.4097, 26.4056,26.3994,26.3953,26.3911,26.3847 ,26.3804,26.3738,26.3693,26.3649, 26.3604,26.3536,26.3467,26.342,26.3373, 26.3326,26.3277,26.3206,26.3181,26.3167 ,26.5211,26.6645,26.8891,27.099,27.2615 ,27.4418,27.6401,27.7891,28.0426, 28.0605,28.0662,28.0636,28.0635,28.0639 ,28.0637,28.0638,28.0648,28.063,28.0634 ,28.0632,28.0624,28.0636,28.0634, 28.0619,28.0618,28.0619,28.0608,28.0607 ,28.0608,28.0601,28.0605,28.0596, 28.0599,28.0598,28.0597,28.0599,28.0602 ,28.06,28.0597,28.0585,28.0603,28.0613, 28.0642,28.0631,28.063,28.0637,28.064, 28.0638,28.0662)
ORBIT_NUMBER = 11526
ORBITAL_ECCENTRICITY = 0.575
ORBITAL_INCLINATION = 86.88
ORBITAL_SEMIMAJOR_AXIS = 8832.44
PERIAPSIS_ALTITUDE = 362.43
PERIAPSIS_ARGUMENT_ANGLE = 150.24
PERIAPSIS_TIME = 2013-01-22T02:17:11.000Z
SPACECRAFT_ORIENTATION = (0.0,-1.0,0.0)
^MEX_ORIENTATION_DESC = "MEX_ORIENTATION_DESC.TXT"
SPACECRAFT_POINTING_MODE = ACROSSTRACK
^MEX_POINTING_DESC = "MEX_POINTING_DESC.TXT"
RIGHT_ASCENSION = -1e+32
DECLINATION = -1e+32
OFFSET_ANGLE = 1.145
SPACECRAFT_SOLAR_DISTANCE = 2.06674e+08
TARGET_NAME = MARS
/* CAMERA DATA ELEMENTS */
DETECTOR_TEMPERATURE = 17.7588
FOCAL_PLANE_TEMPERATURE = 9.195
INST_CMPRS_NAME = "DISCRETE COSINE TRANSFORMATION (DCT)"
INST_CMPRS_RATIO = 14.1629
INST_CMPRS_QUALITY = 0
INST_CMPRS_QUANTZ_TBL_ID = 0
INSTRUMENT_TEMPERATURE = 12.0496
LENS_TEMPERATURE = 9.6028
MACROPIXEL_SIZE = 4
MISSING_FRAMES = 0
PIXEL_SUBSAMPLING_FLAG = N
SIGNAL_CHAIN_ID = 3
/* RADIOMETRIC DATA ELEMENTS */
BANDWIDTH = 174.0
CENTER_FILTER_WAVELENGTH = 675.0
RADIANCE_OFFSET = 4.02379
RADIANCE_SCALING_FACTOR = 0.00914128
REFLECTANCE_SCALING_FACTOR = 0.000210021
MEX:REFLECTANCE_OFFSET = 0.0924469
/* IMAGE OBJECT DEFINITIONS */
OBJECT = IMAGE
  INTERCHANGE_FORMAT = BINARY
  LINES = 8754
  LINE_SAMPLES = 2164
  SAMPLE_TYPE = UNSIGNED_INTEGER
  SAMPLE_BITS = 8
  BANDS = 1
  BAND_STORAGE_TYPE = BAND_SEQUENTIAL
  MAXIMUM = 255
  MEAN = 119.568
  MINIMUM = 1
  STANDARD_DEVIATION = 32.3027
END_OBJECT = IMAGE
/* MAP OBJECT DEFINITIONS */
OBJECT = IMAGE_MAP_PROJECTION
  ^DATA_SET_MAP_PROJECTION_CATALOG= "DSMAP.CAT"
  A_AXIS_RADIUS = 3396.0
  B_AXIS_RADIUS = 3396.0
  C_AXIS_RADIUS = 3396.0
  CENTER_LATITUDE = 0.0
  CENTER_LONGITUDE = 27.0
  COORDINATE_SYSTEM_NAME = PLANETOGRAPHIC
  COORDINATE_SYSTEM_TYPE = "BODY-FIXED ROTATING"
  EASTERNMOST_LONGITUDE = 28.0662
  FIRST_STANDARD_PARALLEL = "N/A"
  LINE_FIRST_PIXEL = 1
  LINE_LAST_PIXEL = 8754
  LINE_PROJECTION_OFFSET = 12331.875
  MAP_PROJECTION_ROTATION = 0.0
  MAP_PROJECTION_TYPE = SINUSOIDAL
  MAP_RESOLUTION = 1185.42760773333
  MAP_SCALE = 0.05
  MAXIMUM_LATITUDE = 10.4204
  MINIMUM_LATITUDE = 2.97959
  POSITIVE_LONGITUDE_DIRECTION = EAST
  REFERENCE_LATITUDE = "N/A"
  REFERENCE_LONGITUDE = "N/A"
  SAMPLE_FIRST_PIXEL = 1
  SAMPLE_LAST_PIXEL = 2164
  SAMPLE_PROJECTION_OFFSET = 863.875
  SECOND_STANDARD_PARALLEL = "N/A"
  WESTERNMOST_LONGITUDE = 26.3167
END_OBJECT = IMAGE_MAP_PROJECTION
END
