PDS_VERSION_ID = PDS3
/* FILE DATA ELEMENTS */
RECORD_TYPE = UNDEFINED
/* POINTERS TO DATA OBJECTS */
^IMAGE = ("HB525_0000_P24.TIF")
/* IDENTIFICATION DATA ELEMENTS */
DATA_SET_ID = "MEX-M-HRSC-4-REFDR-MAPPROJECT-EXT4-V4.0"
DATA_SET_NAME = "MARS EXPRESS HRSC MAP PROJECTED REFDR EXTENSION4 V4.0"
DETECTOR_ID = MEX_HRSC_P2
EVENT_TYPE = "MARS-LOCAL-STEREO-Vo-Gl"
INSTRUMENT_HOST_ID = MEX
INSTRUMENT_HOST_NAME = "MARS EXPRESS"
INSTRUMENT_ID = HRSC
INSTRUMENT_NAME = "HIGH RESOLUTION STEREO CAMERA"
MISSION_NAME = "MARS EXPRESS"
MISSION_PHASE_NAME = ME_Phase_27
PROCESSING_LEVEL_ID = 4
PRODUCT_CREATION_TIME = 2023-01-30T11:30:59.000Z
PRODUCT_ID = "HB525_0000_P24.TIF"
RELEASE_ID = 0001
REVISION_ID = 0000
/* QUALITY DATA ELEMENTS */
DATA_QUALITY_ID = 1
DATA_QUALITY_DESC = "Data calculated based on original SPICE kernels"
/* TIME DATA ELEMENTS */
SPACECRAFT_CLOCK_START_COUNT = "1/0306876166.09051"
SPACECRAFT_CLOCK_STOP_COUNT = "1/0306876423.24153"
START_TIME = 2013-01-21T19:24:06.639Z
STOP_TIME = 2013-01-21T19:26:44.024Z
/* ORBITAL DATA ELEMENTS */
ASCENDING_NODE_LONGITUDE = 357.55
MAXIMUM_RESOLUTION = 0.0455
FOOTPRINT_POINT_LATITUDE = (8.42164,8.33691,8.29082,8.24622, 8.20307,8.16122,8.12068,8.04327,7.97015 ,7.90085,7.89664,7.91091,7.44543, 7.06827,6.6901,6.30637,5.92184,5.53197, 5.0423,4.74483,4.34592,3.94357,3.63858, 3.43413,3.2297,3.02245,2.81467,2.60724, 2.39733,2.187,1.97633,1.7623,1.44099, 1.2249,1.00788,0.679863,0.460204, 0.126861,-0.0954647,-0.319916,-0.546179 ,-0.772753,-1.00261,-1.23202,-1.46535, -1.69729,-1.93198,-2.16891,-2.4064, -2.52568,-2.55615,-2.5108,-2.43622, -2.37556,-2.32415,-2.24033,-2.16925, -2.11671,-2.04831,-1.99152,-1.93249, -1.92492,-1.92121,-1.56801,-1.33668, -1.1045,-0.874978,-0.529687,-0.302875, 0.0345461,0.257667,0.480177,0.700572, 0.92077,1.13733,1.35567,1.57177,1.78653 ,2.00097,2.21258,2.42434,2.63486, 2.84335,3.15622,3.36144,3.56688,3.77255 ,4.17767,4.68001,5.07889,5.47186, 5.76621,6.15356,6.44403,6.82535,7.39462 ,7.76969,8.32702,8.41962,8.42164)
FOOTPRINT_POINT_LONGITUDE = (135.274,134.837,134.599,134.369, 134.146,133.93,133.72,133.318,132.939, 132.579,132.557,132.584,132.608,132.63, 132.651,132.673,132.696,132.721,132.753 ,132.773,132.8,132.83,132.852,132.867, 132.883,132.898,132.914,132.93,132.948, 132.966,132.984,133.001,133.026,133.046 ,133.064,133.092,133.114,133.142, 133.166,133.187,133.21,133.231,133.253, 133.277,133.296,133.324,133.352,133.372 ,133.403,133.418,133.421,133.657, 134.045,134.36,134.627,135.062,135.43, 135.702,136.055,136.348,136.653,136.692 ,136.706,136.639,136.59,136.547,136.506 ,136.459,136.421,136.365,136.326, 136.293,136.258,136.223,136.185,136.155 ,136.126,136.095,136.064,136.035, 136.006,135.977,135.948,135.906,135.878 ,135.851,135.826,135.775,135.715, 135.669,135.624,135.592,135.551,135.521 ,135.482,135.428,135.392,135.343, 135.336,135.274)
ORBIT_NUMBER = 11525
ORBITAL_ECCENTRICITY = 0.575
ORBITAL_INCLINATION = 86.88
ORBITAL_SEMIMAJOR_AXIS = 8833.3
PERIAPSIS_ALTITUDE = 362.21
PERIAPSIS_ARGUMENT_ANGLE = 150.42
PERIAPSIS_TIME = 2013-01-21T19:17:52.000Z
SPACECRAFT_ORIENTATION = (0.0,-1.0,0.0)
^MEX_ORIENTATION_DESC = "MEX_ORIENTATION_DESC.TXT"
SPACECRAFT_POINTING_MODE = INERT
^MEX_POINTING_DESC = "MEX_POINTING_DESC.TXT"
RIGHT_ASCENSION = 63.514
DECLINATION = -25.55
OFFSET_ANGLE = -1e+32
SPACECRAFT_SOLAR_DISTANCE = 2.06676e+08
TARGET_NAME = MARS
/* CAMERA DATA ELEMENTS */
DETECTOR_TEMPERATURE = 18.5744
FOCAL_PLANE_TEMPERATURE = 8.5833
INST_CMPRS_NAME = "DISCRETE COSINE TRANSFORMATION (DCT)"
INST_CMPRS_RATIO = 8.09285
INST_CMPRS_QUALITY = 0
INST_CMPRS_QUANTZ_TBL_ID = 0
INSTRUMENT_TEMPERATURE = 11.8457
LENS_TEMPERATURE = 9.195
MACROPIXEL_SIZE = 2
MISSING_FRAMES = 0
PIXEL_SUBSAMPLING_FLAG = N
SIGNAL_CHAIN_ID = 3
/* RADIOMETRIC DATA ELEMENTS */
BANDWIDTH = 177.0
CENTER_FILTER_WAVELENGTH = 676.5
RADIANCE_OFFSET = 3.7446
RADIANCE_SCALING_FACTOR = 0.00725986
REFLECTANCE_SCALING_FACTOR = 0.000164423
MEX:REFLECTANCE_OFFSET = 0.0848088
/* IMAGE OBJECT DEFINITIONS */
OBJECT = IMAGE
  INTERCHANGE_FORMAT = BINARY
  LINES = 12503
  LINE_SAMPLES = 5110
  SAMPLE_TYPE = UNSIGNED_INTEGER
  SAMPLE_BITS = 8
  BANDS = 1
  BAND_STORAGE_TYPE = BAND_SEQUENTIAL
  MAXIMUM = 255
  MEAN = 103.264
  MINIMUM = 1
  STANDARD_DEVIATION = 38.9992
END_OBJECT = IMAGE
/* MAP OBJECT DEFINITIONS */
OBJECT = IMAGE_MAP_PROJECTION
  ^DATA_SET_MAP_PROJECTION_CATALOG= "DSMAP.CAT"
  A_AXIS_RADIUS = 3396.0
  B_AXIS_RADIUS = 3396.0
  C_AXIS_RADIUS = 3396.0
  CENTER_LATITUDE = 0.0
  CENTER_LONGITUDE = 134.0
  COORDINATE_SYSTEM_NAME = PLANETOGRAPHIC
  COORDINATE_SYSTEM_TYPE = "BODY-FIXED ROTATING"
  EASTERNMOST_LONGITUDE = 136.706
  FIRST_STANDARD_PARALLEL = "N/A"
  LINE_FIRST_PIXEL = 1
  LINE_LAST_PIXEL = 12503
  LINE_PROJECTION_OFFSET = 9726.75
  MAP_PROJECTION_ROTATION = 0.0
  MAP_PROJECTION_TYPE = SINUSOIDAL
  MAP_RESOLUTION = 1185.42760773333
  MAP_SCALE = 0.05
  MAXIMUM_LATITUDE = 8.42164
  MINIMUM_LATITUDE = -2.55615
  POSITIVE_LONGITUDE_DIRECTION = EAST
  REFERENCE_LATITUDE = "N/A"
  REFERENCE_LONGITUDE = "N/A"
  SAMPLE_FIRST_PIXEL = 1
  SAMPLE_LAST_PIXEL = 5110
  SAMPLE_PROJECTION_OFFSET = 1690.75
  SECOND_STANDARD_PARALLEL = "N/A"
  WESTERNMOST_LONGITUDE = 132.557
END_OBJECT = IMAGE_MAP_PROJECTION
END
