PDS_VERSION_ID = PDS3
/* FILE DATA ELEMENTS */
RECORD_TYPE = UNDEFINED
/* POINTERS TO DATA OBJECTS */
^IMAGE = ("HB524_0000_RE4.TIF")
/* IDENTIFICATION DATA ELEMENTS */
DATA_SET_ID = "MEX-M-HRSC-4-REFDR-MAPPROJECT-EXT4-V4.0"
DATA_SET_NAME = "MARS EXPRESS HRSC MAP PROJECTED REFDR EXTENSION4 V4.0"
DETECTOR_ID = MEX_HRSC_RED
EVENT_TYPE = "MARS-REGIONAL-MAPPING-Vo-Eo"
INSTRUMENT_HOST_ID = MEX
INSTRUMENT_HOST_NAME = "MARS EXPRESS"
INSTRUMENT_ID = HRSC
INSTRUMENT_NAME = "HIGH RESOLUTION STEREO CAMERA"
MISSION_NAME = "MARS EXPRESS"
MISSION_PHASE_NAME = ME_Phase_27
PROCESSING_LEVEL_ID = 4
PRODUCT_CREATION_TIME = 2023-01-30T11:30:59.000Z
PRODUCT_ID = "HB524_0000_RE4.TIF"
RELEASE_ID = 0001
REVISION_ID = 0000
/* QUALITY DATA ELEMENTS */
DATA_QUALITY_ID = 1
DATA_QUALITY_DESC = "Data calculated based on original SPICE kernels"
/* TIME DATA ELEMENTS */
SPACECRAFT_CLOCK_START_COUNT = "1/0306850860.08253"
SPACECRAFT_CLOCK_STOP_COUNT = "1/0306851178.21158"
START_TIME = 2013-01-21T12:22:10.825Z
STOP_TIME = 2013-01-21T12:26:09.797Z
/* ORBITAL DATA ELEMENTS */
ASCENDING_NODE_LONGITUDE = 357.58
MAXIMUM_RESOLUTION = 0.1322
FOOTPRINT_POINT_LATITUDE = (16.9588,16.9849,17.0118,17.0475, 17.0484,16.9616,16.4699,15.845,15.0952, 14.5852,14.3289,13.8355,13.5752,13.3097 ,13.0448,12.7803,12.5163,12.1129, 11.8433,11.5743,11.3057,11.0318,10.7579 ,10.4846,10.0724,9.79374,9.51602, 9.23867,8.95641,8.53327,8.25073,7.96177 ,7.6738,7.38761,7.09706,6.80572,6.51499 ,6.21941,5.77605,5.47747,5.17666, 4.72436,4.41973,4.11638,3.80778,3.34659 ,3.19082,3.10947,3.07738,3.04063, 3.01781,2.99595,2.99493,2.99666,3.30694 ,3.616,4.07649,4.38019,4.83641,5.286, 5.58668,5.88153,6.17755,6.47239,6.76381 ,7.05603,7.34608,7.63354,7.92153, 8.20847,8.4912,8.7745,9.05897,9.338, 9.61622,9.89511,10.1729,10.4466,10.7208 ,10.9952,11.2681,11.5372,11.8069,12.077 ,12.3474,12.612,12.877,13.1425,13.4086, 13.6727,13.9328,14.1933,14.4542,14.7157 ,14.9758,15.4567,16.0944,16.7256, 16.8501,16.9588)
FOOTPRINT_POINT_LONGITUDE = (229.971,229.529,229.074,228.47,228.455 ,228.537,228.523,228.502,228.478, 228.463,228.456,228.424,228.42,228.417, 228.413,228.41,228.406,228.4,228.396, 228.392,228.388,228.383,228.379,228.374 ,228.366,228.361,228.355,228.349, 228.343,228.334,228.328,228.323,228.317 ,228.311,228.303,228.296,228.289, 228.282,228.27,228.263,228.255,228.243, 228.235,228.226,228.216,228.201,228.196 ,228.193,228.671,229.25,229.64,230.076, 230.094,230.105,230.102,230.099,230.095 ,230.091,230.087,230.082,230.079, 230.077,230.074,230.071,230.068,230.065 ,230.062,230.06,230.057,230.054,230.051 ,230.049,230.046,230.043,230.041, 230.038,230.036,230.033,230.031,230.028 ,230.026,230.023,230.021,230.018, 230.016,230.013,230.011,230.009,230.006 ,230.004,230.001,229.999,229.996, 229.994,229.992,229.996,229.991,229.986 ,229.986,229.971)
ORBIT_NUMBER = 11524
ORBITAL_ECCENTRICITY = 0.575
ORBITAL_INCLINATION = 86.89
ORBITAL_SEMIMAJOR_AXIS = 8837.51
PERIAPSIS_ALTITUDE = 361.61
PERIAPSIS_ARGUMENT_ANGLE = 150.55
PERIAPSIS_TIME = 2013-01-21T12:18:26.000Z
SPACECRAFT_ORIENTATION = (0.0,-1.0,0.0)
^MEX_ORIENTATION_DESC = "MEX_ORIENTATION_DESC.TXT"
SPACECRAFT_POINTING_MODE = ACROSSTRACK
^MEX_POINTING_DESC = "MEX_POINTING_DESC.TXT"
RIGHT_ASCENSION = -1e+32
DECLINATION = -1e+32
OFFSET_ANGLE = -1.3
SPACECRAFT_SOLAR_DISTANCE = 2.06677e+08
TARGET_NAME = MARS
/* CAMERA DATA ELEMENTS */
DETECTOR_TEMPERATURE = 18.9822
FOCAL_PLANE_TEMPERATURE = 8.7872
INST_CMPRS_NAME = "DISCRETE COSINE TRANSFORMATION (DCT)"
INST_CMPRS_RATIO = 8.59603
INST_CMPRS_QUALITY = 0
INST_CMPRS_QUANTZ_TBL_ID = 0
INSTRUMENT_TEMPERATURE = 11.8457
LENS_TEMPERATURE = 9.6028
MACROPIXEL_SIZE = 8
MISSING_FRAMES = 0
PIXEL_SUBSAMPLING_FLAG = N
SIGNAL_CHAIN_ID = 2
/* RADIOMETRIC DATA ELEMENTS */
BANDWIDTH = 48.0
CENTER_FILTER_WAVELENGTH = 748.0
RADIANCE_OFFSET = 0.746344
RADIANCE_SCALING_FACTOR = 0.00505545
REFLECTANCE_SCALING_FACTOR = 0.000492801
MEX:REFLECTANCE_OFFSET = 0.072753
/* IMAGE OBJECT DEFINITIONS */
OBJECT = IMAGE
  INTERCHANGE_FORMAT = BINARY
  LINES = 8280
  LINE_SAMPLES = 1071
  SAMPLE_TYPE = UNSIGNED_INTEGER
  SAMPLE_BITS = 8
  BANDS = 1
  BAND_STORAGE_TYPE = BAND_SEQUENTIAL
  MAXIMUM = 255
  MEAN = 151.069
  MINIMUM = 1
  STANDARD_DEVIATION = 38.316
END_OBJECT = IMAGE
/* MAP OBJECT DEFINITIONS */
OBJECT = IMAGE_MAP_PROJECTION
  ^DATA_SET_MAP_PROJECTION_CATALOG= "DSMAP.CAT"
  A_AXIS_RADIUS = 3396.0
  B_AXIS_RADIUS = 3396.0
  C_AXIS_RADIUS = 3396.0
  CENTER_LATITUDE = 0.0
  CENTER_LONGITUDE = 229.0
  COORDINATE_SYSTEM_NAME = PLANETOGRAPHIC
  COORDINATE_SYSTEM_TYPE = "BODY-FIXED ROTATING"
  EASTERNMOST_LONGITUDE = 230.105
  FIRST_STANDARD_PARALLEL = "N/A"
  LINE_FIRST_PIXEL = 1
  LINE_LAST_PIXEL = 8280
  LINE_PROJECTION_OFFSET = 10089.8125
  MAP_PROJECTION_ROTATION = 0.0
  MAP_PROJECTION_TYPE = SINUSOIDAL
  MAP_RESOLUTION = 592.713803866667
  MAP_SCALE = 0.1
  MAXIMUM_LATITUDE = 17.0484
  MINIMUM_LATITUDE = 2.99493
  POSITIVE_LONGITUDE_DIRECTION = EAST
  REFERENCE_LATITUDE = "N/A"
  REFERENCE_LONGITUDE = "N/A"
  SAMPLE_FIRST_PIXEL = 1
  SAMPLE_LAST_PIXEL = 1071
  SAMPLE_PROJECTION_OFFSET = 445.3125
  SECOND_STANDARD_PARALLEL = "N/A"
  WESTERNMOST_LONGITUDE = 228.193
END_OBJECT = IMAGE_MAP_PROJECTION
END
