PDS_VERSION_ID = PDS3
/* FILE DATA ELEMENTS */
RECORD_TYPE = UNDEFINED
/* POINTERS TO DATA OBJECTS */
^IMAGE = ("HB504_0000_S24.TIF")
/* IDENTIFICATION DATA ELEMENTS */
DATA_SET_ID = "MEX-M-HRSC-4-REFDR-MAPPROJECT-EXT4-V4.0"
DATA_SET_NAME = "MARS EXPRESS HRSC MAP PROJECTED REFDR EXTENSION4 V4.0"
DETECTOR_ID = MEX_HRSC_S2
EVENT_TYPE = "MARS-REGIONAL-MAPPING-Vo-Im-Fl"
INSTRUMENT_HOST_ID = MEX
INSTRUMENT_HOST_NAME = "MARS EXPRESS"
INSTRUMENT_ID = HRSC
INSTRUMENT_NAME = "HIGH RESOLUTION STEREO CAMERA"
MISSION_NAME = "MARS EXPRESS"
MISSION_PHASE_NAME = ME_Phase_27
PROCESSING_LEVEL_ID = 4
PRODUCT_CREATION_TIME = 2023-01-30T11:30:59.000Z
PRODUCT_ID = "HB504_0000_S24.TIF"
RELEASE_ID = 0001
REVISION_ID = 0000
/* QUALITY DATA ELEMENTS */
DATA_QUALITY_ID = 1
DATA_QUALITY_DESC = "Data calculated based on original SPICE kernels"
/* TIME DATA ELEMENTS */
SPACECRAFT_CLOCK_START_COUNT = "1/0306347796.08243"
SPACECRAFT_CLOCK_STOP_COUNT = "1/0306348078.19744"
START_TIME = 2013-01-15T16:38:06.180Z
STOP_TIME = 2013-01-15T16:41:19.787Z
/* ORBITAL DATA ELEMENTS */
ASCENDING_NODE_LONGITUDE = 357.95
MAXIMUM_RESOLUTION = 0.041
FOOTPRINT_POINT_LATITUDE = (4.67095,4.67423,4.67697,4.68282, 4.68673,4.69185,4.69213,4.69116,4.11824 ,3.63815,3.34349,2.86456,2.56139, 2.26588,2.06865,1.87066,1.67012,1.47239 ,1.27277,1.06797,0.763278,0.457673, 0.252129,0.047355,-0.160897,-0.371923, -0.57868,-0.784898,-0.993266,-1.20192, -1.51755,-1.73146,-1.94389,-2.15868, -2.37487,-2.6991,-2.9163,-3.1346, -3.35431,-3.57394,-3.9077,-4.13092, -4.35062,-4.57723,-4.80599,-5.02931, -5.25747,-5.60878,-5.72476,-5.73125, -5.73888,-5.74105,-5.74474,-5.74891, -5.75399,-5.75405,-5.76492,-5.76918, -5.76857,-5.42016,-5.19198,-4.9664, -4.74236,-4.51722,-4.29335,-4.07152, -3.84829,-3.61975,-3.39286,-3.17408, -2.84859,-2.63005,-2.42283,-2.20612, -1.88439,-1.67231,-1.45636,-1.13551, -0.929251,-0.717816,-0.400863,-0.185427 ,0.0210967,0.225826,0.532679,0.827897, 1.03065,1.23585,1.43819,1.63757,1.83841 ,2.23681,2.53265,2.82918,3.21843, 3.70552,4.18444,4.57393,4.6677,4.67095)
FOOTPRINT_POINT_LONGITUDE = (115.567,115.188,114.926,114.466, 114.203,113.89,113.874,113.869,113.851, 113.836,113.828,113.81,113.802,113.792, 113.785,113.778,113.771,113.763,113.756 ,113.749,113.738,113.727,113.719, 113.711,113.704,113.697,113.688,113.68, 113.671,113.662,113.649,113.64,113.631, 113.622,113.613,113.599,113.59,113.58, 113.571,113.56,113.546,113.536,113.525, 113.514,113.505,113.493,113.482,113.468 ,113.462,113.462,113.851,114.153, 114.369,114.693,114.974,115.343,115.666 ,115.686,115.694,115.689,115.685,115.68 ,115.675,115.671,115.667,115.663,115.66 ,115.658,115.657,115.653,115.648, 115.645,115.639,115.636,115.632,115.628 ,115.626,115.624,115.62,115.618,115.615 ,115.615,115.612,115.61,115.606,115.6, 115.597,115.596,115.594,115.592,115.59, 115.586,115.584,115.581,115.577,115.573 ,115.569,115.568,115.567,115.567)
ORBIT_NUMBER = 11504
ORBITAL_ECCENTRICITY = 0.576
ORBITAL_INCLINATION = 86.88
ORBITAL_SEMIMAJOR_AXIS = 8839.75
PERIAPSIS_ALTITUDE = 359.63
PERIAPSIS_ARGUMENT_ANGLE = 154.04
PERIAPSIS_TIME = 2013-01-15T16:31:45.000Z
SPACECRAFT_ORIENTATION = (0.0,-1.0,0.0)
^MEX_ORIENTATION_DESC = "MEX_ORIENTATION_DESC.TXT"
SPACECRAFT_POINTING_MODE = NADIR
^MEX_POINTING_DESC = "MEX_POINTING_DESC.TXT"
RIGHT_ASCENSION = -1e+32
DECLINATION = -1e+32
OFFSET_ANGLE = -1e+32
SPACECRAFT_SOLAR_DISTANCE = 2.0675e+08
TARGET_NAME = MARS
/* CAMERA DATA ELEMENTS */
DETECTOR_TEMPERATURE = 18.9822
FOCAL_PLANE_TEMPERATURE = 8.7872
INST_CMPRS_NAME = "DISCRETE COSINE TRANSFORMATION (DCT)"
INST_CMPRS_RATIO = 10.6464
INST_CMPRS_QUALITY = 0
INST_CMPRS_QUANTZ_TBL_ID = 0
INSTRUMENT_TEMPERATURE = 11.8457
LENS_TEMPERATURE = 9.195
MACROPIXEL_SIZE = 2
MISSING_FRAMES = 0
PIXEL_SUBSAMPLING_FLAG = N
SIGNAL_CHAIN_ID = 1
/* RADIOMETRIC DATA ELEMENTS */
BANDWIDTH = 178.0
CENTER_FILTER_WAVELENGTH = 679.0
RADIANCE_OFFSET = 3.20266
RADIANCE_SCALING_FACTOR = 0.0105499
REFLECTANCE_SCALING_FACTOR = 0.00023882
MEX:REFLECTANCE_OFFSET = 0.0724988
/* IMAGE OBJECT DEFINITIONS */
OBJECT = IMAGE
  INTERCHANGE_FORMAT = BINARY
  LINES = 24802
  LINE_SAMPLES = 4747
  SAMPLE_TYPE = UNSIGNED_INTEGER
  SAMPLE_BITS = 8
  BANDS = 1
  BAND_STORAGE_TYPE = BAND_SEQUENTIAL
  MAXIMUM = 255
  MEAN = 122.775
  MINIMUM = 1
  STANDARD_DEVIATION = 32.9984
END_OBJECT = IMAGE
/* MAP OBJECT DEFINITIONS */
OBJECT = IMAGE_MAP_PROJECTION
  ^DATA_SET_MAP_PROJECTION_CATALOG= "DSMAP.CAT"
  A_AXIS_RADIUS = 3396.0
  B_AXIS_RADIUS = 3396.0
  C_AXIS_RADIUS = 3396.0
  CENTER_LATITUDE = 0.0
  CENTER_LONGITUDE = 115.0
  COORDINATE_SYSTEM_NAME = PLANETOGRAPHIC
  COORDINATE_SYSTEM_TYPE = "BODY-FIXED ROTATING"
  EASTERNMOST_LONGITUDE = 115.694
  FIRST_STANDARD_PARALLEL = "N/A"
  LINE_FIRST_PIXEL = 1
  LINE_LAST_PIXEL = 24802
  LINE_PROJECTION_OFFSET = 11110.25
  MAP_PROJECTION_ROTATION = 0.0
  MAP_PROJECTION_TYPE = SINUSOIDAL
  MAP_RESOLUTION = 2370.85521546667
  MAP_SCALE = 0.025
  MAXIMUM_LATITUDE = 4.69213
  MINIMUM_LATITUDE = -5.76918
  POSITIVE_LONGITUDE_DIRECTION = EAST
  REFERENCE_LATITUDE = "N/A"
  REFERENCE_LONGITUDE = "N/A"
  SAMPLE_FIRST_PIXEL = 1
  SAMPLE_LAST_PIXEL = 4747
  SAMPLE_PROJECTION_OFFSET = 3364.25
  SECOND_STANDARD_PARALLEL = "N/A"
  WESTERNMOST_LONGITUDE = 113.462
END_OBJECT = IMAGE_MAP_PROJECTION
END
