PDS_VERSION_ID = PDS3
/* FILE DATA ELEMENTS */
RECORD_TYPE = UNDEFINED
/* POINTERS TO DATA OBJECTS */
^IMAGE = ("HB504_0000_BL4.TIF")
/* IDENTIFICATION DATA ELEMENTS */
DATA_SET_ID = "MEX-M-HRSC-4-REFDR-MAPPROJECT-EXT4-V4.0"
DATA_SET_NAME = "MARS EXPRESS HRSC MAP PROJECTED REFDR EXTENSION4 V4.0"
DETECTOR_ID = MEX_HRSC_BLUE
EVENT_TYPE = "MARS-REGIONAL-MAPPING-Vo-Im-Fl"
INSTRUMENT_HOST_ID = MEX
INSTRUMENT_HOST_NAME = "MARS EXPRESS"
INSTRUMENT_ID = HRSC
INSTRUMENT_NAME = "HIGH RESOLUTION STEREO CAMERA"
MISSION_NAME = "MARS EXPRESS"
MISSION_PHASE_NAME = ME_Phase_27
PROCESSING_LEVEL_ID = 4
PRODUCT_CREATION_TIME = 2023-01-30T11:30:59.000Z
PRODUCT_ID = "HB504_0000_BL4.TIF"
RELEASE_ID = 0001
REVISION_ID = 0000
/* QUALITY DATA ELEMENTS */
DATA_QUALITY_ID = 1
DATA_QUALITY_DESC = "Data calculated based on original SPICE kernels"
/* TIME DATA ELEMENTS */
SPACECRAFT_CLOCK_START_COUNT = "1/0306347796.08243"
SPACECRAFT_CLOCK_STOP_COUNT = "1/0306348078.19744"
START_TIME = 2013-01-15T16:37:27.529Z
STOP_TIME = 2013-01-15T16:40:25.048Z
/* ORBITAL DATA ELEMENTS */
ASCENDING_NODE_LONGITUDE = 357.95
MAXIMUM_RESOLUTION = 0.073
FOOTPRINT_POINT_LATITUDE = (4.6678,4.67026,4.67319,4.67677,4.67949 ,4.68332,4.68578,4.68594,4.68487, 4.40125,4.11797,3.82914,3.44375,3.15617 ,2.76487,2.17641,1.77767,1.38,1.17954, 0.976321,0.773576,0.470039,0.265123, 0.0589649,-0.146963,-0.35298,-0.561488, -0.770039,-0.978975,-1.18732,-1.50554, -1.71808,-1.93006,-2.253,-2.46863, -2.684,-3.01178,-3.23049,-3.44898, -3.67115,-3.89346,-4.11484,-4.33942, -4.56433,-4.7891,-5.01824,-5.24619, -5.59067,-5.70661,-5.74121,-5.74621, -5.74938,-5.75353,-5.7572,-5.7616, -5.76568,-5.77067,-5.77091,-5.76965, -5.42421,-5.19636,-4.96811,-4.74076, -4.51602,-4.29085,-3.95631,-3.73369, -3.50949,-3.28986,-3.07145,-2.85224, -2.63487,-2.42088,-2.20453,-1.88244, -1.67029,-1.45731,-1.13883,-0.930387, -0.720363,-0.510744,-0.302193, -0.0961845,0.109932,0.316342,0.519924, 0.822302,1.02516,1.22879,1.42832, 1.72737,1.92716,2.32347,2.81335,3.10753 ,3.49259,4.07145,4.54566,4.64029, 4.6678)
FOOTPRINT_POINT_LONGITUDE = (115.517,115.31,115.058,114.746,114.509 ,114.168,113.946,113.931,113.927,113.92 ,113.912,113.904,113.894,113.884, 113.873,113.857,113.845,113.832,113.825 ,113.819,113.813,113.803,113.796,113.79 ,113.783,113.776,113.77,113.762,113.754 ,113.746,113.735,113.727,113.719, 113.708,113.7,113.692,113.679,113.671, 113.662,113.654,113.646,113.637,113.627 ,113.618,113.609,113.601,113.591, 113.578,113.573,113.572,113.873,114.081 ,114.345,114.61,114.894,115.159,115.576 ,115.595,115.601,115.595,115.592, 115.588,115.586,115.583,115.58,115.576, 115.574,115.575,115.573,115.57,115.568, 115.566,115.561,115.56,115.557,115.555, 115.553,115.552,115.549,115.549,115.547 ,115.548,115.547,115.545,115.543, 115.542,115.537,115.535,115.535,115.534 ,115.532,115.531,115.529,115.525, 115.524,115.522,115.519,115.519,115.519 ,115.517)
ORBIT_NUMBER = 11504
ORBITAL_ECCENTRICITY = 0.576
ORBITAL_INCLINATION = 86.88
ORBITAL_SEMIMAJOR_AXIS = 8839.75
PERIAPSIS_ALTITUDE = 359.63
PERIAPSIS_ARGUMENT_ANGLE = 154.04
PERIAPSIS_TIME = 2013-01-15T16:31:45.000Z
SPACECRAFT_ORIENTATION = (0.0,-1.0,0.0)
^MEX_ORIENTATION_DESC = "MEX_ORIENTATION_DESC.TXT"
SPACECRAFT_POINTING_MODE = NADIR
^MEX_POINTING_DESC = "MEX_POINTING_DESC.TXT"
RIGHT_ASCENSION = -1e+32
DECLINATION = -1e+32
OFFSET_ANGLE = -1e+32
SPACECRAFT_SOLAR_DISTANCE = 2.0675e+08
TARGET_NAME = MARS
/* CAMERA DATA ELEMENTS */
DETECTOR_TEMPERATURE = 18.3705
FOCAL_PLANE_TEMPERATURE = 8.7872
INST_CMPRS_NAME = "DISCRETE COSINE TRANSFORMATION (DCT)"
INST_CMPRS_RATIO = 6.06152
INST_CMPRS_QUALITY = 0
INST_CMPRS_QUANTZ_TBL_ID = 0
INSTRUMENT_TEMPERATURE = 11.8457
LENS_TEMPERATURE = 9.195
MACROPIXEL_SIZE = 4
MISSING_FRAMES = 0
PIXEL_SUBSAMPLING_FLAG = N
SIGNAL_CHAIN_ID = 2
/* RADIOMETRIC DATA ELEMENTS */
BANDWIDTH = 76.0
CENTER_FILTER_WAVELENGTH = 444.0
RADIANCE_OFFSET = 0.459621
RADIANCE_SCALING_FACTOR = 0.00125312
REFLECTANCE_SCALING_FACTOR = 5.50351e-05
MEX:REFLECTANCE_OFFSET = 0.0201858
/* IMAGE OBJECT DEFINITIONS */
OBJECT = IMAGE
  INTERCHANGE_FORMAT = BINARY
  LINES = 12401
  LINE_SAMPLES = 2374
  SAMPLE_TYPE = UNSIGNED_INTEGER
  SAMPLE_BITS = 8
  BANDS = 1
  BAND_STORAGE_TYPE = BAND_SEQUENTIAL
  MAXIMUM = 255
  MEAN = 126.223
  MINIMUM = 1
  STANDARD_DEVIATION = 34.298
END_OBJECT = IMAGE
/* MAP OBJECT DEFINITIONS */
OBJECT = IMAGE_MAP_PROJECTION
  ^DATA_SET_MAP_PROJECTION_CATALOG= "DSMAP.CAT"
  A_AXIS_RADIUS = 3396.0
  B_AXIS_RADIUS = 3396.0
  C_AXIS_RADIUS = 3396.0
  CENTER_LATITUDE = 0.0
  CENTER_LONGITUDE = 115.0
  COORDINATE_SYSTEM_NAME = PLANETOGRAPHIC
  COORDINATE_SYSTEM_TYPE = "BODY-FIXED ROTATING"
  EASTERNMOST_LONGITUDE = 115.601
  FIRST_STANDARD_PARALLEL = "N/A"
  LINE_FIRST_PIXEL = 1
  LINE_LAST_PIXEL = 12401
  LINE_PROJECTION_OFFSET = 5554.875
  MAP_PROJECTION_ROTATION = 0.0
  MAP_PROJECTION_TYPE = SINUSOIDAL
  MAP_RESOLUTION = 1185.42760773333
  MAP_SCALE = 0.05
  MAXIMUM_LATITUDE = 4.68594
  MINIMUM_LATITUDE = -5.77091
  POSITIVE_LONGITUDE_DIRECTION = EAST
  REFERENCE_LATITUDE = "N/A"
  REFERENCE_LONGITUDE = "N/A"
  SAMPLE_FIRST_PIXEL = 1
  SAMPLE_LAST_PIXEL = 2374
  SAMPLE_PROJECTION_OFFSET = 1681.875
  SECOND_STANDARD_PARALLEL = "N/A"
  WESTERNMOST_LONGITUDE = 113.572
END_OBJECT = IMAGE_MAP_PROJECTION
END
