PDS_VERSION_ID = PDS3
/* FILE DATA ELEMENTS */
RECORD_TYPE = UNDEFINED
/* POINTERS TO DATA OBJECTS */
^IMAGE = ("HB503_0000_RE4.TIF")
/* IDENTIFICATION DATA ELEMENTS */
DATA_SET_ID = "MEX-M-HRSC-4-REFDR-MAPPROJECT-EXT4-V4.0"
DATA_SET_NAME = "MARS EXPRESS HRSC MAP PROJECTED REFDR EXTENSION4 V4.0"
DETECTOR_ID = MEX_HRSC_RED
EVENT_TYPE = "MARS-REGIONAL-MAPPING-Vo-Eo"
INSTRUMENT_HOST_ID = MEX
INSTRUMENT_HOST_NAME = "MARS EXPRESS"
INSTRUMENT_ID = HRSC
INSTRUMENT_NAME = "HIGH RESOLUTION STEREO CAMERA"
MISSION_NAME = "MARS EXPRESS"
MISSION_PHASE_NAME = ME_Phase_27
PROCESSING_LEVEL_ID = 4
PRODUCT_CREATION_TIME = 2023-01-30T11:30:59.000Z
PRODUCT_ID = "HB503_0000_RE4.TIF"
RELEASE_ID = 0001
REVISION_ID = 0000
/* QUALITY DATA ELEMENTS */
DATA_QUALITY_ID = 1
DATA_QUALITY_DESC = "Data calculated based on original SPICE kernels"
/* TIME DATA ELEMENTS */
SPACECRAFT_CLOCK_START_COUNT = "1/0306322658.09055"
SPACECRAFT_CLOCK_STOP_COUNT = "1/0306322944.62312"
START_TIME = 2013-01-15T09:39:03.564Z
STOP_TIME = 2013-01-15T09:42:13.270Z
/* ORBITAL DATA ELEMENTS */
ASCENDING_NODE_LONGITUDE = 357.98
MAXIMUM_RESOLUTION = 0.0828
FOOTPRINT_POINT_LATITUDE = (2.77016,2.77712,2.78303,2.79174, 2.79855,2.80572,2.81322,2.8137,2.8169, 2.26384,1.88938,1.51587,1.1384,0.758696 ,0.373484,0.0846047,-0.10992,-0.305399, -0.500736,-0.79603,-0.994308,-1.19161, -1.39039,-1.59181,-1.79302,-1.99504, -2.19934,-2.40438,-2.60798,-2.81464, -3.12411,-3.33164,-3.53648,-3.84148, -4.0497,-4.25889,-4.57833,-4.79286, -5.00591,-5.22181,-5.54565,-5.76324, -5.98183,-6.19658,-6.41918,-6.75225, -6.97414,-7.30905,-7.42137,-7.43083, -7.44545,-7.45517,-7.46583,-7.47381, -7.48183,-7.48742,-7.49303,-7.4934, -7.49216,-7.15583,-6.93346,-6.71058, -6.38049,-6.16022,-5.9426,-5.61767, -5.40369,-5.18697,-4.97109,-4.75751, -4.5429,-4.33123,-4.11939,-3.90786, -3.69884,-3.4897,-3.28186,-3.07626, -2.87012,-2.66397,-2.46083,-2.25677, -2.05283,-1.75174,-1.55089,-1.35059, -1.15312,-0.955486,-0.659442,-0.269807, 0.022163,0.406858,0.978061,1.35983, 1.6448,2.02494,2.40116,2.67955,2.77319, 2.77016)
FOOTPRINT_POINT_LONGITUDE = (217.494,217.172,216.914,216.558, 216.299,216.039,215.777,215.761,215.755 ,215.737,215.724,215.711,215.696, 215.683,215.669,215.658,215.651,215.644 ,215.636,215.626,215.618,215.61,215.603 ,215.595,215.588,215.58,215.573,215.565 ,215.557,215.55,215.537,215.529,215.519 ,215.502,215.492,215.482,215.469,215.46 ,215.451,215.441,215.426,215.416, 215.406,215.394,215.385,215.369,215.358 ,215.341,215.336,215.335,215.743, 216.042,216.405,216.703,217.044,217.298 ,217.596,217.617,217.624,217.618, 217.614,217.61,217.604,217.601,217.597, 217.591,217.587,217.584,217.582,217.579 ,217.576,217.573,217.57,217.567,217.565 ,217.562,217.559,217.557,217.554, 217.551,217.549,217.547,217.544,217.541 ,217.538,217.536,217.534,217.531, 217.528,217.523,217.52,217.516,217.509, 217.506,217.504,217.501,217.499,217.497 ,217.496,217.494)
ORBIT_NUMBER = 11503
ORBITAL_ECCENTRICITY = 0.575
ORBITAL_INCLINATION = 86.9
ORBITAL_SEMIMAJOR_AXIS = 8838.3
PERIAPSIS_ALTITUDE = 359.63
PERIAPSIS_ARGUMENT_ANGLE = 154.2
PERIAPSIS_TIME = 2013-01-15T09:32:21.000Z
SPACECRAFT_ORIENTATION = (0.0,-1.0,0.0)
^MEX_ORIENTATION_DESC = "MEX_ORIENTATION_DESC.TXT"
SPACECRAFT_POINTING_MODE = ACROSSTRACK
^MEX_POINTING_DESC = "MEX_POINTING_DESC.TXT"
RIGHT_ASCENSION = -1e+32
DECLINATION = -1e+32
OFFSET_ANGLE = -0.3
SPACECRAFT_SOLAR_DISTANCE = 2.06755e+08
TARGET_NAME = MARS
/* CAMERA DATA ELEMENTS */
DETECTOR_TEMPERATURE = 18.7783
FOCAL_PLANE_TEMPERATURE = 8.5833
INST_CMPRS_NAME = "DISCRETE COSINE TRANSFORMATION (DCT)"
INST_CMPRS_RATIO = 12.7864
INST_CMPRS_QUALITY = 0
INST_CMPRS_QUANTZ_TBL_ID = 0
INSTRUMENT_TEMPERATURE = 12.0496
LENS_TEMPERATURE = 8.9911
MACROPIXEL_SIZE = 4
MISSING_FRAMES = 0
PIXEL_SUBSAMPLING_FLAG = N
SIGNAL_CHAIN_ID = 2
/* RADIOMETRIC DATA ELEMENTS */
BANDWIDTH = 48.0
CENTER_FILTER_WAVELENGTH = 748.0
RADIANCE_OFFSET = 1.02188
RADIANCE_SCALING_FACTOR = 0.00434411
REFLECTANCE_SCALING_FACTOR = 0.000423781
MEX:REFLECTANCE_OFFSET = 0.099687
/* IMAGE OBJECT DEFINITIONS */
OBJECT = IMAGE
  INTERCHANGE_FORMAT = BINARY
  LINES = 12213
  LINE_SAMPLES = 2472
  SAMPLE_TYPE = UNSIGNED_INTEGER
  SAMPLE_BITS = 8
  BANDS = 1
  BAND_STORAGE_TYPE = BAND_SEQUENTIAL
  MAXIMUM = 255
  MEAN = 103.096
  MINIMUM = 1
  STANDARD_DEVIATION = 25.2053
END_OBJECT = IMAGE
/* MAP OBJECT DEFINITIONS */
OBJECT = IMAGE_MAP_PROJECTION
  ^DATA_SET_MAP_PROJECTION_CATALOG= "DSMAP.CAT"
  A_AXIS_RADIUS = 3396.0
  B_AXIS_RADIUS = 3396.0
  C_AXIS_RADIUS = 3396.0
  CENTER_LATITUDE = 0.0
  CENTER_LONGITUDE = 217.0
  COORDINATE_SYSTEM_NAME = PLANETOGRAPHIC
  COORDINATE_SYSTEM_TYPE = "BODY-FIXED ROTATING"
  EASTERNMOST_LONGITUDE = 217.624
  FIRST_STANDARD_PARALLEL = "N/A"
  LINE_FIRST_PIXEL = 1
  LINE_LAST_PIXEL = 12213
  LINE_PROJECTION_OFFSET = 3334.125
  MAP_PROJECTION_ROTATION = 0.0
  MAP_PROJECTION_TYPE = SINUSOIDAL
  MAP_RESOLUTION = 1185.42760773333
  MAP_SCALE = 0.05
  MAXIMUM_LATITUDE = 2.8169
  MINIMUM_LATITUDE = -7.4934
  POSITIVE_LONGITUDE_DIRECTION = EAST
  REFERENCE_LATITUDE = "N/A"
  REFERENCE_LONGITUDE = "N/A"
  SAMPLE_FIRST_PIXEL = 1
  SAMPLE_LAST_PIXEL = 2472
  SAMPLE_PROJECTION_OFFSET = 1845.125
  SECOND_STANDARD_PARALLEL = "N/A"
  WESTERNMOST_LONGITUDE = 215.335
END_OBJECT = IMAGE_MAP_PROJECTION
END
