PDS_VERSION_ID = PDS3
/* FILE DATA ELEMENTS */
RECORD_TYPE = UNDEFINED
/* POINTERS TO DATA OBJECTS */
^IMAGE = ("HB503_0000_P24.TIF")
/* IDENTIFICATION DATA ELEMENTS */
DATA_SET_ID = "MEX-M-HRSC-4-REFDR-MAPPROJECT-EXT4-V4.0"
DATA_SET_NAME = "MARS EXPRESS HRSC MAP PROJECTED REFDR EXTENSION4 V4.0"
DETECTOR_ID = MEX_HRSC_P2
EVENT_TYPE = "MARS-REGIONAL-MAPPING-Vo-Eo"
INSTRUMENT_HOST_ID = MEX
INSTRUMENT_HOST_NAME = "MARS EXPRESS"
INSTRUMENT_ID = HRSC
INSTRUMENT_NAME = "HIGH RESOLUTION STEREO CAMERA"
MISSION_NAME = "MARS EXPRESS"
MISSION_PHASE_NAME = ME_Phase_27
PROCESSING_LEVEL_ID = 4
PRODUCT_CREATION_TIME = 2023-01-30T11:30:59.000Z
PRODUCT_ID = "HB503_0000_P24.TIF"
RELEASE_ID = 0001
REVISION_ID = 0000
/* QUALITY DATA ELEMENTS */
DATA_QUALITY_ID = 1
DATA_QUALITY_DESC = "Data calculated based on original SPICE kernels"
/* TIME DATA ELEMENTS */
SPACECRAFT_CLOCK_START_COUNT = "1/0306322658.09055"
SPACECRAFT_CLOCK_STOP_COUNT = "1/0306322944.62312"
START_TIME = 2013-01-15T09:38:54.857Z
STOP_TIME = 2013-01-15T09:42:01.113Z
/* ORBITAL DATA ELEMENTS */
ASCENDING_NODE_LONGITUDE = 357.98
MAXIMUM_RESOLUTION = 0.0806
FOOTPRINT_POINT_LATITUDE = (2.77819,2.78591,2.79119,2.79675, 2.80263,2.80878,2.81558,2.81599,2.81824 ,2.35445,1.79488,1.41658,1.03922, 0.65444,0.269824,0.0751333,-0.120522, -0.315688,-0.510701,-0.709543,-1.00729, -1.20458,-1.50617,-1.70741,-2.0115, -2.21646,-2.42117,-2.72926,-2.93698, -3.14315,-3.35225,-3.55842,-3.86525, -4.07558,-4.28586,-4.60662,-4.82172, -5.03584,-5.25262,-5.46998,-5.68665, -5.90612,-6.23227,-6.45595,-6.79017, -7.01374,-7.2376,-7.35006,-7.45107, -7.46123,-7.46932,-7.47957,-7.48794, -7.49524,-7.50193,-7.50625,-7.50659, -7.50534,-7.27961,-7.05574,-6.72026, -6.49863,-6.1669,-5.9478,-5.72867, -5.5138,-5.29719,-4.97185,-4.64978, -4.43538,-4.2233,-3.90491,-3.69518, -3.48576,-3.27628,-3.07017,-2.86356, -2.65618,-2.45265,-2.24817,-1.94202, -1.74091,-1.54002,-1.33856,-1.14036, -0.942655,-0.744284,-0.448518,-0.254044 ,-0.0590563,0.233268,0.713112,0.906165, 1.19083,1.57213,1.85867,2.23592,2.61133 ,2.7039,2.77819)
FOOTPRINT_POINT_LONGITUDE = (217.483,217.087,216.832,216.577, 216.321,216.065,215.791,215.775,215.769 ,215.754,215.735,215.722,215.708, 215.695,215.681,215.674,215.667,215.66, 215.653,215.646,215.635,215.628,215.617 ,215.609,215.598,215.591,215.584, 215.572,215.565,215.556,215.549,215.538 ,215.522,215.512,215.503,215.49,215.481 ,215.472,215.462,215.453,215.443, 215.434,215.417,215.408,215.393,215.382 ,215.371,215.366,215.361,215.675, 215.949,216.325,216.659,216.993,217.326 ,217.575,217.596,217.603,217.599, 217.595,217.59,217.586,217.581,217.578, 217.575,217.571,217.568,217.564,217.56, 217.557,217.555,217.551,217.548,217.546 ,217.543,217.541,217.538,217.536, 217.534,217.532,217.528,217.526,217.524 ,217.522,217.52,217.517,217.515,217.512 ,217.51,217.508,217.505,217.5,217.498, 217.496,217.493,217.491,217.489,217.487 ,217.486,217.483)
ORBIT_NUMBER = 11503
ORBITAL_ECCENTRICITY = 0.575
ORBITAL_INCLINATION = 86.9
ORBITAL_SEMIMAJOR_AXIS = 8838.3
PERIAPSIS_ALTITUDE = 359.63
PERIAPSIS_ARGUMENT_ANGLE = 154.2
PERIAPSIS_TIME = 2013-01-15T09:32:21.000Z
SPACECRAFT_ORIENTATION = (0.0,-1.0,0.0)
^MEX_ORIENTATION_DESC = "MEX_ORIENTATION_DESC.TXT"
SPACECRAFT_POINTING_MODE = ACROSSTRACK
^MEX_POINTING_DESC = "MEX_POINTING_DESC.TXT"
RIGHT_ASCENSION = -1e+32
DECLINATION = -1e+32
OFFSET_ANGLE = -0.3
SPACECRAFT_SOLAR_DISTANCE = 2.06755e+08
TARGET_NAME = MARS
/* CAMERA DATA ELEMENTS */
DETECTOR_TEMPERATURE = 18.7783
FOCAL_PLANE_TEMPERATURE = 8.5833
INST_CMPRS_NAME = "DISCRETE COSINE TRANSFORMATION (DCT)"
INST_CMPRS_RATIO = 8.31818
INST_CMPRS_QUALITY = 0
INST_CMPRS_QUANTZ_TBL_ID = 0
INSTRUMENT_TEMPERATURE = 12.0496
LENS_TEMPERATURE = 8.9911
MACROPIXEL_SIZE = 4
MISSING_FRAMES = 0
PIXEL_SUBSAMPLING_FLAG = N
SIGNAL_CHAIN_ID = 3
/* RADIOMETRIC DATA ELEMENTS */
BANDWIDTH = 177.0
CENTER_FILTER_WAVELENGTH = 676.5
RADIANCE_OFFSET = 3.68034
RADIANCE_SCALING_FACTOR = 0.0150341
REFLECTANCE_SCALING_FACTOR = 0.000340759
MEX:REFLECTANCE_OFFSET = 0.0834178
/* IMAGE OBJECT DEFINITIONS */
OBJECT = IMAGE
  INTERCHANGE_FORMAT = BINARY
  LINES = 12213
  LINE_SAMPLES = 2472
  SAMPLE_TYPE = UNSIGNED_INTEGER
  SAMPLE_BITS = 8
  BANDS = 1
  BAND_STORAGE_TYPE = BAND_SEQUENTIAL
  MAXIMUM = 255
  MEAN = 104.772
  MINIMUM = 1
  STANDARD_DEVIATION = 24.817
END_OBJECT = IMAGE
/* MAP OBJECT DEFINITIONS */
OBJECT = IMAGE_MAP_PROJECTION
  ^DATA_SET_MAP_PROJECTION_CATALOG= "DSMAP.CAT"
  A_AXIS_RADIUS = 3396.0
  B_AXIS_RADIUS = 3396.0
  C_AXIS_RADIUS = 3396.0
  CENTER_LATITUDE = 0.0
  CENTER_LONGITUDE = 217.0
  COORDINATE_SYSTEM_NAME = PLANETOGRAPHIC
  COORDINATE_SYSTEM_TYPE = "BODY-FIXED ROTATING"
  EASTERNMOST_LONGITUDE = 217.603
  FIRST_STANDARD_PARALLEL = "N/A"
  LINE_FIRST_PIXEL = 1
  LINE_LAST_PIXEL = 12213
  LINE_PROJECTION_OFFSET = 3334.125
  MAP_PROJECTION_ROTATION = 0.0
  MAP_PROJECTION_TYPE = SINUSOIDAL
  MAP_RESOLUTION = 1185.42760773333
  MAP_SCALE = 0.05
  MAXIMUM_LATITUDE = 2.81824
  MINIMUM_LATITUDE = -7.50659
  POSITIVE_LONGITUDE_DIRECTION = EAST
  REFERENCE_LATITUDE = "N/A"
  REFERENCE_LONGITUDE = "N/A"
  SAMPLE_FIRST_PIXEL = 1
  SAMPLE_LAST_PIXEL = 2472
  SAMPLE_PROJECTION_OFFSET = 1845.125
  SECOND_STANDARD_PARALLEL = "N/A"
  WESTERNMOST_LONGITUDE = 215.361
END_OBJECT = IMAGE_MAP_PROJECTION
END
