PDS_VERSION_ID = PDS3
/* FILE DATA ELEMENTS */
RECORD_TYPE = UNDEFINED
/* POINTERS TO DATA OBJECTS */
^IMAGE = ("HB497_0000_ND4.TIF")
/* IDENTIFICATION DATA ELEMENTS */
DATA_SET_ID = "MEX-M-HRSC-4-REFDR-MAPPROJECT-EXT4-V4.0"
DATA_SET_NAME = "MARS EXPRESS HRSC MAP PROJECTED REFDR EXTENSION4 V4.0"
DETECTOR_ID = MEX_HRSC_NADIR
EVENT_TYPE = "MARS-REGIONAL-MAPPING-Vo-Im-Fl"
INSTRUMENT_HOST_ID = MEX
INSTRUMENT_HOST_NAME = "MARS EXPRESS"
INSTRUMENT_ID = HRSC
INSTRUMENT_NAME = "HIGH RESOLUTION STEREO CAMERA"
MISSION_NAME = "MARS EXPRESS"
MISSION_PHASE_NAME = ME_Phase_27
PROCESSING_LEVEL_ID = 4
PRODUCT_CREATION_TIME = 2023-01-30T11:30:59.000Z
PRODUCT_ID = "HB497_0000_ND4.TIF"
RELEASE_ID = 0001
REVISION_ID = 0000
/* QUALITY DATA ELEMENTS */
DATA_QUALITY_ID = 1
DATA_QUALITY_DESC = "Data calculated based on original SPICE kernels"
/* TIME DATA ELEMENTS */
SPACECRAFT_CLOCK_START_COUNT = "1/0306171709.07314"
SPACECRAFT_CLOCK_STOP_COUNT = "1/0306171980.07726"
START_TIME = 2013-01-13T15:42:34.796Z
STOP_TIME = 2013-01-13T15:45:14.786Z
/* ORBITAL DATA ELEMENTS */
ASCENDING_NODE_LONGITUDE = 358.09
MAXIMUM_RESOLUTION = 0.0188
FOOTPRINT_POINT_LATITUDE = (1.55689,1.55987,1.56304,1.56618, 1.56931,1.57301,1.57649,1.57668,1.57653 ,1.14319,0.792541,0.442617,-0.0915817, -0.447701,-0.809335,-0.990721,-1.35288, -1.62914,-1.81348,-1.99766,-2.1817, -2.46221,-2.64958,-2.83673,-3.02368, -3.21417,-3.40454,-3.59462,-3.78453, -3.97772,-4.26759,-4.46055,-4.65544, -4.85172,-5.04777,-5.24364,-5.44281, -5.74129,-5.93997,-6.24239,-6.44416, -6.64564,-6.85054,-7.05523,-7.25962, -7.57037,-7.77776,-7.88133,-7.88335, -7.89036,-7.89379,-7.89817,-7.90117, -7.90598,-7.91303,-7.91581,-7.91608, -7.91588,-7.70835,-7.5005,-7.29323, -7.08854,-6.88355,-6.67832,-6.47655, -6.27448,-5.97157,-5.77262,-5.4737, -5.27428,-5.07824,-4.88193,-4.68537, -4.49016,-4.29694,-4.00664,-3.81311, -3.62295,-3.43252,-3.24183,-3.05107, -2.86385,-2.67643,-2.48882,-2.208, -2.02373,-1.83931,-1.65464,-1.37803, -1.19681,-1.0154,-0.833814,-0.471679, -0.115129,0.419804,0.770192,1.12121, 1.46922,1.55519,1.55689)
FOOTPRINT_POINT_LONGITUDE = (110.583,110.342,110.085,109.826, 109.566,109.257,108.961,108.945,108.936 ,108.921,108.912,108.901,108.885, 108.874,108.862,108.857,108.845,108.837 ,108.829,108.823,108.817,108.809, 108.803,108.796,108.789,108.783,108.775 ,108.767,108.76,108.752,108.741,108.734 ,108.726,108.718,108.711,108.705, 108.698,108.686,108.678,108.665,108.657 ,108.648,108.639,108.631,108.622, 108.608,108.599,108.595,108.595,108.985 ,109.188,109.454,109.638,109.943, 110.429,110.632,110.652,110.662,110.659 ,110.657,110.654,110.652,110.65,110.647 ,110.645,110.643,110.64,110.638,110.635 ,110.633,110.631,110.629,110.627, 110.625,110.624,110.621,110.62,110.618, 110.617,110.616,110.614,110.613,110.611 ,110.61,110.608,110.607,110.605,110.604 ,110.602,110.601,110.6,110.598,110.596, 110.593,110.59,110.588,110.586,110.584, 110.583,110.583)
ORBIT_NUMBER = 11497
ORBITAL_ECCENTRICITY = 0.576
ORBITAL_INCLINATION = 86.88
ORBITAL_SEMIMAJOR_AXIS = 8841.51
PERIAPSIS_ALTITUDE = 358.82
PERIAPSIS_ARGUMENT_ANGLE = 155.25
PERIAPSIS_TIME = 2013-01-13T15:36:29.000Z
SPACECRAFT_ORIENTATION = (0.0,-1.0,0.0)
^MEX_ORIENTATION_DESC = "MEX_ORIENTATION_DESC.TXT"
SPACECRAFT_POINTING_MODE = ACROSSTRACK
^MEX_POINTING_DESC = "MEX_POINTING_DESC.TXT"
RIGHT_ASCENSION = -1e+32
DECLINATION = -1e+32
OFFSET_ANGLE = -0.38
SPACECRAFT_SOLAR_DISTANCE = 2.06793e+08
TARGET_NAME = MARS
/* CAMERA DATA ELEMENTS */
DETECTOR_TEMPERATURE = 18.9822
FOCAL_PLANE_TEMPERATURE = 8.5833
INST_CMPRS_NAME = "DISCRETE COSINE TRANSFORMATION (DCT)"
INST_CMPRS_RATIO = 6.83929
INST_CMPRS_QUALITY = 0
INST_CMPRS_QUANTZ_TBL_ID = 0
INSTRUMENT_TEMPERATURE = 11.8457
LENS_TEMPERATURE = 9.6028
MACROPIXEL_SIZE = 1
MISSING_FRAMES = 0
PIXEL_SUBSAMPLING_FLAG = N
SIGNAL_CHAIN_ID = 0
/* RADIOMETRIC DATA ELEMENTS */
BANDWIDTH = 177.0
CENTER_FILTER_WAVELENGTH = 677.5
RADIANCE_OFFSET = 2.69201
RADIANCE_SCALING_FACTOR = 0.00995707
REFLECTANCE_SCALING_FACTOR = 0.000226196
MEX:REFLECTANCE_OFFSET = 0.0611547
/* IMAGE OBJECT DEFINITIONS */
OBJECT = IMAGE
  INTERCHANGE_FORMAT = BINARY
  LINES = 22507
  LINE_SAMPLES = 4855
  SAMPLE_TYPE = UNSIGNED_INTEGER
  SAMPLE_BITS = 8
  BANDS = 1
  BAND_STORAGE_TYPE = BAND_SEQUENTIAL
  MAXIMUM = 255
  MEAN = 109.53
  MINIMUM = 1
  STANDARD_DEVIATION = 30.1389
END_OBJECT = IMAGE
/* MAP OBJECT DEFINITIONS */
OBJECT = IMAGE_MAP_PROJECTION
  ^DATA_SET_MAP_PROJECTION_CATALOG= "DSMAP.CAT"
  A_AXIS_RADIUS = 3396.0
  B_AXIS_RADIUS = 3396.0
  C_AXIS_RADIUS = 3396.0
  CENTER_LATITUDE = 0.0
  CENTER_LONGITUDE = 110.0
  COORDINATE_SYSTEM_NAME = PLANETOGRAPHIC
  COORDINATE_SYSTEM_TYPE = "BODY-FIXED ROTATING"
  EASTERNMOST_LONGITUDE = 110.662
  FIRST_STANDARD_PARALLEL = "N/A"
  LINE_FIRST_PIXEL = 1
  LINE_LAST_PIXEL = 22507
  LINE_PROJECTION_OFFSET = 3738.0
  MAP_PROJECTION_ROTATION = 0.0
  MAP_PROJECTION_TYPE = SINUSOIDAL
  MAP_RESOLUTION = 2370.85521546667
  MAP_SCALE = 0.025
  MAXIMUM_LATITUDE = 1.57668
  MINIMUM_LATITUDE = -7.91608
  POSITIVE_LONGITUDE_DIRECTION = EAST
  REFERENCE_LATITUDE = "N/A"
  REFERENCE_LONGITUDE = "N/A"
  SAMPLE_FIRST_PIXEL = 1
  SAMPLE_LAST_PIXEL = 4855
  SAMPLE_PROJECTION_OFFSET = 3300.0
  SECOND_STANDARD_PARALLEL = "N/A"
  WESTERNMOST_LONGITUDE = 108.595
END_OBJECT = IMAGE_MAP_PROJECTION
END
