PDS_VERSION_ID = PDS3
/* FILE DATA ELEMENTS */
RECORD_TYPE = UNDEFINED
/* POINTERS TO DATA OBJECTS */
^IMAGE = ("HB495_0000_RE4.TIF")
/* IDENTIFICATION DATA ELEMENTS */
DATA_SET_ID = "MEX-M-HRSC-4-REFDR-MAPPROJECT-EXT4-V4.0"
DATA_SET_NAME = "MARS EXPRESS HRSC MAP PROJECTED REFDR EXTENSION4 V4.0"
DETECTOR_ID = MEX_HRSC_RED
EVENT_TYPE = "MARS-REGIONAL-MAPPING-Im-Fl"
INSTRUMENT_HOST_ID = MEX
INSTRUMENT_HOST_NAME = "MARS EXPRESS"
INSTRUMENT_ID = HRSC
INSTRUMENT_NAME = "HIGH RESOLUTION STEREO CAMERA"
MISSION_NAME = "MARS EXPRESS"
MISSION_PHASE_NAME = ME_Phase_27
PROCESSING_LEVEL_ID = 4
PRODUCT_CREATION_TIME = 2023-01-30T11:30:59.000Z
PRODUCT_ID = "HB495_0000_RE4.TIF"
RELEASE_ID = 0001
REVISION_ID = 0000
/* QUALITY DATA ELEMENTS */
DATA_QUALITY_ID = 1
DATA_QUALITY_DESC = "Data calculated based on original SPICE kernels"
/* TIME DATA ELEMENTS */
SPACECRAFT_CLOCK_START_COUNT = "1/0306121702.09028"
SPACECRAFT_CLOCK_STOP_COUNT = "1/0306122110.42937"
START_TIME = 2013-01-13T01:51:00.400Z
STOP_TIME = 2013-01-13T01:54:39.806Z
/* ORBITAL DATA ELEMENTS */
ASCENDING_NODE_LONGITUDE = 358.12
MAXIMUM_RESOLUTION = 0.143
FOOTPRINT_POINT_LATITUDE = (-18.3687,-18.367,-18.3651,-18.3627, -18.3596,-18.3559,-18.3511,-18.3461, -18.3404,-18.335,-18.3282,-18.3208, -18.3128,-18.3053,-18.3042,-18.2976, -18.6279,-18.8811,-19.2198,-19.5601, -19.9889,-20.3339,-20.5936,-20.8553, -21.2054,-21.558,-21.9133,-22.1771, -22.4473,-22.7228,-23.087,-23.4529, -23.8199,-24.0052,-24.1909,-24.3769, -24.5639,-24.7516,-25.034,-25.2236, -25.4138,-25.6044,-25.7953,-26.0844, -26.2777,-26.4715,-26.6659,-26.8613, -27.0569,-27.2534,-27.3519,-27.3557, -27.371,-27.3889,-27.3988,-27.412, -27.4186,-27.423,-27.4265,-27.4287, -27.429,-27.429,-27.4272,-27.4242, -27.424,-27.4218,-27.2253,-27.0293, -26.8342,-26.6396,-26.4455,-26.2522, -26.0606,-25.8687,-25.5826,-25.2985, -25.1092,-24.9207,-24.7332,-24.5467, -24.2666,-23.9811,-23.6172,-23.1571, -22.7928,-22.4316,-21.9826,-21.6267, -21.2733,-21.01,-20.7478,-20.401, -20.1412,-19.7976,-19.4564,-19.0312, -18.6962,-18.4449,-18.3609,-18.3687)
FOOTPRINT_POINT_LONGITUDE = (315.616,315.294,315.06,314.826,314.592 ,314.358,314.094,313.86,313.625,313.42, 313.186,312.95,312.715,312.508,312.478, 312.468,312.441,312.422,312.396,312.37, 312.336,312.308,312.286,312.265,312.235 ,312.204,312.173,312.148,312.124, 312.102,312.069,312.034,311.999,311.982 ,311.964,311.946,311.927,311.909,311.88 ,311.861,311.842,311.823,311.803, 311.773,311.753,311.732,311.711,311.691 ,311.669,311.647,311.637,311.636,312.01 ,312.511,312.844,313.385,313.758, 314.049,314.34,314.631,314.964,315.254, 315.67,316.044,316.086,316.1,316.086, 316.072,316.059,316.045,316.032,316.02, 316.007,315.994,315.976,315.958,315.946 ,315.935,315.923,315.912,315.896, 315.882,315.86,315.836,315.817,315.798, 315.776,315.759,315.743,315.73,315.718, 315.703,315.691,315.677,315.663,315.646 ,315.632,315.623,315.62,315.616)
ORBIT_NUMBER = 11495
ORBITAL_ECCENTRICITY = 0.575
ORBITAL_INCLINATION = 86.89
ORBITAL_SEMIMAJOR_AXIS = 8833.91
PERIAPSIS_ALTITUDE = 359.18
PERIAPSIS_ARGUMENT_ANGLE = 155.62
PERIAPSIS_TIME = 2013-01-13T01:37:51.000Z
SPACECRAFT_ORIENTATION = (0.0,-1.0,0.0)
^MEX_ORIENTATION_DESC = "MEX_ORIENTATION_DESC.TXT"
SPACECRAFT_POINTING_MODE = ACROSSTRACK
^MEX_POINTING_DESC = "MEX_POINTING_DESC.TXT"
RIGHT_ASCENSION = -1e+32
DECLINATION = -1e+32
OFFSET_ANGLE = -0.2
SPACECRAFT_SOLAR_DISTANCE = 2.06806e+08
TARGET_NAME = MARS
/* CAMERA DATA ELEMENTS */
DETECTOR_TEMPERATURE = 19.39
FOCAL_PLANE_TEMPERATURE = 9.195
INST_CMPRS_NAME = "DISCRETE COSINE TRANSFORMATION (DCT)"
INST_CMPRS_RATIO = 22.9844
INST_CMPRS_QUALITY = 0
INST_CMPRS_QUANTZ_TBL_ID = 0
INSTRUMENT_TEMPERATURE = 12.0496
LENS_TEMPERATURE = 9.6028
MACROPIXEL_SIZE = 4
MISSING_FRAMES = 0
PIXEL_SUBSAMPLING_FLAG = N
SIGNAL_CHAIN_ID = 2
/* RADIOMETRIC DATA ELEMENTS */
BANDWIDTH = 48.0
CENTER_FILTER_WAVELENGTH = 748.0
RADIANCE_OFFSET = 0.974868
RADIANCE_SCALING_FACTOR = 0.00179204
REFLECTANCE_SCALING_FACTOR = 0.000174904
MEX:REFLECTANCE_OFFSET = 0.095148
/* IMAGE OBJECT DEFINITIONS */
OBJECT = IMAGE
  INTERCHANGE_FORMAT = BINARY
  LINES = 5409
  LINE_SAMPLES = 2012
  SAMPLE_TYPE = UNSIGNED_INTEGER
  SAMPLE_BITS = 8
  BANDS = 1
  BAND_STORAGE_TYPE = BAND_SEQUENTIAL
  MAXIMUM = 255
  MEAN = 106.333
  MINIMUM = 1
  STANDARD_DEVIATION = 42.5894
END_OBJECT = IMAGE
/* MAP OBJECT DEFINITIONS */
OBJECT = IMAGE_MAP_PROJECTION
  ^DATA_SET_MAP_PROJECTION_CATALOG= "DSMAP.CAT"
  A_AXIS_RADIUS = 3396.0
  B_AXIS_RADIUS = 3396.0
  C_AXIS_RADIUS = 3396.0
  CENTER_LATITUDE = 0.0
  CENTER_LONGITUDE = 314.0
  COORDINATE_SYSTEM_NAME = PLANETOGRAPHIC
  COORDINATE_SYSTEM_TYPE = "BODY-FIXED ROTATING"
  EASTERNMOST_LONGITUDE = 316.1
  FIRST_STANDARD_PARALLEL = "N/A"
  LINE_FIRST_PIXEL = 1
  LINE_LAST_PIXEL = 5409
  LINE_PROJECTION_OFFSET = -10855.125
  MAP_PROJECTION_ROTATION = 0.0
  MAP_PROJECTION_TYPE = SINUSOIDAL
  MAP_RESOLUTION = 592.713803866667
  MAP_SCALE = 0.1
  MAXIMUM_LATITUDE = -18.2976
  MINIMUM_LATITUDE = -27.429
  POSITIVE_LONGITUDE_DIRECTION = EAST
  REFERENCE_LATITUDE = "N/A"
  REFERENCE_LONGITUDE = "N/A"
  SAMPLE_FIRST_PIXEL = 1
  SAMPLE_LAST_PIXEL = 2012
  SAMPLE_PROJECTION_OFFSET = 1067.625
  SECOND_STANDARD_PARALLEL = "N/A"
  WESTERNMOST_LONGITUDE = 311.636
END_OBJECT = IMAGE_MAP_PROJECTION
END
