PDS_VERSION_ID = PDS3
/* FILE DATA ELEMENTS */
RECORD_TYPE = UNDEFINED
/* POINTERS TO DATA OBJECTS */
^IMAGE = ("HB479_0000_ND4.TIF")
/* IDENTIFICATION DATA ELEMENTS */
DATA_SET_ID = "MEX-M-HRSC-4-REFDR-MAPPROJECT-EXT4-V4.0"
DATA_SET_NAME = "MARS EXPRESS HRSC MAP PROJECTED REFDR EXTENSION4 V4.0"
DETECTOR_ID = MEX_HRSC_NADIR
EVENT_TYPE = "MARS-REGIONAL-MAPPING-Im-Fl"
INSTRUMENT_HOST_ID = MEX
INSTRUMENT_HOST_NAME = "MARS EXPRESS"
INSTRUMENT_ID = HRSC
INSTRUMENT_NAME = "HIGH RESOLUTION STEREO CAMERA"
MISSION_NAME = "MARS EXPRESS"
MISSION_PHASE_NAME = ME_Phase_27
PROCESSING_LEVEL_ID = 4
PRODUCT_CREATION_TIME = 2023-01-30T11:30:59.000Z
PRODUCT_ID = "HB479_0000_ND4.TIF"
RELEASE_ID = 0001
REVISION_ID = 0000
/* QUALITY DATA ELEMENTS */
DATA_QUALITY_ID = 1
DATA_QUALITY_DESC = "Data calculated based on original SPICE kernels"
/* TIME DATA ELEMENTS */
SPACECRAFT_CLOCK_START_COUNT = "1/0305718966.09038"
SPACECRAFT_CLOCK_STOP_COUNT = "1/0305719323.39090"
START_TIME = 2013-01-08T09:57:03.400Z
STOP_TIME = 2013-01-08T10:00:22.445Z
/* ORBITAL DATA ELEMENTS */
ASCENDING_NODE_LONGITUDE = 358.42
MAXIMUM_RESOLUTION = 0.0233
FOOTPRINT_POINT_LATITUDE = (-10.7797,-10.7769,-10.7735,-10.7698, -10.7657,-10.7604,-10.7546,-10.7542, -10.7544,-11.0463,-11.4407,-11.8371, -12.237,-12.6412,-13.0479,-13.4579, -13.8728,-14.3956,-14.7119,-14.9246, -15.1369,-15.3521,-15.6745,-15.892, -16.1094,-16.4384,-16.658,-16.9911, -17.2131,-17.4378,-17.6624,-17.8892, -18.1163,-18.3452,-18.5745,-18.8054, -19.0371,-19.2703,-19.5043,-19.7399, -19.9761,-20.2142,-20.4526,-20.6933, -21.0559,-21.2989,-21.5439,-21.6665, -21.6843,-21.689,-21.6964,-21.7007, -21.7035,-21.7074,-21.7106,-21.7128, -21.7136,-21.7142,-21.7142,-21.7138, -21.346,-21.1031,-20.8606,-20.6198, -20.2609,-20.0226,-19.7863,-19.5506, -19.3166,-19.0831,-18.8513,-18.6202, -18.3908,-18.1617,-17.9347,-17.7076, -17.483,-17.258,-16.9247,-16.7025, -16.4826,-16.1533,-15.9359,-15.7181, -15.5032,-15.2879,-14.9677,-14.7549, -14.3331,-14.0186,-13.7072,-13.2946, -12.8846,-12.4794,-12.0777,-11.6779, -11.283,-10.8911,-10.7937,-10.7797)
FOOTPRINT_POINT_LONGITUDE = (151.114,150.826,150.499,150.172, 149.846,149.46,149.074,149.054,149.044, 149.031,149.015,148.998,148.981,148.963 ,148.945,148.926,148.907,148.881, 148.866,148.855,148.845,148.834,148.819 ,148.808,148.798,148.781,148.768,148.75 ,148.739,148.727,148.715,148.703, 148.692,148.68,148.667,148.654,148.641, 148.628,148.615,148.602,148.588,148.574 ,148.559,148.545,148.524,148.509, 148.494,148.486,148.485,148.742,149.199 ,149.513,149.742,150.114,150.515, 150.889,151.119,151.35,151.379,151.393, 151.38,151.371,151.362,151.354,151.342, 151.333,151.326,151.318,151.31,151.303, 151.298,151.291,151.284,151.275,151.268 ,151.262,151.255,151.249,151.24,151.234 ,151.231,151.223,151.216,151.211, 151.206,151.202,151.195,151.19,151.181, 151.174,151.168,151.16,151.152,151.145, 151.137,151.13,151.127,151.121,151.119, 151.114)
ORBIT_NUMBER = 11479
ORBITAL_ECCENTRICITY = 0.576
ORBITAL_INCLINATION = 86.87
ORBITAL_SEMIMAJOR_AXIS = 8840.41
PERIAPSIS_ALTITUDE = 357.68
PERIAPSIS_ARGUMENT_ANGLE = 158.41
PERIAPSIS_TIME = 2013-01-08T09:48:23.000Z
SPACECRAFT_ORIENTATION = (0.0,-1.0,0.0)
^MEX_ORIENTATION_DESC = "MEX_ORIENTATION_DESC.TXT"
SPACECRAFT_POINTING_MODE = ACROSSTRACK
^MEX_POINTING_DESC = "MEX_POINTING_DESC.TXT"
RIGHT_ASCENSION = -1e+32
DECLINATION = -1e+32
OFFSET_ANGLE = 0.25
SPACECRAFT_SOLAR_DISTANCE = 2.06943e+08
TARGET_NAME = MARS
/* CAMERA DATA ELEMENTS */
DETECTOR_TEMPERATURE = 18.5744
FOCAL_PLANE_TEMPERATURE = 8.3794
INST_CMPRS_NAME = "DISCRETE COSINE TRANSFORMATION (DCT)"
INST_CMPRS_RATIO = 5.91495
INST_CMPRS_QUALITY = 0
INST_CMPRS_QUANTZ_TBL_ID = 0
INSTRUMENT_TEMPERATURE = 11.6418
LENS_TEMPERATURE = 8.7872
MACROPIXEL_SIZE = 1
MISSING_FRAMES = 0
PIXEL_SUBSAMPLING_FLAG = N
SIGNAL_CHAIN_ID = 0
/* RADIOMETRIC DATA ELEMENTS */
BANDWIDTH = 177.0
CENTER_FILTER_WAVELENGTH = 677.5
RADIANCE_OFFSET = 2.52328
RADIANCE_SCALING_FACTOR = 0.0121486
REFLECTANCE_SCALING_FACTOR = 0.000276384
MEX:REFLECTANCE_OFFSET = 0.0574054
/* IMAGE OBJECT DEFINITIONS */
OBJECT = IMAGE
  INTERCHANGE_FORMAT = BINARY
  LINES = 25985
  LINE_SAMPLES = 6407
  SAMPLE_TYPE = UNSIGNED_INTEGER
  SAMPLE_BITS = 8
  BANDS = 1
  BAND_STORAGE_TYPE = BAND_SEQUENTIAL
  MAXIMUM = 255
  MEAN = 97.7999
  MINIMUM = 1
  STANDARD_DEVIATION = 29.8404
END_OBJECT = IMAGE
/* MAP OBJECT DEFINITIONS */
OBJECT = IMAGE_MAP_PROJECTION
  ^DATA_SET_MAP_PROJECTION_CATALOG= "DSMAP.CAT"
  A_AXIS_RADIUS = 3396.0
  B_AXIS_RADIUS = 3396.0
  C_AXIS_RADIUS = 3396.0
  CENTER_LATITUDE = 0.0
  CENTER_LONGITUDE = 150.0
  COORDINATE_SYSTEM_NAME = PLANETOGRAPHIC
  COORDINATE_SYSTEM_TYPE = "BODY-FIXED ROTATING"
  EASTERNMOST_LONGITUDE = 151.393
  FIRST_STANDARD_PARALLEL = "N/A"
  LINE_FIRST_PIXEL = 1
  LINE_LAST_PIXEL = 25985
  LINE_PROJECTION_OFFSET = -25497.0
  MAP_PROJECTION_ROTATION = 0.0
  MAP_PROJECTION_TYPE = SINUSOIDAL
  MAP_RESOLUTION = 2370.85521546667
  MAP_SCALE = 0.025
  MAXIMUM_LATITUDE = -10.7542
  MINIMUM_LATITUDE = -21.7142
  POSITIVE_LONGITUDE_DIRECTION = EAST
  REFERENCE_LATITUDE = "N/A"
  REFERENCE_LONGITUDE = "N/A"
  SAMPLE_FIRST_PIXEL = 1
  SAMPLE_LAST_PIXEL = 6407
  SAMPLE_PROJECTION_OFFSET = 3337.0
  SECOND_STANDARD_PARALLEL = "N/A"
  WESTERNMOST_LONGITUDE = 148.485
END_OBJECT = IMAGE_MAP_PROJECTION
END
