PDS_VERSION_ID = PDS3
/* FILE DATA ELEMENTS */
RECORD_TYPE = UNDEFINED
/* POINTERS TO DATA OBJECTS */
^IMAGE = ("HB470_0000_P14.TIF")
/* IDENTIFICATION DATA ELEMENTS */
DATA_SET_ID = "MEX-M-HRSC-4-REFDR-MAPPROJECT-EXT4-V4.0"
DATA_SET_NAME = "MARS EXPRESS HRSC MAP PROJECTED REFDR EXTENSION4 V4.0"
DETECTOR_ID = MEX_HRSC_P1
EVENT_TYPE = "MARS-REGIONAL-MAPPING-Im-Fl-Lc"
INSTRUMENT_HOST_ID = MEX
INSTRUMENT_HOST_NAME = "MARS EXPRESS"
INSTRUMENT_ID = HRSC
INSTRUMENT_NAME = "HIGH RESOLUTION STEREO CAMERA"
MISSION_NAME = "MARS EXPRESS"
MISSION_PHASE_NAME = ME_Phase_27
PROCESSING_LEVEL_ID = 4
PRODUCT_CREATION_TIME = 2023-01-30T11:30:59.000Z
PRODUCT_ID = "HB470_0000_P14.TIF"
RELEASE_ID = 0001
REVISION_ID = 0000
/* QUALITY DATA ELEMENTS */
DATA_QUALITY_ID = 1
DATA_QUALITY_DESC = "Data calculated based on original SPICE kernels"
/* TIME DATA ELEMENTS */
SPACECRAFT_CLOCK_START_COUNT = "1/0305492682.09061"
SPACECRAFT_CLOCK_STOP_COUNT = "1/0305493090.54893"
START_TIME = 2013-01-05T19:05:09.542Z
STOP_TIME = 2013-01-05T19:07:48.656Z
/* ORBITAL DATA ELEMENTS */
ASCENDING_NODE_LONGITUDE = 358.6
MAXIMUM_RESOLUTION = 0.0595
FOOTPRINT_POINT_LATITUDE = (-23.3339,-23.329,-23.327,-23.3227, -23.3187,-23.3155,-23.3128,-23.3099, -23.3059,-23.3028,-23.3024,-23.3197, -23.6478,-24.1328,-24.4617,-24.7937, -25.0439,-25.3807,-25.7194,-26.1462, -26.5775,-26.9245,-27.0994,-27.2747, -27.4533,-27.8054,-28.0727,-28.3421, -28.5225,-28.7038,-28.8857,-29.0674, -29.251,-29.4346,-29.6196,-29.807, -30.085,-30.2721,-30.4608,-30.6495, -30.8391,-31.0292,-31.3172,-31.6064, -31.7996,-32.0921,-32.1896,-32.1958, -32.1994,-32.2043,-32.2079,-32.2116, -32.2152,-32.2183,-32.22,-32.2222, -32.2233,-32.2244,-32.2253,-32.2252, -32.2252,-32.224,-32.0291,-31.737, -31.5438,-31.2564,-31.0649,-30.8746, -30.6844,-30.4952,-30.3063,-30.1194, -29.9325,-29.7473,-29.4709,-29.2864, -29.1035,-28.8295,-28.6474,-28.4671, -28.1969,-28.0181,-27.8392,-27.6623, -27.4852,-27.3088,-27.1333,-26.7885, -26.4373,-26.0935,-25.7526,-25.4145, -25.0779,-24.8278,-24.4132,-24.0842, -23.8392,-23.4331,-23.3523,-23.3339)
FOOTPRINT_POINT_LONGITUDE = (351.041,350.483,350.27,349.872,349.527 ,349.262,349.05,348.838,348.545,348.333 ,348.306,348.289,348.268,348.242, 348.223,348.203,348.189,348.168,348.147 ,348.121,348.094,348.072,348.061,348.05 ,348.037,348.016,347.998,347.98,347.968 ,347.956,347.944,347.932,347.919, 347.907,347.894,347.88,347.861,347.848, 347.834,347.821,347.807,347.794,347.772 ,347.751,347.736,347.714,347.707, 347.707,347.958,348.32,348.572,348.933, 349.293,349.617,349.869,350.23,350.554, 350.878,351.095,351.384,351.42,351.433, 351.422,351.405,351.395,351.379,351.369 ,351.359,351.349,351.339,351.329, 351.319,351.31,351.301,351.288,351.279, 351.271,351.258,351.249,351.241,351.229 ,351.221,351.213,351.206,351.198, 351.191,351.184,351.172,351.156,351.143 ,351.13,351.118,351.106,351.097,351.082 ,351.072,351.063,351.05,351.048, 351.041)
ORBIT_NUMBER = 11470
ORBITAL_ECCENTRICITY = 0.576
ORBITAL_INCLINATION = 86.88
ORBITAL_SEMIMAJOR_AXIS = 8840.06
PERIAPSIS_ALTITUDE = 356.45
PERIAPSIS_ARGUMENT_ANGLE = 159.91
PERIAPSIS_TIME = 2013-01-05T18:54:00.000Z
SPACECRAFT_ORIENTATION = (0.0,-1.0,0.0)
^MEX_ORIENTATION_DESC = "MEX_ORIENTATION_DESC.TXT"
SPACECRAFT_POINTING_MODE = NADIR
^MEX_POINTING_DESC = "MEX_POINTING_DESC.TXT"
RIGHT_ASCENSION = -1e+32
DECLINATION = -1e+32
OFFSET_ANGLE = -1e+32
SPACECRAFT_SOLAR_DISTANCE = 2.0704e+08
TARGET_NAME = MARS
/* CAMERA DATA ELEMENTS */
DETECTOR_TEMPERATURE = 17.5549
FOCAL_PLANE_TEMPERATURE = 8.5833
INST_CMPRS_NAME = "DISCRETE COSINE TRANSFORMATION (DCT)"
INST_CMPRS_RATIO = 13.4558
INST_CMPRS_QUALITY = 0
INST_CMPRS_QUANTZ_TBL_ID = 0
INSTRUMENT_TEMPERATURE = 11.6418
LENS_TEMPERATURE = 8.5833
MACROPIXEL_SIZE = 2
MISSING_FRAMES = 0
PIXEL_SUBSAMPLING_FLAG = N
SIGNAL_CHAIN_ID = 3
/* RADIOMETRIC DATA ELEMENTS */
BANDWIDTH = 174.0
CENTER_FILTER_WAVELENGTH = 675.0
RADIANCE_OFFSET = 3.03183
RADIANCE_SCALING_FACTOR = 0.00800979
REFLECTANCE_SCALING_FACTOR = 0.000184678
MEX:REFLECTANCE_OFFSET = 0.0699036
/* IMAGE OBJECT DEFINITIONS */
OBJECT = IMAGE
  INTERCHANGE_FORMAT = BINARY
  LINES = 10558
  LINE_SAMPLES = 4070
  SAMPLE_TYPE = UNSIGNED_INTEGER
  SAMPLE_BITS = 8
  BANDS = 1
  BAND_STORAGE_TYPE = BAND_SEQUENTIAL
  MAXIMUM = 255
  MEAN = 98.2011
  MINIMUM = 1
  STANDARD_DEVIATION = 32.6514
END_OBJECT = IMAGE
/* MAP OBJECT DEFINITIONS */
OBJECT = IMAGE_MAP_PROJECTION
  ^DATA_SET_MAP_PROJECTION_CATALOG= "DSMAP.CAT"
  A_AXIS_RADIUS = 3396.0
  B_AXIS_RADIUS = 3396.0
  C_AXIS_RADIUS = 3396.0
  CENTER_LATITUDE = 0.0
  CENTER_LONGITUDE = 350.0
  COORDINATE_SYSTEM_NAME = PLANETOGRAPHIC
  COORDINATE_SYSTEM_TYPE = "BODY-FIXED ROTATING"
  EASTERNMOST_LONGITUDE = 351.433
  FIRST_STANDARD_PARALLEL = "N/A"
  LINE_FIRST_PIXEL = 1
  LINE_LAST_PIXEL = 10558
  LINE_PROJECTION_OFFSET = -27608.25
  MAP_PROJECTION_ROTATION = 0.0
  MAP_PROJECTION_TYPE = SINUSOIDAL
  MAP_RESOLUTION = 1185.42760773333
  MAP_SCALE = 0.05
  MAXIMUM_LATITUDE = -23.3024
  MINIMUM_LATITUDE = -32.2253
  POSITIVE_LONGITUDE_DIRECTION = EAST
  REFERENCE_LATITUDE = "N/A"
  REFERENCE_LONGITUDE = "N/A"
  SAMPLE_FIRST_PIXEL = 1
  SAMPLE_LAST_PIXEL = 4070
  SAMPLE_PROJECTION_OFFSET = 2463.75
  SECOND_STANDARD_PARALLEL = "N/A"
  WESTERNMOST_LONGITUDE = 347.707
END_OBJECT = IMAGE_MAP_PROJECTION
END
