PDS_VERSION_ID = PDS3
/* FILE DATA ELEMENTS */
RECORD_TYPE = UNDEFINED
/* POINTERS TO DATA OBJECTS */
^IMAGE = ("HB469_0000_RE4.TIF")
/* IDENTIFICATION DATA ELEMENTS */
DATA_SET_ID = "MEX-M-HRSC-4-REFDR-MAPPROJECT-EXT4-V4.0"
DATA_SET_NAME = "MARS EXPRESS HRSC MAP PROJECTED REFDR EXTENSION4 V4.0"
DETECTOR_ID = MEX_HRSC_RED
EVENT_TYPE = "MARS-REGIONAL-MAPPING-Te-Fl-Lc"
INSTRUMENT_HOST_ID = MEX
INSTRUMENT_HOST_NAME = "MARS EXPRESS"
INSTRUMENT_ID = HRSC
INSTRUMENT_NAME = "HIGH RESOLUTION STEREO CAMERA"
MISSION_NAME = "MARS EXPRESS"
MISSION_PHASE_NAME = ME_Phase_27
PROCESSING_LEVEL_ID = 4
PRODUCT_CREATION_TIME = 2023-01-30T11:30:59.000Z
PRODUCT_ID = "HB469_0000_RE4.TIF"
RELEASE_ID = 0001
REVISION_ID = 0000
/* QUALITY DATA ELEMENTS */
DATA_QUALITY_ID = 1
DATA_QUALITY_DESC = "Data calculated based on original SPICE kernels"
/* TIME DATA ELEMENTS */
SPACECRAFT_CLOCK_START_COUNT = "1/0305467342.09031"
SPACECRAFT_CLOCK_STOP_COUNT = "1/0305467868.39124"
START_TIME = 2013-01-05T12:04:12.411Z
STOP_TIME = 2013-01-05T12:10:41.027Z
/* ORBITAL DATA ELEMENTS */
ASCENDING_NODE_LONGITUDE = 358.62
MAXIMUM_RESOLUTION = 0.1044
FOOTPRINT_POINT_LATITUDE = (-12.3536,-12.3722,-12.3821,-12.3908, -12.3983,-12.4048,-12.4102,-12.4105, -12.4228,-12.8719,-13.3264,-13.9328, -14.712,-15.3398,-15.8169,-16.4597, -17.1092,-17.4385,-17.7691,-18.1018, -18.4371,-18.7742,-19.1138,-19.4573, -19.8023,-20.1503,-20.6778,-21.031, -21.5615,-21.9214,-22.463,-22.834, -23.2011,-23.5701,-23.944,-24.3204, -24.701,-25.083,-25.467,-26.0427, -26.4345,-26.8307,-27.2287,-27.6304, -28.0349,-28.4426,-28.854,-29.2715, -29.8972,-30.1082,-30.1269,-30.1246, -30.1124,-30.0989,-30.0716,-30.0467, -30.0134,-30.0097,-30.0071,-29.5853, -29.1767,-28.5609,-28.153,-27.7494, -27.3482,-26.7519,-26.1727,-25.7806, -25.3932,-25.0109,-24.44,-23.878, -23.5094,-22.9578,-22.4103,-22.0484, -21.6889,-21.3284,-20.976,-20.4488, -20.0995,-19.7516,-19.4073,-19.0657, -18.7269,-18.3898,-17.8831,-17.5559, -17.2264,-16.8994,-16.2512,-15.6114, -14.9803,-14.5112,-14.0459,-13.4328, -12.9795,-12.5287,-12.3784,-12.3536)
FOOTPRINT_POINT_LONGITUDE = (94.2059,93.6441,93.3024,92.9633, 92.6271,92.2932,91.9608,91.9401,91.935, 91.9149,91.8943,91.8659,91.8291,91.7985 ,91.7749,91.7422,91.7084,91.691,91.6732 ,91.6551,91.6367,91.6179,91.5988, 91.5793,91.5594,91.5392,91.5082,91.4868 ,91.4536,91.4311,91.3962,91.373,91.3485 ,91.3235,91.2982,91.2722,91.2458, 91.2186,91.1907,91.1468,91.1172,91.0871 ,91.0562,91.0245,90.9921,90.9588, 90.9248,90.8903,90.8359,90.8174,90.8157 ,91.5333,92.3762,92.9411,93.8345, 94.4474,95.1071,95.1493,95.163,95.1274, 95.0871,95.0341,95.0009,94.9683,94.9368 ,94.8918,94.8423,94.8163,94.79,94.7634, 94.7263,94.6892,94.6639,94.6292,94.5977 ,94.5772,94.5575,94.5409,94.5211, 94.4947,94.4781,94.4626,94.4469,94.4313 ,94.4163,94.4021,94.3845,94.3685, 94.3557,94.3429,94.3188,94.296,94.2744, 94.2596,94.2457,94.2276,94.2138,94.2017 ,94.1981,94.2059)
ORBIT_NUMBER = 11469
ORBITAL_ECCENTRICITY = 0.576
ORBITAL_INCLINATION = 86.88
ORBITAL_SEMIMAJOR_AXIS = 8848.13
PERIAPSIS_ALTITUDE = 355.43
PERIAPSIS_ARGUMENT_ANGLE = 160.09
PERIAPSIS_TIME = 2013-01-05T11:54:40.000Z
SPACECRAFT_ORIENTATION = (0.0,-1.0,0.0)
^MEX_ORIENTATION_DESC = "MEX_ORIENTATION_DESC.TXT"
SPACECRAFT_POINTING_MODE = ACROSSTRACK
^MEX_POINTING_DESC = "MEX_POINTING_DESC.TXT"
RIGHT_ASCENSION = -1e+32
DECLINATION = -1e+32
OFFSET_ANGLE = 1.0
SPACECRAFT_SOLAR_DISTANCE = 2.07052e+08
TARGET_NAME = MARS
/* CAMERA DATA ELEMENTS */
DETECTOR_TEMPERATURE = 18.7783
FOCAL_PLANE_TEMPERATURE = 8.1755
INST_CMPRS_NAME = "DISCRETE COSINE TRANSFORMATION (DCT)"
INST_CMPRS_RATIO = 28.1564
INST_CMPRS_QUALITY = 0
INST_CMPRS_QUANTZ_TBL_ID = 0
INSTRUMENT_TEMPERATURE = 11.234
LENS_TEMPERATURE = 8.5833
MACROPIXEL_SIZE = 4
MISSING_FRAMES = 0
PIXEL_SUBSAMPLING_FLAG = N
SIGNAL_CHAIN_ID = 2
/* RADIOMETRIC DATA ELEMENTS */
BANDWIDTH = 48.0
CENTER_FILTER_WAVELENGTH = 748.0
RADIANCE_OFFSET = 0.519886
RADIANCE_SCALING_FACTOR = 0.00262687
REFLECTANCE_SCALING_FACTOR = 0.000256995
MEX:REFLECTANCE_OFFSET = 0.050862
/* IMAGE OBJECT DEFINITIONS */
OBJECT = IMAGE
  INTERCHANGE_FORMAT = BINARY
  LINES = 10516
  LINE_SAMPLES = 1930
  SAMPLE_TYPE = UNSIGNED_INTEGER
  SAMPLE_BITS = 8
  BANDS = 1
  BAND_STORAGE_TYPE = BAND_SEQUENTIAL
  MAXIMUM = 255
  MEAN = 106.931
  MINIMUM = 1
  STANDARD_DEVIATION = 46.6162
END_OBJECT = IMAGE
/* MAP OBJECT DEFINITIONS */
OBJECT = IMAGE_MAP_PROJECTION
  ^DATA_SET_MAP_PROJECTION_CATALOG= "DSMAP.CAT"
  A_AXIS_RADIUS = 3396.0
  B_AXIS_RADIUS = 3396.0
  C_AXIS_RADIUS = 3396.0
  CENTER_LATITUDE = 0.0
  CENTER_LONGITUDE = 93.0
  COORDINATE_SYSTEM_NAME = PLANETOGRAPHIC
  COORDINATE_SYSTEM_TYPE = "BODY-FIXED ROTATING"
  EASTERNMOST_LONGITUDE = 95.163
  FIRST_STANDARD_PARALLEL = "N/A"
  LINE_FIRST_PIXEL = 1
  LINE_LAST_PIXEL = 10516
  LINE_PROJECTION_OFFSET = -7342.375
  MAP_PROJECTION_ROTATION = 0.0
  MAP_PROJECTION_TYPE = SINUSOIDAL
  MAP_RESOLUTION = 592.713803866667
  MAP_SCALE = 0.1
  MAXIMUM_LATITUDE = -12.3536
  MINIMUM_LATITUDE = -30.1269
  POSITIVE_LONGITUDE_DIRECTION = EAST
  REFERENCE_LATITUDE = "N/A"
  REFERENCE_LONGITUDE = "N/A"
  SAMPLE_FIRST_PIXEL = 1
  SAMPLE_LAST_PIXEL = 1930
  SAMPLE_PROJECTION_OFFSET = 970.625
  SECOND_STANDARD_PARALLEL = "N/A"
  WESTERNMOST_LONGITUDE = 90.81570000000001
END_OBJECT = IMAGE_MAP_PROJECTION
END
