PDS_VERSION_ID = PDS3
/* FILE DATA ELEMENTS */
RECORD_TYPE = UNDEFINED
/* POINTERS TO DATA OBJECTS */
^IMAGE = ("HB464_0000_ND4.TIF")
/* IDENTIFICATION DATA ELEMENTS */
DATA_SET_ID = "MEX-M-HRSC-4-REFDR-MAPPROJECT-EXT4-V4.0"
DATA_SET_NAME = "MARS EXPRESS HRSC MAP PROJECTED REFDR EXTENSION4 V4.0"
DETECTOR_ID = MEX_HRSC_NADIR
EVENT_TYPE = "MARS-REGIONAL-MAPPING-Vo-Te"
INSTRUMENT_HOST_ID = MEX
INSTRUMENT_HOST_NAME = "MARS EXPRESS"
INSTRUMENT_ID = HRSC
INSTRUMENT_NAME = "HIGH RESOLUTION STEREO CAMERA"
MISSION_NAME = "MARS EXPRESS"
MISSION_PHASE_NAME = ME_Phase_27
PROCESSING_LEVEL_ID = 4
PRODUCT_CREATION_TIME = 2023-01-30T11:30:59.000Z
PRODUCT_ID = "HB464_0000_ND4.TIF"
RELEASE_ID = 0001
REVISION_ID = 0000
/* QUALITY DATA ELEMENTS */
DATA_QUALITY_ID = 1
DATA_QUALITY_DESC = "Data calculated based on original SPICE kernels"
/* TIME DATA ELEMENTS */
SPACECRAFT_CLOCK_START_COUNT = "1/0305341448.08244"
SPACECRAFT_CLOCK_STOP_COUNT = "1/0305341941.64688"
START_TIME = 2013-01-04T01:04:59.031Z
STOP_TIME = 2013-01-04T01:10:30.044Z
/* ORBITAL DATA ELEMENTS */
ASCENDING_NODE_LONGITUDE = 358.72
MAXIMUM_RESOLUTION = 0.0202
FOOTPRINT_POINT_LATITUDE = (-8.05152,-8.04841,-8.04482,-8.04049, -8.04035,-8.04092,-8.81833,-9.60699, -10.0869,-10.7326,-11.5517,-11.8815, -12.2164,-12.5508,-12.8901,-13.4009, -13.7447,-14.0912,-14.4393,-14.7914, -15.323,-15.6799,-16.0413,-16.4038, -16.7696,-17.1387,-17.5094,-17.8839, -18.2617,-18.6419,-19.0245,-19.4115, -19.8011,-20.1936,-20.5892,-20.9884, -21.3915,-21.798,-22.2074,-22.6205, -23.0371,-23.4577,-24.0953,-24.5206, -24.9442,-25.366,-25.7859,-26.2041, -26.4126,-26.44,-26.4413,-26.4393, -26.4351,-26.426,-26.4184,-26.4178, -26.4171,-26.0015,-25.5841,-25.1648, -24.7437,-24.3207,-23.8959,-23.4727, -23.0531,-22.6375,-22.2252,-21.8165, -21.4108,-21.0084,-20.6102,-20.2152, -19.8233,-19.4342,-19.0479,-18.6659, -18.097,-17.7219,-17.3491,-16.9795, -16.6132,-16.2485,-15.8877,-15.3506, -14.8194,-14.4674,-14.1198,-13.7733, -13.43,-12.9194,-12.5802,-12.2462, -11.5818,-10.7631,-10.1175,-9.63764, -8.8492,-8.2269,-8.07194,-8.05152)
FOOTPRINT_POINT_LONGITUDE = (246.024,245.325,244.726,244.148,244.13 ,244.104,244.082,244.059,244.045, 244.025,243.999,243.988,243.978,243.967 ,243.956,243.939,243.928,243.916, 243.904,243.892,243.874,243.862,243.849 ,243.836,243.823,243.809,243.796, 243.782,243.768,243.753,243.739,243.724 ,243.708,243.693,243.677,243.661, 243.645,243.628,243.611,243.593,243.575 ,243.557,243.529,243.51,243.491,243.472 ,243.452,243.433,243.423,243.421, 243.918,244.831,245.406,246.157,246.62, 246.653,246.67,246.643,246.616,246.59, 246.565,246.54,246.516,246.492,246.47, 246.445,246.427,246.406,246.386,246.367 ,246.348,246.33,246.313,246.296,246.281 ,246.265,246.243,246.229,246.215, 246.202,246.188,246.176,246.164,246.146 ,246.13,246.119,246.109,246.099,246.089 ,246.076,246.067,246.058,246.043, 246.025,246.011,246.002,245.987,245.976 ,245.973,246.024)
ORBIT_NUMBER = 11464
ORBITAL_ECCENTRICITY = 0.577
ORBITAL_INCLINATION = 86.87
ORBITAL_SEMIMAJOR_AXIS = 8856.18
PERIAPSIS_ALTITUDE = 355.07
PERIAPSIS_ARGUMENT_ANGLE = 160.95
PERIAPSIS_TIME = 2013-01-04T00:57:49.000Z
SPACECRAFT_ORIENTATION = (0.0,-1.0,0.0)
^MEX_ORIENTATION_DESC = "MEX_ORIENTATION_DESC.TXT"
SPACECRAFT_POINTING_MODE = ACROSSTRACK
^MEX_POINTING_DESC = "MEX_POINTING_DESC.TXT"
RIGHT_ASCENSION = -1e+32
DECLINATION = -1e+32
OFFSET_ANGLE = 1.831
SPACECRAFT_SOLAR_DISTANCE = 2.07113e+08
TARGET_NAME = MARS
/* CAMERA DATA ELEMENTS */
DETECTOR_TEMPERATURE = 17.7588
FOCAL_PLANE_TEMPERATURE = 7.9716
INST_CMPRS_NAME = "DISCRETE COSINE TRANSFORMATION (DCT)"
INST_CMPRS_RATIO = 6.9205
INST_CMPRS_QUALITY = 0
INST_CMPRS_QUANTZ_TBL_ID = 0
INSTRUMENT_TEMPERATURE = 11.4379
LENS_TEMPERATURE = 8.1755
MACROPIXEL_SIZE = 1
MISSING_FRAMES = 0
PIXEL_SUBSAMPLING_FLAG = N
SIGNAL_CHAIN_ID = 0
/* RADIOMETRIC DATA ELEMENTS */
BANDWIDTH = 177.0
CENTER_FILTER_WAVELENGTH = 677.5
RADIANCE_OFFSET = 2.24845
RADIANCE_SCALING_FACTOR = 0.0116478
REFLECTANCE_SCALING_FACTOR = 0.000265425
MEX:REFLECTANCE_OFFSET = 0.051237
/* IMAGE OBJECT DEFINITIONS */
OBJECT = IMAGE
  INTERCHANGE_FORMAT = BINARY
  LINES = 43625
  LINE_SAMPLES = 6898
  SAMPLE_TYPE = UNSIGNED_INTEGER
  SAMPLE_BITS = 8
  BANDS = 1
  BAND_STORAGE_TYPE = BAND_SEQUENTIAL
  MAXIMUM = 255
  MEAN = 81.1222
  MINIMUM = 1
  STANDARD_DEVIATION = 25.8211
END_OBJECT = IMAGE
/* MAP OBJECT DEFINITIONS */
OBJECT = IMAGE_MAP_PROJECTION
  ^DATA_SET_MAP_PROJECTION_CATALOG= "DSMAP.CAT"
  A_AXIS_RADIUS = 3396.0
  B_AXIS_RADIUS = 3396.0
  C_AXIS_RADIUS = 3396.0
  CENTER_LATITUDE = 0.0
  CENTER_LONGITUDE = 245.0
  COORDINATE_SYSTEM_NAME = PLANETOGRAPHIC
  COORDINATE_SYSTEM_TYPE = "BODY-FIXED ROTATING"
  EASTERNMOST_LONGITUDE = 246.67
  FIRST_STANDARD_PARALLEL = "N/A"
  LINE_FIRST_PIXEL = 1
  LINE_LAST_PIXEL = 43625
  LINE_PROJECTION_OFFSET = -19064.0
  MAP_PROJECTION_ROTATION = 0.0
  MAP_PROJECTION_TYPE = SINUSOIDAL
  MAP_RESOLUTION = 2370.85521546667
  MAP_SCALE = 0.025
  MAXIMUM_LATITUDE = -8.04035
  MINIMUM_LATITUDE = -26.4413
  POSITIVE_LONGITUDE_DIRECTION = EAST
  REFERENCE_LATITUDE = "N/A"
  REFERENCE_LONGITUDE = "N/A"
  SAMPLE_FIRST_PIXEL = 1
  SAMPLE_LAST_PIXEL = 6898
  SAMPLE_PROJECTION_OFFSET = 3351.0
  SECOND_STANDARD_PARALLEL = "N/A"
  WESTERNMOST_LONGITUDE = 243.421
END_OBJECT = IMAGE_MAP_PROJECTION
END
