PDS_VERSION_ID = PDS3
/* FILE DATA ELEMENTS */
RECORD_TYPE = UNDEFINED
/* POINTERS TO DATA OBJECTS */
^IMAGE = ("HB404_0000_GR4.TIF")
/* IDENTIFICATION DATA ELEMENTS */
DATA_SET_ID = "MEX-M-HRSC-4-REFDR-MAPPROJECT-EXT3-V4.0"
DATA_SET_NAME = "MARS EXPRESS HRSC MAP PROJECTED REFDR EXTENSION3 V4.0"
DETECTOR_ID = MEX_HRSC_GREEN
EVENT_TYPE = "MARS-TERMINATOR-VARIABLE-Gl-At"
INSTRUMENT_HOST_ID = MEX
INSTRUMENT_HOST_NAME = "MARS EXPRESS"
INSTRUMENT_ID = HRSC
INSTRUMENT_NAME = "HIGH RESOLUTION STEREO CAMERA"
MISSION_NAME = "MARS EXPRESS"
MISSION_PHASE_NAME = ME_Phase_26
PROCESSING_LEVEL_ID = 4
PRODUCT_CREATION_TIME = 2023-02-05T12:42:46.000Z
PRODUCT_ID = "HB404_0000_GR4.TIF"
RELEASE_ID = 0010
REVISION_ID = 0000
/* QUALITY DATA ELEMENTS */
DATA_QUALITY_ID = 1
DATA_QUALITY_DESC = "Data calculated based on original SPICE kernels"
/* TIME DATA ELEMENTS */
SPACECRAFT_CLOCK_START_COUNT = "1/0303832849.07294"
SPACECRAFT_CLOCK_STOP_COUNT = "1/0303834555.52787"
START_TIME = 2012-12-17T14:03:56.074Z
STOP_TIME = 2012-12-17T14:21:40.228Z
/* ORBITAL DATA ELEMENTS */
ASCENDING_NODE_LONGITUDE = 359.86
MAXIMUM_RESOLUTION = 0.1536
FOOTPRINT_POINT_LATITUDE = (-70.8436,-71.1888,-71.3926,-71.5114, -71.6233,-71.6817,-71.6757,-71.673, -71.6914,-72.4035,-73.1073,-73.8028, -74.4901,-75.1699,-75.8411,-76.5045, -77.16,-77.8075,-78.4472,-79.0858, -79.7097,-80.3256,-80.9333,-81.5327, -82.1235,-82.7055,-83.2781,-83.8402, -84.3913,-84.9292,-85.4521,-85.9564, -86.4371,-86.8861,-87.6332,-87.9711, -87.8724,-87.1098,-86.299,-85.4199, -84.5207,-83.6102,-82.7036,-81.8032, -80.9014,-80.0204,-79.8018,-79.7729, -80.0465,-80.2718,-80.3194,-80.2696, -80.1478,-79.9225,-79.6122,-79.3776, -78.8816,-78.4386,-77.8039,-77.1781, -76.6826,-76.5968,-76.5664,-77.2447, -78.0789,-78.7199,-79.3339,-79.9112, -80.4405,-80.9084,-81.2989,-81.6516, -81.8186,-81.8182,-81.6944,-81.4251, -81.0169,-80.7631,-80.4785,-80.1624, -79.8195,-79.4504,-79.0561,-78.6383, -78.1984,-77.7374,-77.257,-76.7522, -76.2351,-75.701,-75.1509,-74.5852, -74.0047,-73.4099,-72.8011,-72.1788, -71.2206,-70.8949,-70.8436)
FOOTPRINT_POINT_LONGITUDE = (269.489,265.45,262.3,259.902,256.67, 253.404,249.08,248.873,248.679,248.387, 248.077,247.747,247.395,247.012,246.607 ,246.168,245.693,245.178,244.615,243.99 ,243.309,242.553,241.712,240.767, 239.697,238.47,237.052,235.407,233.452, 231.118,228.277,224.755,220.305,214.588 ,197.454,177.905,140.647,116.039, 105.227,98.5231,94.0104,90.777,88.3885, 86.53,85.0244,83.7916,83.5157,83.48, 78.1105,70.3444,64.5871,58.8505,53.9297 ,48.5065,43.3654,40.314,35.1689,31.4888 ,27.1621,23.6667,21.2587,20.8728, 20.7339,18.6296,15.5116,12.624,9.29722, 5.44511,1.04906,356.038,350.388,342.436 ,333.726,328.272,321.01,313.952,307.293 ,304.166,301.182,298.38,295.722,293.216 ,290.871,288.676,286.624,284.716, 282.922,281.253,279.692,278.25,276.917, 275.655,274.483,273.389,272.367,271.41, 270.088,269.676,269.489)
ORBIT_NUMBER = 11404
ORBITAL_ECCENTRICITY = 0.578
ORBITAL_INCLINATION = 86.87
ORBITAL_SEMIMAJOR_AXIS = 8866.96
PERIAPSIS_ALTITUDE = 348.97
PERIAPSIS_ARGUMENT_ANGLE = 171.39
PERIAPSIS_TIME = 2012-12-17T13:37:55.000Z
SPACECRAFT_ORIENTATION = (0.0,-1.0,0.0)
^MEX_ORIENTATION_DESC = "MEX_ORIENTATION_DESC.TXT"
SPACECRAFT_POINTING_MODE = NADIR
^MEX_POINTING_DESC = "MEX_POINTING_DESC.TXT"
RIGHT_ASCENSION = -1e+32
DECLINATION = -1e+32
OFFSET_ANGLE = -1e+32
SPACECRAFT_SOLAR_DISTANCE = 2.08188e+08
TARGET_NAME = MARS
/* CAMERA DATA ELEMENTS */
DETECTOR_TEMPERATURE = 18.5744
FOCAL_PLANE_TEMPERATURE = 8.7872
INST_CMPRS_NAME = "DISCRETE COSINE TRANSFORMATION (DCT)"
INST_CMPRS_RATIO = 10.4816
INST_CMPRS_QUALITY = 0
INST_CMPRS_QUANTZ_TBL_ID = 0
INSTRUMENT_TEMPERATURE = 11.0301
LENS_TEMPERATURE = 9.195
MACROPIXEL_SIZE = 2
PIXEL_SUBSAMPLING_FLAG = N
SIGNAL_CHAIN_ID = 2
/* RADIOMETRIC DATA ELEMENTS */
BANDWIDTH = 88.0
CENTER_FILTER_WAVELENGTH = 538.0
RADIANCE_OFFSET = 1.05656
RADIANCE_SCALING_FACTOR = 0.0178819
REFLECTANCE_SCALING_FACTOR = 0.000667287
MEX:REFLECTANCE_OFFSET = 0.0394269
/* IMAGE OBJECT DEFINITIONS */
OBJECT = IMAGE
  INTERCHANGE_FORMAT = BINARY
  LINES = 6047
  LINE_SAMPLES = 9078
  SAMPLE_TYPE = UNSIGNED_INTEGER
  SAMPLE_BITS = 8
  BANDS = 1
  BAND_STORAGE_TYPE = BAND_SEQUENTIAL
  MAXIMUM = 255
  MEAN = 86.6761
  MINIMUM = 1
  STANDARD_DEVIATION = 38.5076
END_OBJECT = IMAGE
/* MAP OBJECT DEFINITIONS */
OBJECT = IMAGE_MAP_PROJECTION
  ^DATA_SET_MAP_PROJECTION_CATALOG= "DSMAP.CAT"
  A_AXIS_RADIUS = 3396.0
  B_AXIS_RADIUS = 3396.0
  C_AXIS_RADIUS = 3396.0
  CENTER_LATITUDE = -90.0
  CENTER_LONGITUDE = 0.0
  COORDINATE_SYSTEM_NAME = PLANETOGRAPHIC
  COORDINATE_SYSTEM_TYPE = "BODY-FIXED ROTATING"
  EASTERNMOST_LONGITUDE = 360.0
  FIRST_STANDARD_PARALLEL = "N/A"
  LINE_FIRST_PIXEL = 1
  LINE_LAST_PIXEL = 6047
  LINE_PROJECTION_OFFSET = 3959.0
  MAP_PROJECTION_ROTATION = 0.0
  MAP_PROJECTION_TYPE = STEREOGRAPHIC
  MAP_RESOLUTION = 296.356901933333
  MAP_SCALE = 0.2
  MAXIMUM_LATITUDE = -70.8436
  MINIMUM_LATITUDE = -90.0
  POSITIVE_LONGITUDE_DIRECTION = EAST
  REFERENCE_LATITUDE = "N/A"
  REFERENCE_LONGITUDE = "N/A"
  SAMPLE_FIRST_PIXEL = 1
  SAMPLE_LAST_PIXEL = 9078
  SAMPLE_PROJECTION_OFFSET = 5782.0
  SECOND_STANDARD_PARALLEL = "N/A"
  WESTERNMOST_LONGITUDE = 0.0
END_OBJECT = IMAGE_MAP_PROJECTION
END
