PDS_VERSION_ID = PDS3
/* FILE DATA ELEMENTS */
RECORD_TYPE = UNDEFINED
/* POINTERS TO DATA OBJECTS */
^IMAGE = ("HB400_0000_GR4.TIF")
/* IDENTIFICATION DATA ELEMENTS */
DATA_SET_ID = "MEX-M-HRSC-4-REFDR-MAPPROJECT-EXT3-V4.0"
DATA_SET_NAME = "MARS EXPRESS HRSC MAP PROJECTED REFDR EXTENSION3 V4.0"
DETECTOR_ID = MEX_HRSC_GREEN
EVENT_TYPE = "MARS-TERMINATOR-VARIABLE-Gl-At"
INSTRUMENT_HOST_ID = MEX
INSTRUMENT_HOST_NAME = "MARS EXPRESS"
INSTRUMENT_ID = HRSC
INSTRUMENT_NAME = "HIGH RESOLUTION STEREO CAMERA"
MISSION_NAME = "MARS EXPRESS"
MISSION_PHASE_NAME = ME_Phase_26
PROCESSING_LEVEL_ID = 4
PRODUCT_CREATION_TIME = 2023-02-05T12:42:46.000Z
PRODUCT_ID = "HB400_0000_GR4.TIF"
RELEASE_ID = 0010
REVISION_ID = 0000
/* QUALITY DATA ELEMENTS */
DATA_QUALITY_ID = 1
DATA_QUALITY_DESC = "Data calculated based on original SPICE kernels"
/* TIME DATA ELEMENTS */
SPACECRAFT_CLOCK_START_COUNT = "1/0303732074.09050"
SPACECRAFT_CLOCK_STOP_COUNT = "1/0303733769.63842"
START_TIME = 2012-12-16T10:03:46.197Z
STOP_TIME = 2012-12-16T10:22:36.483Z
/* ORBITAL DATA ELEMENTS */
ASCENDING_NODE_LONGITUDE = 359.93
MAXIMUM_RESOLUTION = 0.1338
FOOTPRINT_POINT_LATITUDE = (-66.0759,-66.3201,-66.4056,-66.4688, -66.5347,-66.5696,-66.5681,-66.5667, -66.5848,-67.8258,-68.6401,-69.4435, -70.2375,-71.0214,-71.7955,-72.56, -73.3147,-74.0602,-74.7963,-75.523, -76.2409,-76.9494,-77.6485,-78.3396, -79.0222,-79.695,-80.3584,-81.0128, -81.6576,-82.2918,-82.9166,-83.5303, -84.132,-84.7199,-85.845,-86.868, -87.6916,-88.0898,-87.8521,-87.1644, -86.282,-85.3316,-84.3559,-83.375, -82.3972,-81.4294,-81.1895,-81.1538, -81.5494,-81.6606,-81.6672,-81.5704, -81.432,-81.1641,-80.8104,-80.3791, -79.8132,-79.3212,-78.7107,-77.7971, -77.7103,-77.6793,-78.3867,-79.069, -79.7164,-80.3151,-80.8494,-81.3014, -81.6429,-81.8582,-81.9239,-81.8247, -81.5556,-81.123,-80.5381,-79.8155, -79.4082,-78.9726,-78.5101,-78.023, -77.5126,-76.9803,-76.4273,-75.8547, -75.2635,-74.6544,-74.0284,-73.3859, -72.7276,-72.0537,-71.3647,-70.6616, -69.9436,-69.2115,-68.4658,-67.7071, -66.5431,-66.1481,-66.0759)
FOOTPRINT_POINT_LONGITUDE = (313.784,310.215,308.552,307.02,304.784 ,302.535,299.564,299.422,299.286, 298.959,298.728,298.487,298.229,297.956 ,297.667,297.358,297.03,296.677,296.298 ,295.891,295.447,294.967,294.448, 293.867,293.219,292.509,291.72,290.826, 289.815,288.674,287.331,285.759,283.887 ,281.642,275.407,265.138,246.911, 216.789,184.848,164.36,152.884,146.013, 141.545,138.423,136.123,134.341,133.955 ,133.899,124.09,117.732,111.32,104.995, 100.396,94.5492,89.0943,84.069,78.9638, 75.3813,71.6753,67.1832,66.8066,66.6706 ,63.8317,60.5238,56.6679,52.1808, 46.9881,41.0402,34.3559,27.0206,19.2423 ,11.3207,3.58889,356.319,349.7,343.833, 341.176,338.7,336.408,334.277,332.301, 330.469,328.77,327.199,325.74,324.388, 323.137,321.975,320.894,319.885,318.944 ,318.076,317.259,316.497,315.789, 315.134,314.224,313.938,313.784)
ORBIT_NUMBER = 11400
ORBITAL_ECCENTRICITY = 0.577
ORBITAL_INCLINATION = 86.88
ORBITAL_SEMIMAJOR_AXIS = 8851.46
PERIAPSIS_ALTITUDE = 348.95
PERIAPSIS_ARGUMENT_ANGLE = 172.09
PERIAPSIS_TIME = 2012-12-16T09:40:31.000Z
SPACECRAFT_ORIENTATION = (0.0,-1.0,0.0)
^MEX_ORIENTATION_DESC = "MEX_ORIENTATION_DESC.TXT"
SPACECRAFT_POINTING_MODE = NADIR
^MEX_POINTING_DESC = "MEX_POINTING_DESC.TXT"
RIGHT_ASCENSION = -1e+32
DECLINATION = -1e+32
OFFSET_ANGLE = -1e+32
SPACECRAFT_SOLAR_DISTANCE = 2.08282e+08
TARGET_NAME = MARS
/* CAMERA DATA ELEMENTS */
DETECTOR_TEMPERATURE = 18.5744
FOCAL_PLANE_TEMPERATURE = 8.5833
INST_CMPRS_NAME = "DISCRETE COSINE TRANSFORMATION (DCT)"
INST_CMPRS_RATIO = 9.20797
INST_CMPRS_QUALITY = 0
INST_CMPRS_QUANTZ_TBL_ID = 0
INSTRUMENT_TEMPERATURE = 11.234
LENS_TEMPERATURE = 8.7872
MACROPIXEL_SIZE = 2
MISSING_FRAMES = 0
PIXEL_SUBSAMPLING_FLAG = N
SIGNAL_CHAIN_ID = 2
/* RADIOMETRIC DATA ELEMENTS */
BANDWIDTH = 88.0
CENTER_FILTER_WAVELENGTH = 538.0
RADIANCE_OFFSET = 0.809478
RADIANCE_SCALING_FACTOR = 0.0105285
REFLECTANCE_SCALING_FACTOR = 0.000393236
MEX:REFLECTANCE_OFFSET = 0.0302338
/* IMAGE OBJECT DEFINITIONS */
OBJECT = IMAGE
  INTERCHANGE_FORMAT = BINARY
  LINES = 14483
  LINE_SAMPLES = 19038
  SAMPLE_TYPE = UNSIGNED_INTEGER
  SAMPLE_BITS = 8
  BANDS = 1
  BAND_STORAGE_TYPE = BAND_SEQUENTIAL
  MAXIMUM = 255
  MEAN = 153.018
  MINIMUM = 1
  STANDARD_DEVIATION = 66.1028
END_OBJECT = IMAGE
/* MAP OBJECT DEFINITIONS */
OBJECT = IMAGE_MAP_PROJECTION
  ^DATA_SET_MAP_PROJECTION_CATALOG= "DSMAP.CAT"
  A_AXIS_RADIUS = 3396.0
  B_AXIS_RADIUS = 3396.0
  C_AXIS_RADIUS = 3396.0
  CENTER_LATITUDE = -90.0
  CENTER_LONGITUDE = 0.0
  COORDINATE_SYSTEM_NAME = PLANETOGRAPHIC
  COORDINATE_SYSTEM_TYPE = "BODY-FIXED ROTATING"
  EASTERNMOST_LONGITUDE = 360.0
  FIRST_STANDARD_PARALLEL = "N/A"
  LINE_FIRST_PIXEL = 1
  LINE_LAST_PIXEL = 14483
  LINE_PROJECTION_OFFSET = 10131.0
  MAP_PROJECTION_ROTATION = 0.0
  MAP_PROJECTION_TYPE = STEREOGRAPHIC
  MAP_RESOLUTION = 592.713803866667
  MAP_SCALE = 0.1
  MAXIMUM_LATITUDE = -66.0759
  MINIMUM_LATITUDE = -90.0
  POSITIVE_LONGITUDE_DIRECTION = EAST
  REFERENCE_LATITUDE = "N/A"
  REFERENCE_LONGITUDE = "N/A"
  SAMPLE_FIRST_PIXEL = 1
  SAMPLE_LAST_PIXEL = 19038
  SAMPLE_PROJECTION_OFFSET = 12353.0
  SECOND_STANDARD_PARALLEL = "N/A"
  WESTERNMOST_LONGITUDE = 0.0
END_OBJECT = IMAGE_MAP_PROJECTION
END
