PDS_VERSION_ID = PDS3
/* FILE DATA ELEMENTS */
RECORD_TYPE = UNDEFINED
/* POINTERS TO DATA OBJECTS */
^IMAGE = ("HB352_0000_GR4.TIF")
/* IDENTIFICATION DATA ELEMENTS */
DATA_SET_ID = "MEX-M-HRSC-4-REFDR-MAPPROJECT-EXT3-V4.0"
DATA_SET_NAME = "MARS EXPRESS HRSC MAP PROJECTED REFDR EXTENSION3 V4.0"
DETECTOR_ID = MEX_HRSC_GREEN
EVENT_TYPE = "MARS-TERMINATOR-VARIABLE-Gl-At"
INSTRUMENT_HOST_ID = MEX
INSTRUMENT_HOST_NAME = "MARS EXPRESS"
INSTRUMENT_ID = HRSC
INSTRUMENT_NAME = "HIGH RESOLUTION STEREO CAMERA"
MISSION_NAME = "MARS EXPRESS"
MISSION_PHASE_NAME = ME_Phase_26
PROCESSING_LEVEL_ID = 4
PRODUCT_CREATION_TIME = 2023-02-05T12:42:46.000Z
PRODUCT_ID = "HB352_0000_GR4.TIF"
RELEASE_ID = 0010
REVISION_ID = 0000
/* QUALITY DATA ELEMENTS */
DATA_QUALITY_ID = 1
DATA_QUALITY_DESC = "Data calculated based on original SPICE kernels"
/* TIME DATA ELEMENTS */
SPACECRAFT_CLOCK_START_COUNT = "1/0302524766.09032"
SPACECRAFT_CLOCK_STOP_COUNT = "1/0302525970.57454"
START_TIME = 2012-12-02T10:44:09.194Z
STOP_TIME = 2012-12-02T10:52:59.564Z
/* ORBITAL DATA ELEMENTS */
ASCENDING_NODE_LONGITUDE = 0.85
MAXIMUM_RESOLUTION = 0.1003
FOOTPRINT_POINT_LATITUDE = (-82.1228,-82.7006,-83.0272,-83.351, -83.6718,-83.9897,-84.3041,-84.9205, -85.2955,-85.8719,-86.4084,-86.8855, -87.2719,-87.5241,-87.5856,-87.5983, -87.5612,-87.4765,-87.3483,-87.3101, -87.2543,-86.4224,-85.8619,-85.3014, -84.7416,-84.0458,-83.4955,-82.9495, -82.4083,-81.8706,-81.3366,-80.8074, -80.283,-79.7626,-79.247,-78.7351, -78.2284,-77.7256,-77.2272,-76.7332, -76.2434,-75.7568,-75.3948,-74.7973, -74.3228,-74.2048,-74.1777,-74.2877, -74.3602,-74.4196,-74.4647,-74.4953, -74.5122,-74.5153,-74.509,-74.4881, -74.4532,-74.4188,-74.3611,-74.3086, -74.2277,-74.1333,-74.0259,-73.8736, -73.7383,-73.5909,-73.4318,-73.2613, -73.0796,-72.8866,-72.7351,-72.413, -72.3556,-72.3289,-73.0531,-73.4698, -73.888,-74.3078,-74.7285,-75.1501, -75.5726,-75.89,-76.311,-76.7323, -77.1533,-77.5705,-77.9868,-78.3989, -78.8051,-79.2048,-79.593,-80.0712, -80.4386,-80.7935,-81.1299,-81.4445, -81.7353,-81.9971,-82.0579,-82.1228)
FOOTPRINT_POINT_LONGITUDE = (271.022,272.46,273.387,274.403,275.521 ,276.758,278.132,281.387,283.853, 288.706,295.067,303.524,314.709,328.862 ,336.828,345.063,353.226,361.002, 368.163,369.841,371.153,365.611,363.188 ,361.351,359.923,358.518,357.589,356.8, 356.117,355.53,355.018,354.561,354.149, 353.779,353.439,353.132,352.844,352.579 ,352.331,352.098,351.879,351.676,351.53 ,351.294,351.12,351.077,351.068,348.957 ,347.249,345.528,343.801,342.073, 340.343,338.614,337.318,335.596,333.883 ,332.603,330.908,329.646,327.978, 326.327,324.693,322.68,321.098,319.541, 318.012,316.509,315.036,313.59,312.526, 310.443,310.099,309.934,309.045,308.484 ,307.88,307.23,306.528,305.771,304.953, 304.296,303.353,302.333,301.227,300.021 ,298.711,297.282,295.72,294.013,292.14, 289.557,287.266,284.76,282.016,279.021, 275.76,272.225,271.298,271.022)
ORBIT_NUMBER = 11352
ORBITAL_ECCENTRICITY = 0.577
ORBITAL_INCLINATION = 86.89
ORBITAL_SEMIMAJOR_AXIS = 8849.05
PERIAPSIS_ALTITUDE = 344.83
PERIAPSIS_ARGUMENT_ANGLE = 180.37
PERIAPSIS_TIME = 2012-12-02T10:11:49.000Z
SPACECRAFT_ORIENTATION = (0.0,-1.0,0.0)
^MEX_ORIENTATION_DESC = "MEX_ORIENTATION_DESC.TXT"
SPACECRAFT_POINTING_MODE = NADIR
^MEX_POINTING_DESC = "MEX_POINTING_DESC.TXT"
RIGHT_ASCENSION = -1e+32
DECLINATION = -1e+32
OFFSET_ANGLE = -1e+32
SPACECRAFT_SOLAR_DISTANCE = 2.09602e+08
TARGET_NAME = MARS
/* CAMERA DATA ELEMENTS */
DETECTOR_TEMPERATURE = 18.3705
FOCAL_PLANE_TEMPERATURE = 8.5833
INST_CMPRS_NAME = "DISCRETE COSINE TRANSFORMATION (DCT)"
INST_CMPRS_RATIO = 7.26781
INST_CMPRS_QUALITY = 0
INST_CMPRS_QUANTZ_TBL_ID = 0
INSTRUMENT_TEMPERATURE = 11.0301
LENS_TEMPERATURE = 8.7872
MACROPIXEL_SIZE = 1
MISSING_FRAMES = 0
PIXEL_SUBSAMPLING_FLAG = N
SIGNAL_CHAIN_ID = 2
/* RADIOMETRIC DATA ELEMENTS */
BANDWIDTH = 88.0
CENTER_FILTER_WAVELENGTH = 538.0
RADIANCE_OFFSET = 0.986659
RADIANCE_SCALING_FACTOR = 0.0135763
REFLECTANCE_SCALING_FACTOR = 0.000513517
MEX:REFLECTANCE_OFFSET = 0.0373198
/* IMAGE OBJECT DEFINITIONS */
OBJECT = IMAGE
  INTERCHANGE_FORMAT = BINARY
  LINES = 9013
  LINE_SAMPLES = 9941
  SAMPLE_TYPE = UNSIGNED_INTEGER
  SAMPLE_BITS = 8
  BANDS = 1
  BAND_STORAGE_TYPE = BAND_SEQUENTIAL
  MAXIMUM = 255
  MEAN = 111.573
  MINIMUM = 1
  STANDARD_DEVIATION = 53.0462
END_OBJECT = IMAGE
/* MAP OBJECT DEFINITIONS */
OBJECT = IMAGE_MAP_PROJECTION
  ^DATA_SET_MAP_PROJECTION_CATALOG= "DSMAP.CAT"
  A_AXIS_RADIUS = 3396.0
  B_AXIS_RADIUS = 3396.0
  C_AXIS_RADIUS = 3396.0
  CENTER_LATITUDE = 0.0
  CENTER_LONGITUDE = 324.0
  COORDINATE_SYSTEM_NAME = PLANETOGRAPHIC
  COORDINATE_SYSTEM_TYPE = "BODY-FIXED ROTATING"
  EASTERNMOST_LONGITUDE = 11.153
  FIRST_STANDARD_PARALLEL = "N/A"
  LINE_FIRST_PIXEL = 1
  LINE_LAST_PIXEL = 9013
  LINE_PROJECTION_OFFSET = -42843.0
  MAP_PROJECTION_ROTATION = 0.0
  MAP_PROJECTION_TYPE = SINUSOIDAL
  MAP_RESOLUTION = 592.713803866667
  MAP_SCALE = 0.1
  MAXIMUM_LATITUDE = -72.3289
  MINIMUM_LATITUDE = -87.59829999999999
  POSITIVE_LONGITUDE_DIRECTION = EAST
  REFERENCE_LATITUDE = "N/A"
  REFERENCE_LONGITUDE = "N/A"
  SAMPLE_FIRST_PIXEL = 1
  SAMPLE_LAST_PIXEL = 9941
  SAMPLE_PROJECTION_OFFSET = 4818.0
  SECOND_STANDARD_PARALLEL = "N/A"
  WESTERNMOST_LONGITUDE = -88.97799999999999
END_OBJECT = IMAGE_MAP_PROJECTION
END
