PDS_VERSION_ID = PDS3
/* FILE DATA ELEMENTS */
RECORD_TYPE = UNDEFINED
/* POINTERS TO DATA OBJECTS */
^IMAGE = ("HA923_0000_GR4.TIF")
/* IDENTIFICATION DATA ELEMENTS */
DATA_SET_ID = "MEX-M-HRSC-4-REFDR-MAPPROJECT-EXT3-V4.0"
DATA_SET_NAME = "MARS EXPRESS HRSC MAP PROJECTED REFDR EXTENSION3 V4.0"
DETECTOR_ID = MEX_HRSC_GREEN
EVENT_TYPE = "MARS-CLOUD-VARIABLE-At"
INSTRUMENT_HOST_ID = MEX
INSTRUMENT_HOST_NAME = "MARS EXPRESS"
INSTRUMENT_ID = HRSC
INSTRUMENT_NAME = "HIGH RESOLUTION STEREO CAMERA"
MISSION_NAME = "MARS EXPRESS"
MISSION_PHASE_NAME = ME_Phase_26
PROCESSING_LEVEL_ID = 4
PRODUCT_CREATION_TIME = 2023-02-05T03:55:10.000Z
PRODUCT_ID = "HA923_0000_GR4.TIF"
RELEASE_ID = 0009
REVISION_ID = 0000
/* QUALITY DATA ELEMENTS */
DATA_QUALITY_ID = 1
DATA_QUALITY_DESC = "Data calculated based on original SPICE kernels"
/* TIME DATA ELEMENTS */
SPACECRAFT_CLOCK_START_COUNT = "1/0291729946.09049"
SPACECRAFT_CLOCK_STOP_COUNT = "1/0291731258.54036"
START_TIME = 2012-07-30T12:09:09.427Z
STOP_TIME = 2012-07-30T12:11:31.807Z
/* ORBITAL DATA ELEMENTS */
ASCENDING_NODE_LONGITUDE = 8.96
MAXIMUM_RESOLUTION = 0.326
FOOTPRINT_POINT_LATITUDE = (-22.415,-22.4091,-22.4007,-22.3916, -22.382,-22.3718,-22.3611,-22.3468, -22.3347,-22.322,-22.3087,-22.2876, -22.2728,-22.2575,-22.2416,-22.225, -22.2079,-22.1902,-22.1718,-22.1529, -22.1333,-22.1132,-22.0924,-22.0709, -22.0488,-22.0261,-22.0027,-21.9968, -21.9969,-21.6728,-21.4884,-21.3045, -21.1211,-20.9383,-20.756,-20.5743, -20.393,-20.2124,-20.0322,-19.8526, -19.6735,-19.4949,-19.3169,-19.1394, -18.9623,-18.7858,-18.6098,-18.4343, -18.2594,-17.9109,-17.5645,-17.5213, -17.5207,-17.5575,-17.5867,-17.6224, -17.6503,-17.6774,-17.7038,-17.7295, -17.7548,-17.7794,-17.8033,-17.8209, -17.8494,-17.8715,-17.893,-17.9139, -17.9344,-17.9591,-17.9734,-17.992, -18.0099,-18.023,-18.0358,-18.0521, -18.068,-18.0833,-18.1051,-18.1086, -18.1101,-18.442,-18.7761,-19.1124, -19.4507,-19.7913,-20.134,-20.479, -20.6523,-20.8262,-21.0007,-21.1758, -21.3514,-21.5276,-21.7043,-21.8817, -22.0596,-22.3723,-22.4172,-22.415)
FOOTPRINT_POINT_LONGITUDE = (266.692,266.908,267.196,267.484, 267.771,268.057,268.343,268.701,268.987 ,269.272,269.558,269.986,270.271, 270.555,270.84,271.124,271.409,271.693, 271.978,272.263,272.547,272.832,273.118 ,273.404,273.69,273.976,274.263,274.334 ,274.349,274.345,274.343,274.341, 274.339,274.337,274.335,274.332,274.33, 274.328,274.325,274.323,274.32,274.318, 274.315,274.312,274.31,274.307,274.304, 274.302,274.299,274.293,274.287,274.287 ,274.287,273.907,273.599,273.214, 272.906,272.599,272.293,271.987,271.68, 271.374,271.069,270.839,270.457,270.151 ,269.845,269.539,269.232,268.849, 268.618,268.311,268.004,267.774,267.543 ,267.235,266.926,266.617,266.152, 266.074,266.049,266.103,266.156,266.21, 266.263,266.315,266.367,266.419,266.445 ,266.471,266.496,266.522,266.548, 266.573,266.598,266.623,266.648,266.692 ,266.698,266.692)
ORBIT_NUMBER = 10923
ORBITAL_ECCENTRICITY = 0.577
ORBITAL_INCLINATION = 86.88
ORBITAL_SEMIMAJOR_AXIS = 8766.72
PERIAPSIS_ALTITUDE = 328.21
PERIAPSIS_ARGUMENT_ANGLE = 253.78
PERIAPSIS_TIME = 2012-07-30T11:41:41.000Z
SPACECRAFT_ORIENTATION = (0.0,-1.0,0.0)
^MEX_ORIENTATION_DESC = "MEX_ORIENTATION_DESC.TXT"
SPACECRAFT_POINTING_MODE = NADIR
^MEX_POINTING_DESC = "MEX_POINTING_DESC.TXT"
RIGHT_ASCENSION = -1e+32
DECLINATION = -1e+32
OFFSET_ANGLE = -1e+32
SPACECRAFT_SOLAR_DISTANCE = 2.31086e+08
TARGET_NAME = MARS
/* CAMERA DATA ELEMENTS */
DETECTOR_TEMPERATURE = 18.1666
FOCAL_PLANE_TEMPERATURE = 8.3794
INST_CMPRS_NAME = "DISCRETE COSINE TRANSFORMATION (DCT)"
INST_CMPRS_RATIO = 27.6436
INST_CMPRS_QUALITY = 0
INST_CMPRS_QUANTZ_TBL_ID = 0
INSTRUMENT_TEMPERATURE = 11.6418
LENS_TEMPERATURE = 8.9911
MACROPIXEL_SIZE = 4
MISSING_FRAMES = 0
PIXEL_SUBSAMPLING_FLAG = N
SIGNAL_CHAIN_ID = 2
/* RADIOMETRIC DATA ELEMENTS */
BANDWIDTH = 88.0
CENTER_FILTER_WAVELENGTH = 538.0
RADIANCE_OFFSET = 1.60548
RADIANCE_SCALING_FACTOR = 0.00479695
REFLECTANCE_SCALING_FACTOR = 0.000220541
MEX:REFLECTANCE_OFFSET = 0.0738125
/* IMAGE OBJECT DEFINITIONS */
OBJECT = IMAGE
  INTERCHANGE_FORMAT = BINARY
  LINES = 726
  LINE_SAMPLES = 1163
  SAMPLE_TYPE = UNSIGNED_INTEGER
  SAMPLE_BITS = 8
  BANDS = 1
  BAND_STORAGE_TYPE = BAND_SEQUENTIAL
  MAXIMUM = 255
  MEAN = 167.537
  MINIMUM = 1
  STANDARD_DEVIATION = 31.0665
END_OBJECT = IMAGE
/* MAP OBJECT DEFINITIONS */
OBJECT = IMAGE_MAP_PROJECTION
  ^DATA_SET_MAP_PROJECTION_CATALOG= "DSMAP.CAT"
  A_AXIS_RADIUS = 3396.0
  B_AXIS_RADIUS = 3396.0
  C_AXIS_RADIUS = 3396.0
  CENTER_LATITUDE = 0.0
  CENTER_LONGITUDE = 270.0
  COORDINATE_SYSTEM_NAME = PLANETOGRAPHIC
  COORDINATE_SYSTEM_TYPE = "BODY-FIXED ROTATING"
  EASTERNMOST_LONGITUDE = 274.349
  FIRST_STANDARD_PARALLEL = "N/A"
  LINE_FIRST_PIXEL = 1
  LINE_LAST_PIXEL = 726
  LINE_PROJECTION_OFFSET = -2597.0
  MAP_PROJECTION_ROTATION = 0.0
  MAP_PROJECTION_TYPE = SINUSOIDAL
  MAP_RESOLUTION = 148.178450966667
  MAP_SCALE = 0.4
  MAXIMUM_LATITUDE = -17.5207
  MINIMUM_LATITUDE = -22.4172
  POSITIVE_LONGITUDE_DIRECTION = EAST
  REFERENCE_LATITUDE = "N/A"
  REFERENCE_LONGITUDE = "N/A"
  SAMPLE_FIRST_PIXEL = 1
  SAMPLE_LAST_PIXEL = 1163
  SAMPLE_PROJECTION_OFFSET = 556.0
  SECOND_STANDARD_PARALLEL = "N/A"
  WESTERNMOST_LONGITUDE = 266.049
END_OBJECT = IMAGE_MAP_PROJECTION
END
