PDS_VERSION_ID = PDS3
/* FILE DATA ELEMENTS */
RECORD_TYPE = UNDEFINED
/* POINTERS TO DATA OBJECTS */
^IMAGE = ("HA919_0000_GR4.TIF")
/* IDENTIFICATION DATA ELEMENTS */
DATA_SET_ID = "MEX-M-HRSC-4-REFDR-MAPPROJECT-EXT3-V4.0"
DATA_SET_NAME = "MARS EXPRESS HRSC MAP PROJECTED REFDR EXTENSION3 V4.0"
DETECTOR_ID = MEX_HRSC_GREEN
EVENT_TYPE = "MARS-CLOUD-VARIABLE-At"
INSTRUMENT_HOST_ID = MEX
INSTRUMENT_HOST_NAME = "MARS EXPRESS"
INSTRUMENT_ID = HRSC
INSTRUMENT_NAME = "HIGH RESOLUTION STEREO CAMERA"
MISSION_NAME = "MARS EXPRESS"
MISSION_PHASE_NAME = ME_Phase_26
PROCESSING_LEVEL_ID = 4
PRODUCT_CREATION_TIME = 2023-02-05T03:55:10.000Z
PRODUCT_ID = "HA919_0000_GR4.TIF"
RELEASE_ID = 0009
REVISION_ID = 0000
/* QUALITY DATA ELEMENTS */
DATA_QUALITY_ID = 1
DATA_QUALITY_DESC = "Data calculated based on original SPICE kernels"
/* TIME DATA ELEMENTS */
SPACECRAFT_CLOCK_START_COUNT = "1/0291629329.07288"
SPACECRAFT_CLOCK_STOP_COUNT = "1/0291630969.22143"
START_TIME = 2012-07-29T08:12:28.819Z
STOP_TIME = 2012-07-29T08:43:20.418Z
/* ORBITAL DATA ELEMENTS */
ASCENDING_NODE_LONGITUDE = 9.03
MAXIMUM_RESOLUTION = 0.3427
FOOTPRINT_POINT_LATITUDE = (-19.769,-19.7236,-19.6779,-19.5864, -19.509,-19.4221,-19.2734,-19.2667, -19.2611,-18.1057,-16.9684,-15.8567, -14.7627,-13.6892,-12.6347,-11.5989, -10.5759,-9.57304,-8.58965,-7.62284, -6.6722,-5.74093,-4.8255,-3.92017, -3.02937,-2.15243,-1.28919,-0.439094, 0.404889,1.2231,2.03496,2.8353,3.62399, 4.40159,5.92432,7.77296,9.20414,10.5983 ,11.9566,13.2807,14.5732,15.8343, 17.0659,18.2693,19.4453,20.596,20.8798, 20.8888,20.6157,20.2643,19.9784,19.6876 ,19.3916,19.1294,18.8222,18.5492, 18.1906,17.9881,17.6593,17.3226,16.8044 ,16.7603,16.7454,15.7849,14.7962, 13.7798,12.7333,11.655,10.5438,9.39815, 8.21635,6.99662,5.73625,4.43358,3.08674 ,1.69337,0.250826,-0.4896,-1.24348, -2.01116,-2.79265,-3.58835,-4.39657, -5.22417,-6.06591,-6.91791,-7.79118, -8.68224,-9.59083,-10.9929,-11.9424, -12.9142,-13.9093,-14.9178,-15.9524, -17.0079,-18.0901,-19.1905,-19.749, -19.769)
FOOTPRINT_POINT_LONGITUDE = (315.358,316.471,317.43,319.048,320.221 ,321.394,323.163,323.237,323.261, 323.244,323.231,323.208,323.189,323.167 ,323.145,323.122,323.105,323.084, 323.059,323.032,323.005,322.972,322.938 ,322.91,322.881,322.852,322.823,322.793 ,322.773,322.733,322.702,322.671, 322.639,322.608,322.545,322.471,322.407 ,322.343,322.279,322.215,322.152,322.09 ,322.028,321.967,321.907,321.85,321.835 ,321.835,320.474,318.776,317.435, 316.105,314.785,313.635,312.326,311.183 ,309.713,308.897,307.591,306.284, 304.304,304.139,304.084,304.596,305.109 ,305.614,306.115,306.615,307.11,307.6, 308.085,308.565,309.042,309.515,309.982 ,310.443,310.897,311.122,311.345, 311.568,311.788,312.005,312.215,312.434 ,312.647,312.842,313.049,313.255,313.46 ,313.776,313.961,314.153,314.35,314.527 ,314.715,314.897,315.088,315.265,315.35 ,315.358)
ORBIT_NUMBER = 10919
ORBITAL_ECCENTRICITY = 0.577
ORBITAL_INCLINATION = 86.89
ORBITAL_SEMIMAJOR_AXIS = 8764.54
PERIAPSIS_ALTITUDE = 328.21
PERIAPSIS_ARGUMENT_ANGLE = 254.48
PERIAPSIS_TIME = 2012-07-29T07:43:55.000Z
SPACECRAFT_ORIENTATION = (0.0,-1.0,0.0)
^MEX_ORIENTATION_DESC = "MEX_ORIENTATION_DESC.TXT"
SPACECRAFT_POINTING_MODE = NADIR
^MEX_POINTING_DESC = "MEX_POINTING_DESC.TXT"
RIGHT_ASCENSION = -1e+32
DECLINATION = -1e+32
OFFSET_ANGLE = -1e+32
SPACECRAFT_SOLAR_DISTANCE = 2.31307e+08
TARGET_NAME = MARS
/* CAMERA DATA ELEMENTS */
DETECTOR_TEMPERATURE = 18.3705
FOCAL_PLANE_TEMPERATURE = 8.1755
INST_CMPRS_NAME = "DISCRETE COSINE TRANSFORMATION (DCT)"
INST_CMPRS_RATIO = 27.5253
INST_CMPRS_QUALITY = 0
INST_CMPRS_QUANTZ_TBL_ID = 0
INSTRUMENT_TEMPERATURE = 11.4379
LENS_TEMPERATURE = 8.5833
MACROPIXEL_SIZE = 4
MISSING_FRAMES = 0
PIXEL_SUBSAMPLING_FLAG = N
SIGNAL_CHAIN_ID = 2
/* RADIOMETRIC DATA ELEMENTS */
BANDWIDTH = 88.0
CENTER_FILTER_WAVELENGTH = 538.0
RADIANCE_OFFSET = 1.52908
RADIANCE_SCALING_FACTOR = 0.0105536
REFLECTANCE_SCALING_FACTOR = 0.000486134
MEX:REFLECTANCE_OFFSET = 0.0704342
/* IMAGE OBJECT DEFINITIONS */
OBJECT = IMAGE
  INTERCHANGE_FORMAT = BINARY
  LINES = 6119
  LINE_SAMPLES = 3122
  SAMPLE_TYPE = UNSIGNED_INTEGER
  SAMPLE_BITS = 8
  BANDS = 1
  BAND_STORAGE_TYPE = BAND_SEQUENTIAL
  MAXIMUM = 255
  MEAN = 143.946
  MINIMUM = 1
  STANDARD_DEVIATION = 54.6688
END_OBJECT = IMAGE
/* MAP OBJECT DEFINITIONS */
OBJECT = IMAGE_MAP_PROJECTION
  ^DATA_SET_MAP_PROJECTION_CATALOG= "DSMAP.CAT"
  A_AXIS_RADIUS = 3396.0
  B_AXIS_RADIUS = 3396.0
  C_AXIS_RADIUS = 3396.0
  CENTER_LATITUDE = 0.0
  CENTER_LONGITUDE = 316.0
  COORDINATE_SYSTEM_NAME = PLANETOGRAPHIC
  COORDINATE_SYSTEM_TYPE = "BODY-FIXED ROTATING"
  EASTERNMOST_LONGITUDE = 323.261
  FIRST_STANDARD_PARALLEL = "N/A"
  LINE_FIRST_PIXEL = 1
  LINE_LAST_PIXEL = 6119
  LINE_PROJECTION_OFFSET = 3173.0
  MAP_PROJECTION_ROTATION = 0.0
  MAP_PROJECTION_TYPE = SINUSOIDAL
  MAP_RESOLUTION = 148.178450966667
  MAP_SCALE = 0.4
  MAXIMUM_LATITUDE = 20.8888
  MINIMUM_LATITUDE = -19.769
  POSITIVE_LONGITUDE_DIRECTION = EAST
  REFERENCE_LATITUDE = "N/A"
  REFERENCE_LONGITUDE = "N/A"
  SAMPLE_FIRST_PIXEL = 1
  SAMPLE_LAST_PIXEL = 3122
  SAMPLE_PROJECTION_OFFSET = 1971.0
  SECOND_STANDARD_PARALLEL = "N/A"
  WESTERNMOST_LONGITUDE = 304.084
END_OBJECT = IMAGE_MAP_PROJECTION
END
