PDS_VERSION_ID = PDS3
/* FILE DATA ELEMENTS */
RECORD_TYPE = UNDEFINED
/* POINTERS TO DATA OBJECTS */
^IMAGE = ("HA887_0000_RE4.TIF")
/* IDENTIFICATION DATA ELEMENTS */
DATA_SET_ID = "MEX-M-HRSC-4-REFDR-MAPPROJECT-EXT3-V4.0"
DATA_SET_NAME = "MARS EXPRESS HRSC MAP PROJECTED REFDR EXTENSION3 V4.0"
DETECTOR_ID = MEX_HRSC_RED
EVENT_TYPE = "MARS-CLOUD-VARIABLE-At"
INSTRUMENT_HOST_ID = MEX
INSTRUMENT_HOST_NAME = "MARS EXPRESS"
INSTRUMENT_ID = HRSC
INSTRUMENT_NAME = "HIGH RESOLUTION STEREO CAMERA"
MISSION_NAME = "MARS EXPRESS"
MISSION_PHASE_NAME = ME_Phase_26
PROCESSING_LEVEL_ID = 4
PRODUCT_CREATION_TIME = 2023-02-05T03:55:10.000Z
PRODUCT_ID = "HA887_0000_RE4.TIF"
RELEASE_ID = 0009
REVISION_ID = 0000
/* QUALITY DATA ELEMENTS */
DATA_QUALITY_ID = 1
DATA_QUALITY_DESC = "Data calculated based on original SPICE kernels"
/* TIME DATA ELEMENTS */
SPACECRAFT_CLOCK_START_COUNT = "1/0290824131.08409"
SPACECRAFT_CLOCK_STOP_COUNT = "1/0290825491.25258"
START_TIME = 2012-07-20T00:28:54.115Z
STOP_TIME = 2012-07-20T00:42:42.064Z
/* ORBITAL DATA ELEMENTS */
ASCENDING_NODE_LONGITUDE = 9.63
MAXIMUM_RESOLUTION = 0.3302
FOOTPRINT_POINT_LATITUDE = (-20.4524,-20.5796,-20.7034,-20.8242, -20.9414,-21.0551,-21.2336,-21.2403, -21.2504,-20.0916,-18.1647,-16.6257, -14.705,-13.1703,-11.6361,-10.1018, -8.56611,-7.02818,-5.48916,-4.71737, -3.94516,-3.17056,-2.00792,-1.23312, -0.066529,1.10574,1.88547,2.6774,3.4609 ,4.2478,5.04033,5.838,6.64643,7.44075, 8.24321,9.04969,9.86007,10.6752,11.4923 ,12.7292,13.5613,14.4075,15.2388, 16.0866,16.9395,17.7987,18.2298,18.2546 ,18.3732,18.4608,18.6153,18.7934, 18.9208,19.1506,19.3601,19.489,19.6685, 19.8174,19.8355,19.842,18.9501,18.0704, 16.7542,15.8887,15.0276,14.1697,12.8952 ,12.0567,10.8012,9.97028,9.14896, 8.31915,7.49924,6.68353,5.87228,4.66105 ,3.85344,3.05685,2.2577,1.45417, 0.661776,-0.527604,-1.3186,-2.10717, -3.28807,-4.07268,-5.24867,-6.0308, -7.59085,-8.75958,-10.7064,-12.2617, -14.2049,-15.3712,-16.9276,-18.4857, -19.2654,-20.0458,-20.4362,-20.4524)
FOOTPRINT_POINT_LONGITUDE = (351.414,350.332,349.24,348.134,347.013 ,345.875,343.976,343.902,343.862, 343.769,343.602,343.46,343.272,343.109, 342.937,342.759,342.568,342.367,342.163 ,342.054,341.944,341.829,341.655,341.54 ,341.359,341.169,341.044,340.902, 340.772,340.637,340.495,340.346,340.186 ,340.041,339.887,339.728,339.565, 339.396,339.226,338.958,338.772,338.572 ,338.385,338.183,337.975,337.761, 337.652,337.646,338.892,339.76,341.229, 342.798,343.876,345.66,347.2,348.146, 349.33,350.399,350.518,350.557,350.561, 350.567,350.577,350.586,350.595,350.606 ,350.623,350.636,350.656,350.671, 350.686,350.702,350.718,350.735,350.752 ,350.779,350.797,350.817,350.836, 350.855,350.875,350.905,350.925,350.945 ,350.976,350.997,351.028,351.049, 351.091,351.123,351.174,351.215,351.265 ,351.295,351.333,351.37,351.388,351.405 ,351.414,351.414)
ORBIT_NUMBER = 10887
ORBITAL_ECCENTRICITY = 0.577
ORBITAL_INCLINATION = 86.89
ORBITAL_SEMIMAJOR_AXIS = 8760.15
PERIAPSIS_ALTITUDE = 328.51
PERIAPSIS_ARGUMENT_ANGLE = 259.85
PERIAPSIS_TIME = 2012-07-20T00:01:18.000Z
SPACECRAFT_ORIENTATION = (0.0,1.0,0.0)
^MEX_ORIENTATION_DESC = "MEX_ORIENTATION_DESC.TXT"
SPACECRAFT_POINTING_MODE = INERT
^MEX_POINTING_DESC = "MEX_POINTING_DESC.TXT"
RIGHT_ASCENSION = 335.049
DECLINATION = 56.448
OFFSET_ANGLE = -1e+32
SPACECRAFT_SOLAR_DISTANCE = 2.33052e+08
TARGET_NAME = MARS
/* CAMERA DATA ELEMENTS */
DETECTOR_TEMPERATURE = 18.7783
FOCAL_PLANE_TEMPERATURE = 8.1755
INST_CMPRS_NAME = "DISCRETE COSINE TRANSFORMATION (DCT)"
INST_CMPRS_RATIO = 28.4203
INST_CMPRS_QUALITY = 0
INST_CMPRS_QUANTZ_TBL_ID = 0
INSTRUMENT_TEMPERATURE = 11.8457
LENS_TEMPERATURE = 8.7872
MACROPIXEL_SIZE = 4
MISSING_FRAMES = 0
PIXEL_SUBSAMPLING_FLAG = N
SIGNAL_CHAIN_ID = 2
/* RADIOMETRIC DATA ELEMENTS */
BANDWIDTH = 48.0
CENTER_FILTER_WAVELENGTH = 748.0
RADIANCE_OFFSET = 1.15067
RADIANCE_SCALING_FACTOR = 0.00933607
REFLECTANCE_SCALING_FACTOR = 0.00115713
MEX:REFLECTANCE_OFFSET = 0.142617
/* IMAGE OBJECT DEFINITIONS */
OBJECT = IMAGE
  INTERCHANGE_FORMAT = BINARY
  LINES = 6172
  LINE_SAMPLES = 2056
  SAMPLE_TYPE = UNSIGNED_INTEGER
  SAMPLE_BITS = 8
  BANDS = 1
  BAND_STORAGE_TYPE = BAND_SEQUENTIAL
  MAXIMUM = 255
  MEAN = 121.23
  MINIMUM = 1
  STANDARD_DEVIATION = 59.1027
END_OBJECT = IMAGE
/* MAP OBJECT DEFINITIONS */
OBJECT = IMAGE_MAP_PROJECTION
  ^DATA_SET_MAP_PROJECTION_CATALOG= "DSMAP.CAT"
  A_AXIS_RADIUS = 3396.0
  B_AXIS_RADIUS = 3396.0
  C_AXIS_RADIUS = 3396.0
  CENTER_LATITUDE = 0.0
  CENTER_LONGITUDE = 347.0
  COORDINATE_SYSTEM_NAME = PLANETOGRAPHIC
  COORDINATE_SYSTEM_TYPE = "BODY-FIXED ROTATING"
  EASTERNMOST_LONGITUDE = 351.414
  FIRST_STANDARD_PARALLEL = "N/A"
  LINE_FIRST_PIXEL = 1
  LINE_LAST_PIXEL = 6172
  LINE_PROJECTION_OFFSET = 2981.0
  MAP_PROJECTION_ROTATION = 0.0
  MAP_PROJECTION_TYPE = SINUSOIDAL
  MAP_RESOLUTION = 148.178450966667
  MAP_SCALE = 0.4
  MAXIMUM_LATITUDE = 19.842
  MINIMUM_LATITUDE = -21.2504
  POSITIVE_LONGITUDE_DIRECTION = EAST
  REFERENCE_LATITUDE = "N/A"
  REFERENCE_LONGITUDE = "N/A"
  SAMPLE_FIRST_PIXEL = 1
  SAMPLE_LAST_PIXEL = 2056
  SAMPLE_PROJECTION_OFFSET = 1253.0
  SECOND_STANDARD_PARALLEL = "N/A"
  WESTERNMOST_LONGITUDE = 337.646
END_OBJECT = IMAGE_MAP_PROJECTION
END
