PDS_VERSION_ID = PDS3
/* FILE DATA ELEMENTS */
RECORD_TYPE = UNDEFINED
/* POINTERS TO DATA OBJECTS */
^IMAGE = ("HA877_0000_RE4.TIF")
/* IDENTIFICATION DATA ELEMENTS */
DATA_SET_ID = "MEX-M-HRSC-4-REFDR-MAPPROJECT-EXT3-V4.0"
DATA_SET_NAME = "MARS EXPRESS HRSC MAP PROJECTED REFDR EXTENSION3 V4.0"
DETECTOR_ID = MEX_HRSC_RED
EVENT_TYPE = "MARS-CLOUD-VARIABLE-At"
INSTRUMENT_HOST_ID = MEX
INSTRUMENT_HOST_NAME = "MARS EXPRESS"
INSTRUMENT_ID = HRSC
INSTRUMENT_NAME = "HIGH RESOLUTION STEREO CAMERA"
MISSION_NAME = "MARS EXPRESS"
MISSION_PHASE_NAME = ME_Phase_26
PROCESSING_LEVEL_ID = 4
PRODUCT_CREATION_TIME = 2023-02-05T03:55:10.000Z
PRODUCT_ID = "HA877_0000_RE4.TIF"
RELEASE_ID = 0009
REVISION_ID = 0000
/* QUALITY DATA ELEMENTS */
DATA_QUALITY_ID = 1
DATA_QUALITY_DESC = "Data calculated based on original SPICE kernels"
/* TIME DATA ELEMENTS */
SPACECRAFT_CLOCK_START_COUNT = "1/0290572097.07283"
SPACECRAFT_CLOCK_STOP_COUNT = "1/0290574228.53310"
START_TIME = 2012-07-17T02:28:20.070Z
STOP_TIME = 2012-07-17T02:47:13.074Z
/* ORBITAL DATA ELEMENTS */
ASCENDING_NODE_LONGITUDE = 9.82
MAXIMUM_RESOLUTION = 0.2541
FOOTPRINT_POINT_LATITUDE = (-20.7513,-20.8329,-20.8689,-20.9033, -20.9137,-20.9142,-20.9138,-20.921, -19.9082,-18.9053,-17.913,-16.9311, -15.9604,-14.9983,-14.0441,-13.0481, -12.1055,-11.1825,-10.271,-9.42536, -8.54194,-7.63849,-6.75535,-5.45292, -4.58781,-3.72971,-2.52622,-1.70107, -0.885418,-0.0770923,0.724356,1.52025, 2.30968,3.09324,3.87172,5.39264,6.8855, 8.35194,9.79214,10.8613,12.2518,13.6186 ,14.9605,16.2792,17.5749,18.8493,19.164 ,19.2039,19.3135,19.4528,19.67,19.7992, 20.0241,20.2858,20.4856,20.6369,20.7728 ,20.9737,20.9936,20.9999,19.6332,18.247 ,16.8409,15.4142,13.9654,12.4959, 11.0023,9.48812,7.94814,7.16897,6.38377 ,5.59141,4.79182,3.98554,3.17288, 2.35376,1.52757,0.694764,-0.146167, -0.993312,-1.84821,-2.71016,-3.57977, -4.87909,-5.79047,-6.68927,-8.0598, -8.97642,-9.91147,-10.8455,-11.7814, -13.1608,-14.6679,-15.6473,-16.6365, -17.636,-18.6439,-20.1861,-20.6948, -20.7513)
FOOTPRINT_POINT_LONGITUDE = (296.943,295.455,294.554,293.23,292.381 ,291.314,291.26,291.25,291.147,291.042, 290.933,290.821,290.706,290.588,290.466 ,290.321,290.19,290.061,289.93,289.819, 289.687,289.54,289.395,289.175,289.022, 288.866,288.656,288.499,288.34,288.179, 288.014,287.846,287.675,287.501,287.323 ,286.966,286.599,286.221,285.833, 285.532,285.128,284.713,284.288,283.851 ,283.404,282.944,282.828,282.813, 283.756,284.938,286.574,287.625,289.252 ,290.998,292.283,293.221,294.047, 295.235,295.355,295.395,295.479,295.562 ,295.644,295.724,295.803,295.881, 295.957,296.032,296.105,296.141,296.177 ,296.211,296.246,296.279,296.313, 296.346,296.378,296.41,296.441,296.472, 296.502,296.531,296.56,296.608,296.629, 296.655,296.691,296.716,296.738,296.761 ,296.785,296.832,296.846,296.865, 296.882,296.898,296.914,296.931,296.939 ,296.943)
ORBIT_NUMBER = 10877
ORBITAL_ECCENTRICITY = 0.577
ORBITAL_INCLINATION = 86.88
ORBITAL_SEMIMAJOR_AXIS = 8760.78
PERIAPSIS_ALTITUDE = 328.73
PERIAPSIS_ARGUMENT_ANGLE = 261.56
PERIAPSIS_TIME = 2012-07-17T02:06:46.000Z
SPACECRAFT_ORIENTATION = (0.0,1.0,0.0)
^MEX_ORIENTATION_DESC = "MEX_ORIENTATION_DESC.TXT"
SPACECRAFT_POINTING_MODE = NADIR
^MEX_POINTING_DESC = "MEX_POINTING_DESC.TXT"
RIGHT_ASCENSION = -1e+32
DECLINATION = -1e+32
OFFSET_ANGLE = -1e+32
SPACECRAFT_SOLAR_DISTANCE = 2.33588e+08
TARGET_NAME = MARS
/* CAMERA DATA ELEMENTS */
DETECTOR_TEMPERATURE = 18.5744
FOCAL_PLANE_TEMPERATURE = 8.1755
INST_CMPRS_NAME = "DISCRETE COSINE TRANSFORMATION (DCT)"
INST_CMPRS_RATIO = 30.8854
INST_CMPRS_QUALITY = 0
INST_CMPRS_QUANTZ_TBL_ID = 0
INSTRUMENT_TEMPERATURE = 11.234
LENS_TEMPERATURE = 8.1755
MACROPIXEL_SIZE = 4
MISSING_FRAMES = 0
PIXEL_SUBSAMPLING_FLAG = N
SIGNAL_CHAIN_ID = 2
/* RADIOMETRIC DATA ELEMENTS */
BANDWIDTH = 48.0
CENTER_FILTER_WAVELENGTH = 748.0
RADIANCE_OFFSET = 0.69996
RADIANCE_SCALING_FACTOR = 0.0123522
REFLECTANCE_SCALING_FACTOR = 0.00153802
MEX:REFLECTANCE_OFFSET = 0.0871546
/* IMAGE OBJECT DEFINITIONS */
OBJECT = IMAGE
  INTERCHANGE_FORMAT = BINARY
  LINES = 12534
  LINE_SAMPLES = 4639
  SAMPLE_TYPE = UNSIGNED_INTEGER
  SAMPLE_BITS = 8
  BANDS = 1
  BAND_STORAGE_TYPE = BAND_SEQUENTIAL
  MAXIMUM = 255
  MEAN = 153.222
  MINIMUM = 1
  STANDARD_DEVIATION = 48.0002
END_OBJECT = IMAGE
/* MAP OBJECT DEFINITIONS */
OBJECT = IMAGE_MAP_PROJECTION
  ^DATA_SET_MAP_PROJECTION_CATALOG= "DSMAP.CAT"
  A_AXIS_RADIUS = 3396.0
  B_AXIS_RADIUS = 3396.0
  C_AXIS_RADIUS = 3396.0
  CENTER_LATITUDE = 0.0
  CENTER_LONGITUDE = 292.0
  COORDINATE_SYSTEM_NAME = PLANETOGRAPHIC
  COORDINATE_SYSTEM_TYPE = "BODY-FIXED ROTATING"
  EASTERNMOST_LONGITUDE = 296.943
  FIRST_STANDARD_PARALLEL = "N/A"
  LINE_FIRST_PIXEL = 1
  LINE_LAST_PIXEL = 12534
  LINE_PROJECTION_OFFSET = 6314.0
  MAP_PROJECTION_ROTATION = 0.0
  MAP_PROJECTION_TYPE = SINUSOIDAL
  MAP_RESOLUTION = 296.356901933333
  MAP_SCALE = 0.2
  MAXIMUM_LATITUDE = 20.9999
  MINIMUM_LATITUDE = -20.921
  POSITIVE_LONGITUDE_DIRECTION = EAST
  REFERENCE_LATITUDE = "N/A"
  REFERENCE_LONGITUDE = "N/A"
  SAMPLE_FIRST_PIXEL = 1
  SAMPLE_LAST_PIXEL = 4639
  SAMPLE_PROJECTION_OFFSET = 3131.0
  SECOND_STANDARD_PARALLEL = "N/A"
  WESTERNMOST_LONGITUDE = 282.813
END_OBJECT = IMAGE_MAP_PROJECTION
END
