PDS_VERSION_ID = PDS3
/* FILE DATA ELEMENTS */
RECORD_TYPE = UNDEFINED
/* POINTERS TO DATA OBJECTS */
^IMAGE = ("HA866_0000_IR4.TIF")
/* IDENTIFICATION DATA ELEMENTS */
DATA_SET_ID = "MEX-M-HRSC-4-REFDR-MAPPROJECT-EXT3-V4.0"
DATA_SET_NAME = "MARS EXPRESS HRSC MAP PROJECTED REFDR EXTENSION3 V4.0"
DETECTOR_ID = MEX_HRSC_IR
EVENT_TYPE = "MARS-REGIONAL-MAPPING-Fl-Gl"
INSTRUMENT_HOST_ID = MEX
INSTRUMENT_HOST_NAME = "MARS EXPRESS"
INSTRUMENT_ID = HRSC
INSTRUMENT_NAME = "HIGH RESOLUTION STEREO CAMERA"
MISSION_NAME = "MARS EXPRESS"
MISSION_PHASE_NAME = ME_Phase_26
PROCESSING_LEVEL_ID = 4
PRODUCT_CREATION_TIME = 2023-02-05T03:55:10.000Z
PRODUCT_ID = "HA866_0000_IR4.TIF"
RELEASE_ID = 0009
REVISION_ID = 0000
/* QUALITY DATA ELEMENTS */
DATA_QUALITY_ID = 1
DATA_QUALITY_DESC = "Data calculated based on original SPICE kernels"
/* TIME DATA ELEMENTS */
SPACECRAFT_CLOCK_START_COUNT = "1/0290294552.08245"
SPACECRAFT_CLOCK_STOP_COUNT = "1/0290294992.11809"
START_TIME = 2012-07-13T21:24:49.911Z
STOP_TIME = 2012-07-13T21:29:22.763Z
/* ORBITAL DATA ELEMENTS */
ASCENDING_NODE_LONGITUDE = 10.02
MAXIMUM_RESOLUTION = 0.1269
FOOTPRINT_POINT_LATITUDE = (-55.8434,-55.8363,-55.8248,-55.8039, -55.7815,-55.7593,-55.7274,-55.7257, -55.792,-55.2758,-54.9634,-54.6456, -54.2187,-53.682,-53.2514,-52.7055, -52.372,-51.9302,-51.4805,-51.1423, -50.6853,-50.4566,-50.2266,-49.9821, -49.7479,-49.5134,-49.2842,-49.0478, -48.8051,-48.5682,-48.2078,-47.9684, -47.727,-47.4844,-47.2404,-46.9945, -46.7463,-46.3743,-46.1255,-45.7493, -45.4988,-45.115,-44.7293,-44.3443, -44.2161,-44.0983,-44.1019,-44.1083, -44.111,-44.1126,-44.1148,-44.1157, -44.116,-44.1131,-44.1085,-44.1018, -44.097,-44.0973,-44.099,-44.4908, -44.7522,-45.0119,-45.2688,-45.5259, -45.782,-46.1649,-46.4178,-46.6692, -46.9194,-47.2927,-47.5409,-47.7874, -48.155,-48.3977,-48.6391,-48.9961, -49.2369,-49.4749,-49.7109,-49.9453, -50.1949,-50.428,-50.66,-50.891, -51.1212,-51.3505,-51.578,-51.805, -52.2563,-52.7027,-53.144,-53.473, -53.9083,-54.2326,-54.5543,-54.9783, -55.3979,-55.712,-55.8201,-55.8434)
FOOTPRINT_POINT_LONGITUDE = (340.931,340.367,339.674,338.722, 337.902,337.211,336.347,336.303,336.238 ,336.28,336.305,336.33,336.363,336.399, 336.425,336.456,336.475,336.495,336.516 ,336.529,336.547,336.554,336.562, 336.569,336.576,336.583,336.585,336.591 ,336.599,336.603,336.609,336.612, 336.614,336.616,336.618,336.62,336.622, 336.623,336.623,336.621,336.619,336.618 ,336.616,336.61,336.608,336.606,337.053 ,337.551,337.95,338.646,339.044,339.492 ,339.89,340.388,340.985,341.533,341.882 ,341.933,341.949,341.923,341.907,341.89 ,341.873,341.856,341.839,341.814, 341.797,341.78,341.763,341.737,341.72, 341.702,341.676,341.658,341.64,341.61, 341.593,341.575,341.556,341.536,341.517 ,341.498,341.479,341.46,341.44,341.421, 341.401,341.382,341.342,341.301,341.26, 341.228,341.186,341.153,341.121,341.075 ,341.029,340.995,340.986,340.931)
ORBIT_NUMBER = 10866
ORBITAL_ECCENTRICITY = 0.577
ORBITAL_INCLINATION = 86.89
ORBITAL_SEMIMAJOR_AXIS = 8758.33
PERIAPSIS_ALTITUDE = 328.44
PERIAPSIS_ARGUMENT_ANGLE = 263.41
PERIAPSIS_TIME = 2012-07-13T21:12:47.000Z
SPACECRAFT_ORIENTATION = (0.0,1.0,0.0)
^MEX_ORIENTATION_DESC = "MEX_ORIENTATION_DESC.TXT"
SPACECRAFT_POINTING_MODE = NADIR
^MEX_POINTING_DESC = "MEX_POINTING_DESC.TXT"
RIGHT_ASCENSION = -1e+32
DECLINATION = -1e+32
OFFSET_ANGLE = -1e+32
SPACECRAFT_SOLAR_DISTANCE = 2.34172e+08
TARGET_NAME = MARS
/* CAMERA DATA ELEMENTS */
DETECTOR_TEMPERATURE = 17.5549
FOCAL_PLANE_TEMPERATURE = 8.5833
INST_CMPRS_NAME = "DISCRETE COSINE TRANSFORMATION (DCT)"
INST_CMPRS_RATIO = 8.90556
INST_CMPRS_QUALITY = 0
INST_CMPRS_QUANTZ_TBL_ID = 0
INSTRUMENT_TEMPERATURE = 11.0301
LENS_TEMPERATURE = 8.7872
MACROPIXEL_SIZE = 4
MISSING_FRAMES = 1
PIXEL_SUBSAMPLING_FLAG = N
SIGNAL_CHAIN_ID = 2
/* RADIOMETRIC DATA ELEMENTS */
BANDWIDTH = 81.0
CENTER_FILTER_WAVELENGTH = 955.5
RADIANCE_OFFSET = 0.260948
RADIANCE_SCALING_FACTOR = 0.00517683
REFLECTANCE_SCALING_FACTOR = 0.000612429
MEX:REFLECTANCE_OFFSET = 0.0308707
/* IMAGE OBJECT DEFINITIONS */
OBJECT = IMAGE
  INTERCHANGE_FORMAT = BINARY
  LINES = 7023
  LINE_SAMPLES = 1947
  SAMPLE_TYPE = UNSIGNED_INTEGER
  SAMPLE_BITS = 8
  BANDS = 1
  BAND_STORAGE_TYPE = BAND_SEQUENTIAL
  MAXIMUM = 255
  MEAN = 126.966
  MINIMUM = 1
  STANDARD_DEVIATION = 24.4367
END_OBJECT = IMAGE
/* MAP OBJECT DEFINITIONS */
OBJECT = IMAGE_MAP_PROJECTION
  ^DATA_SET_MAP_PROJECTION_CATALOG= "DSMAP.CAT"
  A_AXIS_RADIUS = 3396.0
  B_AXIS_RADIUS = 3396.0
  C_AXIS_RADIUS = 3396.0
  CENTER_LATITUDE = 0.0
  CENTER_LONGITUDE = 339.0
  COORDINATE_SYSTEM_NAME = PLANETOGRAPHIC
  COORDINATE_SYSTEM_TYPE = "BODY-FIXED ROTATING"
  EASTERNMOST_LONGITUDE = 341.949
  FIRST_STANDARD_PARALLEL = "N/A"
  LINE_FIRST_PIXEL = 1
  LINE_LAST_PIXEL = 7023
  LINE_PROJECTION_OFFSET = -26143.125
  MAP_PROJECTION_ROTATION = 0.0
  MAP_PROJECTION_TYPE = SINUSOIDAL
  MAP_RESOLUTION = 592.713803866667
  MAP_SCALE = 0.1
  MAXIMUM_LATITUDE = -44.097
  MINIMUM_LATITUDE = -55.8434
  POSITIVE_LONGITUDE_DIRECTION = EAST
  REFERENCE_LATITUDE = "N/A"
  REFERENCE_LONGITUDE = "N/A"
  SAMPLE_FIRST_PIXEL = 1
  SAMPLE_LAST_PIXEL = 1947
  SAMPLE_PROJECTION_OFFSET = 882.875
  SECOND_STANDARD_PARALLEL = "N/A"
  WESTERNMOST_LONGITUDE = 336.238
END_OBJECT = IMAGE_MAP_PROJECTION
END
