PDS_VERSION_ID = PDS3
/* FILE DATA ELEMENTS */
RECORD_TYPE = UNDEFINED
/* POINTERS TO DATA OBJECTS */
^IMAGE = ("HA841_0000_RE4.TIF")
/* IDENTIFICATION DATA ELEMENTS */
DATA_SET_ID = "MEX-M-HRSC-4-REFDR-MAPPROJECT-EXT3-V4.0"
DATA_SET_NAME = "MARS EXPRESS HRSC MAP PROJECTED REFDR EXTENSION3 V4.0"
DETECTOR_ID = MEX_HRSC_RED
EVENT_TYPE = "MARS-CLOUD-VARIABLE-At"
INSTRUMENT_HOST_ID = MEX
INSTRUMENT_HOST_NAME = "MARS EXPRESS"
INSTRUMENT_ID = HRSC
INSTRUMENT_NAME = "HIGH RESOLUTION STEREO CAMERA"
MISSION_NAME = "MARS EXPRESS"
MISSION_PHASE_NAME = ME_Phase_26
PROCESSING_LEVEL_ID = 4
PRODUCT_CREATION_TIME = 2023-02-05T03:55:10.000Z
PRODUCT_ID = "HA841_0000_RE4.TIF"
RELEASE_ID = 0009
REVISION_ID = 0000
/* QUALITY DATA ELEMENTS */
DATA_QUALITY_ID = 1
DATA_QUALITY_DESC = "Data calculated based on original SPICE kernels"
/* TIME DATA ELEMENTS */
SPACECRAFT_CLOCK_START_COUNT = "1/0289665973.07290"
SPACECRAFT_CLOCK_STOP_COUNT = "1/0289667995.37980"
START_TIME = 2012-07-06T14:46:16.003Z
STOP_TIME = 2012-07-06T15:04:29.855Z
/* ORBITAL DATA ELEMENTS */
ASCENDING_NODE_LONGITUDE = 10.49
MAXIMUM_RESOLUTION = 0.2237
FOOTPRINT_POINT_LATITUDE = (-20.4111,-20.474,-20.525,-20.5333, -20.5331,-20.5257,-19.4922,-17.9469, -16.943,-15.9397,-14.9492,-13.9684, -12.9961,-12.0373,-11.0853,-10.143, -9.2146,-8.28584,-7.37207,-6.46816, -5.57308,-4.68662,-3.80968,-2.94386, -2.08351,-1.23147,-0.387205,0.449796, 1.27643,2.09392,3.3085,4.10724,4.89792, 5.68631,6.45846,7.23012,7.99212,9.49373 ,10.976,12.4254,13.8505,15.2465,16.9759 ,18.3026,20.2799,20.6025,20.6426, 20.7504,20.8474,20.959,21.1436,21.2917, 21.4299,21.5887,21.7912,21.948,22.109, 22.1253,22.1303,20.741,18.9749,17.5422, 16.0861,14.9816,13.862,12.3467,10.8098, 9.24974,8.4597,7.66281,6.86088,6.05182, 4.82443,3.99792,3.16648,2.32513,1.47358 ,0.620256,-0.241074,-1.11259,-1.99048, -2.8767,-4.22405,-5.13143,-6.05378, -6.97894,-7.9122,-8.85331,-9.80858, -10.7682,-11.7345,-12.7068,-13.6935, -15.1943,-16.2017,-17.7371,-18.7694, -19.8151,-20.3439,-20.4111)
FOOTPRINT_POINT_LONGITUDE = (17.4187,16.0678,14.1619,12.4822, 12.4352,12.4208,12.3305,12.1836,12.0871 ,11.9839,11.8789,11.771,11.6598,11.5474 ,11.4312,11.3124,11.1928,11.0668, 10.9406,10.8121,10.6812,10.5477,10.412, 10.275,10.1343,9.99119,9.84542,9.69686, 9.54691,9.39511,9.1616,9.00355,8.84334, 8.67835,8.51506,8.34622,8.17613,7.8293, 7.46868,7.10106,6.72251,6.33573,5.82727 ,5.42489,4.78403,4.67595,4.66238, 5.64618,6.52361,7.5054,9.02278,10.2135, 11.2969,12.4909,14.0151,15.1116,16.2168 ,16.3279,16.365,16.4202,16.4888,16.5443 ,16.5988,16.64,16.6802,16.7327,16.7851, 16.837,16.8624,16.8875,16.9128,16.9376, 16.974,16.998,17.0221,17.0452,17.0672, 17.0902,17.1126,17.134,17.1552,17.1759, 17.205,17.2241,17.2407,17.2582,17.2752, 17.2918,17.3061,17.3209,17.3357,17.3506 ,17.3631,17.3792,17.3903,17.403,17.4112 ,17.4172,17.419,17.4187)
ORBIT_NUMBER = 10841
ORBITAL_ECCENTRICITY = 0.577
ORBITAL_INCLINATION = 86.88
ORBITAL_SEMIMAJOR_AXIS = 8757.81
PERIAPSIS_ALTITUDE = 328.51
PERIAPSIS_ARGUMENT_ANGLE = 267.61
PERIAPSIS_TIME = 2012-07-06T14:26:44.000Z
SPACECRAFT_ORIENTATION = (0.0,1.0,0.0)
^MEX_ORIENTATION_DESC = "MEX_ORIENTATION_DESC.TXT"
SPACECRAFT_POINTING_MODE = NADIR
^MEX_POINTING_DESC = "MEX_POINTING_DESC.TXT"
RIGHT_ASCENSION = -1e+32
DECLINATION = -1e+32
OFFSET_ANGLE = -1e+32
SPACECRAFT_SOLAR_DISTANCE = 2.35473e+08
TARGET_NAME = MARS
/* CAMERA DATA ELEMENTS */
DETECTOR_TEMPERATURE = 18.3705
FOCAL_PLANE_TEMPERATURE = 8.5833
INST_CMPRS_NAME = "DISCRETE COSINE TRANSFORMATION (DCT)"
INST_CMPRS_RATIO = 30.4322
INST_CMPRS_QUALITY = 0
INST_CMPRS_QUANTZ_TBL_ID = 0
INSTRUMENT_TEMPERATURE = 11.0301
LENS_TEMPERATURE = 7.7677
MACROPIXEL_SIZE = 4
MISSING_FRAMES = 0
PIXEL_SUBSAMPLING_FLAG = N
SIGNAL_CHAIN_ID = 2
/* RADIOMETRIC DATA ELEMENTS */
BANDWIDTH = 48.0
CENTER_FILTER_WAVELENGTH = 748.0
RADIANCE_OFFSET = 0.96835
RADIANCE_SCALING_FACTOR = 0.0112115
REFLECTANCE_SCALING_FACTOR = 0.00141862
MEX:REFLECTANCE_OFFSET = 0.122528
/* IMAGE OBJECT DEFINITIONS */
OBJECT = IMAGE
  INTERCHANGE_FORMAT = BINARY
  LINES = 12718
  LINE_SAMPLES = 4145
  SAMPLE_TYPE = UNSIGNED_INTEGER
  SAMPLE_BITS = 8
  BANDS = 1
  BAND_STORAGE_TYPE = BAND_SEQUENTIAL
  MAXIMUM = 255
  MEAN = 155.409
  MINIMUM = 1
  STANDARD_DEVIATION = 61.267
END_OBJECT = IMAGE
/* MAP OBJECT DEFINITIONS */
OBJECT = IMAGE_MAP_PROJECTION
  ^DATA_SET_MAP_PROJECTION_CATALOG= "DSMAP.CAT"
  A_AXIS_RADIUS = 3396.0
  B_AXIS_RADIUS = 3396.0
  C_AXIS_RADIUS = 3396.0
  CENTER_LATITUDE = 0.0
  CENTER_LONGITUDE = 13.0
  COORDINATE_SYSTEM_NAME = PLANETOGRAPHIC
  COORDINATE_SYSTEM_TYPE = "BODY-FIXED ROTATING"
  EASTERNMOST_LONGITUDE = 17.419
  FIRST_STANDARD_PARALLEL = "N/A"
  LINE_FIRST_PIXEL = 1
  LINE_LAST_PIXEL = 12718
  LINE_PROJECTION_OFFSET = 6622.0
  MAP_PROJECTION_ROTATION = 0.0
  MAP_PROJECTION_TYPE = SINUSOIDAL
  MAP_RESOLUTION = 296.356901933333
  MAP_SCALE = 0.2
  MAXIMUM_LATITUDE = 22.1303
  MINIMUM_LATITUDE = -20.5333
  POSITIVE_LONGITUDE_DIRECTION = EAST
  REFERENCE_LATITUDE = "N/A"
  REFERENCE_LONGITUDE = "N/A"
  SAMPLE_FIRST_PIXEL = 1
  SAMPLE_LAST_PIXEL = 4145
  SAMPLE_PROJECTION_OFFSET = 2777.0
  SECOND_STANDARD_PARALLEL = "N/A"
  WESTERNMOST_LONGITUDE = 4.66238
END_OBJECT = IMAGE_MAP_PROJECTION
END
