PDS_VERSION_ID = PDS3
/* FILE DATA ELEMENTS */
RECORD_TYPE = UNDEFINED
/* POINTERS TO DATA OBJECTS */
^IMAGE = ("HA835_0000_GR4.TIF")
/* IDENTIFICATION DATA ELEMENTS */
DATA_SET_ID = "MEX-M-HRSC-4-REFDR-MAPPROJECT-EXT3-V4.0"
DATA_SET_NAME = "MARS EXPRESS HRSC MAP PROJECTED REFDR EXTENSION3 V4.0"
DETECTOR_ID = MEX_HRSC_GREEN
EVENT_TYPE = "MARS-CLOUD-VARIABLE-At"
INSTRUMENT_HOST_ID = MEX
INSTRUMENT_HOST_NAME = "MARS EXPRESS"
INSTRUMENT_ID = HRSC
INSTRUMENT_NAME = "HIGH RESOLUTION STEREO CAMERA"
MISSION_NAME = "MARS EXPRESS"
MISSION_PHASE_NAME = ME_Phase_26
PROCESSING_LEVEL_ID = 4
PRODUCT_CREATION_TIME = 2023-02-05T03:55:10.000Z
PRODUCT_ID = "HA835_0000_GR4.TIF"
RELEASE_ID = 0009
REVISION_ID = 0000
/* QUALITY DATA ELEMENTS */
DATA_QUALITY_ID = 1
DATA_QUALITY_DESC = "Data calculated based on original SPICE kernels"
/* TIME DATA ELEMENTS */
SPACECRAFT_CLOCK_START_COUNT = "1/0289514970.09045"
SPACECRAFT_CLOCK_STOP_COUNT = "1/0289516665.02386"
START_TIME = 2012-07-04T20:53:00.989Z
STOP_TIME = 2012-07-04T21:22:55.358Z
/* ORBITAL DATA ELEMENTS */
ASCENDING_NODE_LONGITUDE = 10.6
MAXIMUM_RESOLUTION = 0.2577
FOOTPRINT_POINT_LATITUDE = (-19.6595,-19.7074,-19.7745,-19.8464, -19.8828,-19.931,-19.9329,-19.9282, -18.7079,-17.5155,-16.3473,-15.2091, -14.0968,-13.0099,-11.948,-10.9096, -9.89478,-8.90478,-7.93154,-6.99064, -5.59523,-4.6945,-3.81598,-2.9561, -2.11467,-1.29101,-0.484451,0.306284, 1.08329,1.84456,2.58808,4.03106,5.41826 ,6.75246,8.03692,9.27418,10.4672, 11.6201,12.7349,13.8092,14.844,15.8444, 16.8128,17.7508,17.9807,17.9831,18.2835 ,18.5396,18.7836,19.0163,19.2386, 19.4502,19.6516,19.843,20.0246,20.1957, 20.3565,20.5073,20.6647,20.6814,20.6868 ,19.6389,18.5606,17.4507,16.3074, 15.1293,13.9147,12.6616,11.3679,10.0314 ,8.6499,7.22091,5.74191,4.98289,4.21047 ,3.42406,2.6231,1.80273,0.971735, 0.124986,-0.737737,-1.61724,-2.51288, -3.42628,-4.36523,-5.31668,-6.28418, -7.2739,-8.2843,-9.31595,-10.3687, -11.4436,-12.5414,-13.6628,-14.8085, -15.9789,-17.1785,-19.0221,-19.6501, -19.6595)
FOOTPRINT_POINT_LONGITUDE = (271.271,270.435,269.158,267.606, 266.718,265.378,265.322,265.317,265.181 ,265.041,264.898,264.751,264.601, 264.448,264.291,264.133,263.971,263.804 ,263.642,263.461,263.217,263.044, 262.868,262.692,262.513,262.332,262.151 ,261.969,261.785,261.601,261.415, 261.041,260.663,260.282,259.897,259.509 ,259.118,258.728,258.337,257.941, 257.538,257.132,256.725,256.317,256.214 ,256.213,257.533,258.711,259.885, 261.057,262.23,263.403,264.58,265.761, 266.95,268.144,269.347,270.56,271.941, 272.095,272.147,272.086,272.029,271.974 ,271.921,271.871,271.824,271.779, 271.736,271.697,271.66,271.625,271.593, 271.577,271.562,271.547,271.532,271.518 ,271.504,271.492,271.479,271.467, 271.453,271.439,271.445,271.428,271.404 ,271.392,271.382,271.372,271.362, 271.351,271.34,271.328,271.317,271.305, 271.292,271.271,271.264,271.271)
ORBIT_NUMBER = 10835
ORBITAL_ECCENTRICITY = 0.577
ORBITAL_INCLINATION = 86.88
ORBITAL_SEMIMAJOR_AXIS = 8758.24
PERIAPSIS_ALTITUDE = 328.16
PERIAPSIS_ARGUMENT_ANGLE = 268.64
PERIAPSIS_TIME = 2012-07-04T20:30:09.000Z
SPACECRAFT_ORIENTATION = (0.0,1.0,0.0)
^MEX_ORIENTATION_DESC = "MEX_ORIENTATION_DESC.TXT"
SPACECRAFT_POINTING_MODE = NADIR
^MEX_POINTING_DESC = "MEX_POINTING_DESC.TXT"
RIGHT_ASCENSION = -1e+32
DECLINATION = -1e+32
OFFSET_ANGLE = -1e+32
SPACECRAFT_SOLAR_DISTANCE = 2.3578e+08
TARGET_NAME = MARS
/* CAMERA DATA ELEMENTS */
DETECTOR_TEMPERATURE = 18.1666
FOCAL_PLANE_TEMPERATURE = 7.9716
INST_CMPRS_NAME = "DISCRETE COSINE TRANSFORMATION (DCT)"
INST_CMPRS_RATIO = 24.8403
INST_CMPRS_QUALITY = 0
INST_CMPRS_QUANTZ_TBL_ID = 0
INSTRUMENT_TEMPERATURE = 11.0301
LENS_TEMPERATURE = 8.5833
MACROPIXEL_SIZE = 4
PIXEL_SUBSAMPLING_FLAG = N
SIGNAL_CHAIN_ID = 2
/* RADIOMETRIC DATA ELEMENTS */
BANDWIDTH = 88.0
CENTER_FILTER_WAVELENGTH = 538.0
RADIANCE_OFFSET = 1.47976
RADIANCE_SCALING_FACTOR = 0.0150877
REFLECTANCE_SCALING_FACTOR = 0.000722137
MEX:REFLECTANCE_OFFSET = 0.070825
/* IMAGE OBJECT DEFINITIONS */
OBJECT = IMAGE
  INTERCHANGE_FORMAT = BINARY
  LINES = 11978
  LINE_SAMPLES = 3894
  SAMPLE_TYPE = UNSIGNED_INTEGER
  SAMPLE_BITS = 8
  BANDS = 1
  BAND_STORAGE_TYPE = BAND_SEQUENTIAL
  MAXIMUM = 255
  MEAN = 145.957
  MINIMUM = 1
  STANDARD_DEVIATION = 51.1409
END_OBJECT = IMAGE
/* MAP OBJECT DEFINITIONS */
OBJECT = IMAGE_MAP_PROJECTION
  ^DATA_SET_MAP_PROJECTION_CATALOG= "DSMAP.CAT"
  A_AXIS_RADIUS = 3396.0
  B_AXIS_RADIUS = 3396.0
  C_AXIS_RADIUS = 3396.0
  CENTER_LATITUDE = 0.0
  CENTER_LONGITUDE = 266.0
  COORDINATE_SYSTEM_NAME = PLANETOGRAPHIC
  COORDINATE_SYSTEM_TYPE = "BODY-FIXED ROTATING"
  EASTERNMOST_LONGITUDE = 272.147
  FIRST_STANDARD_PARALLEL = "N/A"
  LINE_FIRST_PIXEL = 1
  LINE_LAST_PIXEL = 11978
  LINE_PROJECTION_OFFSET = 6073.0
  MAP_PROJECTION_ROTATION = 0.0
  MAP_PROJECTION_TYPE = SINUSOIDAL
  MAP_RESOLUTION = 296.356901933333
  MAP_SCALE = 0.2
  MAXIMUM_LATITUDE = 20.6868
  MINIMUM_LATITUDE = -19.9329
  POSITIVE_LONGITUDE_DIRECTION = EAST
  REFERENCE_LATITUDE = "N/A"
  REFERENCE_LONGITUDE = "N/A"
  SAMPLE_FIRST_PIXEL = 1
  SAMPLE_LAST_PIXEL = 3894
  SAMPLE_PROJECTION_OFFSET = 2410.0
  SECOND_STANDARD_PARALLEL = "N/A"
  WESTERNMOST_LONGITUDE = 256.213
END_OBJECT = IMAGE_MAP_PROJECTION
END
