PDS_VERSION_ID = PDS3
/* FILE DATA ELEMENTS */
RECORD_TYPE = UNDEFINED
/* POINTERS TO DATA OBJECTS */
^IMAGE = ("HA778_0000_S24.TIF")
/* IDENTIFICATION DATA ELEMENTS */
DATA_SET_ID = "MEX-M-HRSC-4-REFDR-MAPPROJECT-EXT3-V4.0"
DATA_SET_NAME = "MARS EXPRESS HRSC MAP PROJECTED REFDR EXTENSION3 V4.0"
DETECTOR_ID = MEX_HRSC_S2
EVENT_TYPE = "MARS-REGIONAL-MAPPING-Im-Fl-Pf"
INSTRUMENT_HOST_ID = MEX
INSTRUMENT_HOST_NAME = "MARS EXPRESS"
INSTRUMENT_ID = HRSC
INSTRUMENT_NAME = "HIGH RESOLUTION STEREO CAMERA"
MISSION_NAME = "MARS EXPRESS"
MISSION_PHASE_NAME = ME_Phase_26
PROCESSING_LEVEL_ID = 4
PRODUCT_CREATION_TIME = 2023-02-05T03:55:10.000Z
PRODUCT_ID = "HA778_0000_S24.TIF"
RELEASE_ID = 0009
REVISION_ID = 0000
/* QUALITY DATA ELEMENTS */
DATA_QUALITY_ID = 1
DATA_QUALITY_DESC = "Data calculated based on original SPICE kernels"
/* TIME DATA ELEMENTS */
SPACECRAFT_CLOCK_START_COUNT = "1/0288079658.09063"
SPACECRAFT_CLOCK_STOP_COUNT = "1/0288079967.55554"
START_TIME = 2012-06-18T06:07:41.934Z
STOP_TIME = 2012-06-18T06:10:35.463Z
/* ORBITAL DATA ELEMENTS */
ASCENDING_NODE_LONGITUDE = 11.66
MAXIMUM_RESOLUTION = 0.0377
FOOTPRINT_POINT_LATITUDE = (-55.263,-55.2383,-55.2116,-55.1829, -55.1521,-55.1193,-55.0705,-55.0682, -54.9901,-54.7651,-54.5385,-54.3137, -54.0873,-53.8648,-53.6361,-53.4064, -53.1816,-52.9584,-52.6275,-52.4034, -52.1837,-51.9596,-51.7322,-51.5064, -51.1681,-50.9459,-50.6126,-50.2787, -50.0593,-49.8383,-49.6188,-49.3988, -49.1692,-48.8253,-48.604,-48.2725, -47.9415,-47.6123,-47.2926,-47.0726, -46.6343,-46.4123,-46.193,-45.9738, -45.755,-45.3244,-44.7782,-44.4504, -44.0131,-43.904,-43.8832,-43.91, -43.9442,-43.9792,-44.0173,-44.0474, -44.0485,-44.0494,-44.2688,-44.4882, -44.9243,-45.358,-45.5783,-45.9083, -46.1286,-46.3491,-46.5703,-47.0078, -47.2273,-47.4471,-47.6684,-47.8905, -48.1134,-48.335,-48.5572,-48.7794, -49.1076,-49.4455,-49.6677,-49.8885, -50.1111,-50.4462,-50.6701,-51.006, -51.56,-51.7834,-52.01,-52.3449, -52.5693,-52.7976,-53.0218,-53.3517, -53.691,-53.9217,-54.147,-54.4818, -54.7072,-55.0467,-55.1591,-55.263)
FOOTPRINT_POINT_LONGITUDE = (335.582,335.176,334.768,334.356, 333.943,333.526,332.947,332.92,332.849, 332.881,332.911,332.941,332.97,333.001, 333.027,333.051,333.078,333.106,333.149 ,333.174,333.202,333.227,333.247, 333.269,333.3,333.323,333.356,333.387, 333.409,333.43,333.451,333.471,333.484, 333.502,333.52,333.545,333.57,333.594, 333.624,333.639,333.667,333.679,333.692 ,333.705,333.717,333.745,333.773, 333.788,333.806,333.81,333.811,334.172, 334.643,335.218,335.952,336.599,336.626 ,336.635,336.621,336.607,336.578, 336.548,336.533,336.509,336.493,336.477 ,336.46,336.427,336.41,336.392,336.375, 336.357,336.338,336.32,336.301,336.282, 336.253,336.222,336.202,336.182,336.161 ,336.129,336.107,336.073,336.017, 335.993,335.969,335.932,335.908,335.882 ,335.856,335.818,335.777,335.749, 335.722,335.679,335.651,335.606,335.591 ,335.582)
ORBIT_NUMBER = 10778
ORBITAL_ECCENTRICITY = 0.577
ORBITAL_INCLINATION = 86.89
ORBITAL_SEMIMAJOR_AXIS = 8758.35
PERIAPSIS_ALTITUDE = 328.45
PERIAPSIS_ARGUMENT_ANGLE = 278.26
PERIAPSIS_TIME = 2012-06-18T06:01:33.000Z
SPACECRAFT_ORIENTATION = (0.0,1.0,0.0)
^MEX_ORIENTATION_DESC = "MEX_ORIENTATION_DESC.TXT"
SPACECRAFT_POINTING_MODE = ACROSSTRACK
^MEX_POINTING_DESC = "MEX_POINTING_DESC.TXT"
RIGHT_ASCENSION = -1e+32
DECLINATION = -1e+32
OFFSET_ANGLE = 0.79
SPACECRAFT_SOLAR_DISTANCE = 2.38574e+08
TARGET_NAME = MARS
/* CAMERA DATA ELEMENTS */
DETECTOR_TEMPERATURE = 18.5744
FOCAL_PLANE_TEMPERATURE = 8.3794
INST_CMPRS_NAME = "DISCRETE COSINE TRANSFORMATION (DCT)"
INST_CMPRS_RATIO = 6.10345
INST_CMPRS_QUALITY = 0
INST_CMPRS_QUANTZ_TBL_ID = 0
INSTRUMENT_TEMPERATURE = 11.234
LENS_TEMPERATURE = 8.7872
MACROPIXEL_SIZE = 2
MISSING_FRAMES = 0
PIXEL_SUBSAMPLING_FLAG = N
SIGNAL_CHAIN_ID = 1
/* RADIOMETRIC DATA ELEMENTS */
BANDWIDTH = 178.0
CENTER_FILTER_WAVELENGTH = 679.0
RADIANCE_OFFSET = 0.807686
RADIANCE_SCALING_FACTOR = 0.0198682
REFLECTANCE_SCALING_FACTOR = 0.000598871
MEX:REFLECTANCE_OFFSET = 0.0243454
/* IMAGE OBJECT DEFINITIONS */
OBJECT = IMAGE
  INTERCHANGE_FORMAT = BINARY
  LINES = 13301
  LINE_SAMPLES = 3007
  SAMPLE_TYPE = UNSIGNED_INTEGER
  SAMPLE_BITS = 8
  BANDS = 1
  BAND_STORAGE_TYPE = BAND_SEQUENTIAL
  MAXIMUM = 255
  MEAN = 140.531
  MINIMUM = 1
  STANDARD_DEVIATION = 30.2244
END_OBJECT = IMAGE
/* MAP OBJECT DEFINITIONS */
OBJECT = IMAGE_MAP_PROJECTION
  ^DATA_SET_MAP_PROJECTION_CATALOG= "DSMAP.CAT"
  A_AXIS_RADIUS = 3396.0
  B_AXIS_RADIUS = 3396.0
  C_AXIS_RADIUS = 3396.0
  CENTER_LATITUDE = 0.0
  CENTER_LONGITUDE = 335.0
  COORDINATE_SYSTEM_NAME = PLANETOGRAPHIC
  COORDINATE_SYSTEM_TYPE = "BODY-FIXED ROTATING"
  EASTERNMOST_LONGITUDE = 336.635
  FIRST_STANDARD_PARALLEL = "N/A"
  LINE_FIRST_PIXEL = 1
  LINE_LAST_PIXEL = 13301
  LINE_PROJECTION_OFFSET = -52051.75
  MAP_PROJECTION_ROTATION = 0.0
  MAP_PROJECTION_TYPE = SINUSOIDAL
  MAP_RESOLUTION = 1185.42760773333
  MAP_SCALE = 0.05
  MAXIMUM_LATITUDE = -43.8832
  MINIMUM_LATITUDE = -55.263
  POSITIVE_LONGITUDE_DIRECTION = EAST
  REFERENCE_LATITUDE = "N/A"
  REFERENCE_LONGITUDE = "N/A"
  SAMPLE_FIRST_PIXEL = 1
  SAMPLE_LAST_PIXEL = 3007
  SAMPLE_PROJECTION_OFFSET = 1511.75
  SECOND_STANDARD_PARALLEL = "N/A"
  WESTERNMOST_LONGITUDE = 332.849
END_OBJECT = IMAGE_MAP_PROJECTION
END
