PDS_VERSION_ID = PDS3
/* FILE DATA ELEMENTS */
RECORD_TYPE = UNDEFINED
/* POINTERS TO DATA OBJECTS */
^IMAGE = ("HA778_0000_GR4.TIF")
/* IDENTIFICATION DATA ELEMENTS */
DATA_SET_ID = "MEX-M-HRSC-4-REFDR-MAPPROJECT-EXT3-V4.0"
DATA_SET_NAME = "MARS EXPRESS HRSC MAP PROJECTED REFDR EXTENSION3 V4.0"
DETECTOR_ID = MEX_HRSC_GREEN
EVENT_TYPE = "MARS-REGIONAL-MAPPING-Im-Fl-Pf"
INSTRUMENT_HOST_ID = MEX
INSTRUMENT_HOST_NAME = "MARS EXPRESS"
INSTRUMENT_ID = HRSC
INSTRUMENT_NAME = "HIGH RESOLUTION STEREO CAMERA"
MISSION_NAME = "MARS EXPRESS"
MISSION_PHASE_NAME = ME_Phase_26
PROCESSING_LEVEL_ID = 4
PRODUCT_CREATION_TIME = 2023-02-05T03:55:10.000Z
PRODUCT_ID = "HA778_0000_GR4.TIF"
RELEASE_ID = 0009
REVISION_ID = 0000
/* QUALITY DATA ELEMENTS */
DATA_QUALITY_ID = 1
DATA_QUALITY_DESC = "Data calculated based on original SPICE kernels"
/* TIME DATA ELEMENTS */
SPACECRAFT_CLOCK_START_COUNT = "1/0288079658.09063"
SPACECRAFT_CLOCK_STOP_COUNT = "1/0288079967.55554"
START_TIME = 2012-06-18T06:08:32.661Z
STOP_TIME = 2012-06-18T06:11:46.195Z
/* ORBITAL DATA ELEMENTS */
ASCENDING_NODE_LONGITUDE = 11.66
MAXIMUM_RESOLUTION = 0.0761
FOOTPRINT_POINT_LATITUDE = (-55.107,-55.0942,-55.0798,-55.0639, -55.0465,-55.0276,-54.9933,-54.9919, -54.9973,-54.6533,-54.4243,-54.1958, -53.9675,-53.7313,-53.3907,-53.1636, -52.8235,-52.4838,-52.2579,-52.0323, -51.8076,-51.5832,-51.3595,-51.1357, -50.912,-50.5771,-50.2434,-50.021, -49.7993,-49.5777,-49.3565,-49.1368, -48.8078,-48.5882,-48.3689,-48.1501, -47.9316,-47.7135,-47.4948,-47.1686, -46.952,-46.7356,-46.3043,-45.8744, -45.446,-44.9124,-44.4879,-44.0652, -43.9597,-43.9079,-43.93,-43.9446, -43.9533,-43.9659,-43.974,-43.9789, -43.9792,-43.9802,-44.4043,-44.9373, -45.2587,-45.6876,-46.1184,-46.5504, -46.7674,-46.9849,-47.2026,-47.5299, -47.8578,-48.0766,-48.2961,-48.5159, -48.7361,-48.9568,-49.1789,-49.3995, -49.6212,-49.8436,-50.0663,-50.2892, -50.5124,-50.7358,-50.9595,-51.1851, -51.4099,-51.6347,-51.8602,-52.0859, -52.312,-52.5391,-52.8789,-53.2201, -53.4491,-53.7913,-54.1427,-54.4874, -54.7173,-54.9475,-55.0628,-55.107)
FOOTPRINT_POINT_LONGITUDE = (335.691,335.275,334.857,334.435, 334.011,333.585,332.884,332.857,332.776 ,332.822,332.853,332.882,332.911, 332.939,332.974,333.001,333.041,333.083 ,333.109,333.135,333.156,333.176, 333.193,333.214,333.236,333.269,333.297 ,333.319,333.337,333.358,333.376, 333.387,333.403,333.419,333.435,333.45, 333.465,333.48,333.5,333.523,333.536, 333.549,333.572,333.594,333.616,333.643 ,333.661,333.676,333.68,333.682,334.355 ,334.879,335.225,335.829,336.315, 336.741,336.77,336.779,336.749,336.711, 336.688,336.656,336.623,336.588,336.571 ,336.554,336.536,336.509,336.48,336.461 ,336.442,336.422,336.403,336.382, 336.362,336.341,336.32,336.299,336.277, 336.255,336.232,336.209,336.186,336.163 ,336.139,336.115,336.09,336.065,336.039 ,336.014,335.974,335.933,335.906, 335.863,335.819,335.775,335.744,335.714 ,335.698,335.691)
ORBIT_NUMBER = 10778
ORBITAL_ECCENTRICITY = 0.577
ORBITAL_INCLINATION = 86.89
ORBITAL_SEMIMAJOR_AXIS = 8758.35
PERIAPSIS_ALTITUDE = 328.45
PERIAPSIS_ARGUMENT_ANGLE = 278.26
PERIAPSIS_TIME = 2012-06-18T06:01:33.000Z
SPACECRAFT_ORIENTATION = (0.0,1.0,0.0)
^MEX_ORIENTATION_DESC = "MEX_ORIENTATION_DESC.TXT"
SPACECRAFT_POINTING_MODE = ACROSSTRACK
^MEX_POINTING_DESC = "MEX_POINTING_DESC.TXT"
RIGHT_ASCENSION = -1e+32
DECLINATION = -1e+32
OFFSET_ANGLE = 0.79
SPACECRAFT_SOLAR_DISTANCE = 2.38574e+08
TARGET_NAME = MARS
/* CAMERA DATA ELEMENTS */
DETECTOR_TEMPERATURE = 18.9822
FOCAL_PLANE_TEMPERATURE = 8.3794
INST_CMPRS_NAME = "DISCRETE COSINE TRANSFORMATION (DCT)"
INST_CMPRS_RATIO = 4.91496
INST_CMPRS_QUALITY = 0
INST_CMPRS_QUANTZ_TBL_ID = 0
INSTRUMENT_TEMPERATURE = 11.234
LENS_TEMPERATURE = 8.7872
MACROPIXEL_SIZE = 4
MISSING_FRAMES = 1
PIXEL_SUBSAMPLING_FLAG = N
SIGNAL_CHAIN_ID = 2
/* RADIOMETRIC DATA ELEMENTS */
BANDWIDTH = 88.0
CENTER_FILTER_WAVELENGTH = 538.0
RADIANCE_OFFSET = 0.320082
RADIANCE_SCALING_FACTOR = 0.00605969
REFLECTANCE_SCALING_FACTOR = 0.000296951
MEX:REFLECTANCE_OFFSET = 0.0156854
/* IMAGE OBJECT DEFINITIONS */
OBJECT = IMAGE
  INTERCHANGE_FORMAT = BINARY
  LINES = 6651
  LINE_SAMPLES = 1504
  SAMPLE_TYPE = UNSIGNED_INTEGER
  SAMPLE_BITS = 8
  BANDS = 1
  BAND_STORAGE_TYPE = BAND_SEQUENTIAL
  MAXIMUM = 255
  MEAN = 152.306
  MINIMUM = 1
  STANDARD_DEVIATION = 31.8775
END_OBJECT = IMAGE
/* MAP OBJECT DEFINITIONS */
OBJECT = IMAGE_MAP_PROJECTION
  ^DATA_SET_MAP_PROJECTION_CATALOG= "DSMAP.CAT"
  A_AXIS_RADIUS = 3396.0
  B_AXIS_RADIUS = 3396.0
  C_AXIS_RADIUS = 3396.0
  CENTER_LATITUDE = 0.0
  CENTER_LONGITUDE = 335.0
  COORDINATE_SYSTEM_NAME = PLANETOGRAPHIC
  COORDINATE_SYSTEM_TYPE = "BODY-FIXED ROTATING"
  EASTERNMOST_LONGITUDE = 336.779
  FIRST_STANDARD_PARALLEL = "N/A"
  LINE_FIRST_PIXEL = 1
  LINE_LAST_PIXEL = 6651
  LINE_PROJECTION_OFFSET = -26026.125
  MAP_PROJECTION_ROTATION = 0.0
  MAP_PROJECTION_TYPE = SINUSOIDAL
  MAP_RESOLUTION = 592.713803866667
  MAP_SCALE = 0.1
  MAXIMUM_LATITUDE = -43.9079
  MINIMUM_LATITUDE = -55.107
  POSITIVE_LONGITUDE_DIRECTION = EAST
  REFERENCE_LATITUDE = "N/A"
  REFERENCE_LONGITUDE = "N/A"
  SAMPLE_FIRST_PIXEL = 1
  SAMPLE_LAST_PIXEL = 1504
  SAMPLE_PROJECTION_OFFSET = 755.625
  SECOND_STANDARD_PARALLEL = "N/A"
  WESTERNMOST_LONGITUDE = 332.776
END_OBJECT = IMAGE_MAP_PROJECTION
END
