PDS_VERSION_ID = PDS3
/* FILE DATA ELEMENTS */
RECORD_TYPE = UNDEFINED
/* POINTERS TO DATA OBJECTS */
^IMAGE = ("HA776_0000_ND4.TIF")
/* IDENTIFICATION DATA ELEMENTS */
DATA_SET_ID = "MEX-M-HRSC-4-REFDR-MAPPROJECT-EXT3-V4.0"
DATA_SET_NAME = "MARS EXPRESS HRSC MAP PROJECTED REFDR EXTENSION3 V4.0"
DETECTOR_ID = MEX_HRSC_NADIR
EVENT_TYPE = "MARS-REGIONAL-MAPPING-Im-Fl-Lc"
INSTRUMENT_HOST_ID = MEX
INSTRUMENT_HOST_NAME = "MARS EXPRESS"
INSTRUMENT_ID = HRSC
INSTRUMENT_NAME = "HIGH RESOLUTION STEREO CAMERA"
MISSION_NAME = "MARS EXPRESS"
MISSION_PHASE_NAME = ME_Phase_26
PROCESSING_LEVEL_ID = 4
PRODUCT_CREATION_TIME = 2023-02-05T03:55:10.000Z
PRODUCT_ID = "HA776_0000_ND4.TIF"
RELEASE_ID = 0009
REVISION_ID = 0000
/* QUALITY DATA ELEMENTS */
DATA_QUALITY_ID = 1
DATA_QUALITY_DESC = "Data calculated based on original SPICE kernels"
/* TIME DATA ELEMENTS */
SPACECRAFT_CLOCK_START_COUNT = "1/0288029360.08257"
SPACECRAFT_CLOCK_STOP_COUNT = "1/0288029739.16698"
START_TIME = 2012-06-17T16:10:09.439Z
STOP_TIME = 2012-06-17T16:14:09.395Z
/* ORBITAL DATA ELEMENTS */
ASCENDING_NODE_LONGITUDE = 11.69
MAXIMUM_RESOLUTION = 0.0198
FOOTPRINT_POINT_LATITUDE = (-52.7009,-52.6887,-52.6753,-52.6632, -52.6468,-52.6282,-52.6271,-52.6253, -52.1512,-51.5501,-51.1867,-50.697, -50.201,-49.5746,-49.3224,-49.0677, -48.8115,-48.4256,-48.1656,-47.9062, -47.6424,-47.3791,-46.9795,-46.7127, -46.4422,-46.1716,-45.7612,-45.4872, -45.2091,-44.9316,-44.6501,-44.2268, -43.9421,-43.6552,-43.3672,-43.0764, -42.6376,-42.3427,-42.0455,-41.5966, -41.2951,-40.9906,-40.6851,-40.377, -40.0662,-39.7542,-39.4396,-39.1224, -38.9637,-38.9564,-38.9687,-38.9743, -38.9776,-38.9797,-38.9795,-38.9771, -38.9769,-38.9772,-39.4556,-39.7717, -40.0853,-40.3977,-40.7073,-41.0143, -41.3203,-41.6231,-42.0741,-42.3728, -42.669,-43.1098,-43.4019,-43.6912, -43.9793,-44.2652,-44.6903,-44.9731, -45.2517,-45.5308,-45.8059,-46.2181, -46.4897,-46.7613,-47.0292,-47.4304, -47.6947,-47.9594,-48.2199,-48.4808, -48.8683,-49.1254,-49.3812,-49.6343, -50.263,-50.7609,-51.2523,-51.7379, -52.2204,-52.5771,-52.6961,-52.7009)
FOOTPRINT_POINT_LONGITUDE = (182.055,181.363,180.784,180.344, 179.824,179.304,179.277,179.238,179.269 ,179.308,179.33,179.357,179.384,179.415 ,179.426,179.439,179.449,179.465, 179.475,179.484,179.494,179.502,179.515 ,179.523,179.531,179.536,179.548, 179.553,179.558,179.562,179.568,179.575 ,179.578,179.582,179.584,179.587, 179.591,179.593,179.594,179.595,179.595 ,179.594,179.593,179.592,179.591, 179.589,179.586,179.583,179.581,179.581 ,180.305,180.777,181.186,181.756, 182.228,182.736,182.768,182.783,182.766 ,182.757,182.746,182.735,182.725, 182.714,182.703,182.692,182.675,182.663 ,182.649,182.631,182.62,182.608,182.596 ,182.584,182.567,182.552,182.539, 182.526,182.512,182.493,182.477,182.463 ,182.449,182.431,182.418,182.398, 182.384,182.369,182.35,182.334,182.319, 182.304,182.265,182.234,182.201,182.167 ,182.131,182.106,182.098,182.055)
ORBIT_NUMBER = 10776
ORBITAL_ECCENTRICITY = 0.577
ORBITAL_INCLINATION = 86.88
ORBITAL_SEMIMAJOR_AXIS = 8760.08
PERIAPSIS_ALTITUDE = 328.84
PERIAPSIS_ARGUMENT_ANGLE = 278.6
PERIAPSIS_TIME = 2012-06-17T16:02:42.000Z
SPACECRAFT_ORIENTATION = (0.0,1.0,0.0)
^MEX_ORIENTATION_DESC = "MEX_ORIENTATION_DESC.TXT"
SPACECRAFT_POINTING_MODE = ACROSSTRACK
^MEX_POINTING_DESC = "MEX_POINTING_DESC.TXT"
RIGHT_ASCENSION = -1e+32
DECLINATION = -1e+32
OFFSET_ANGLE = -0.2
SPACECRAFT_SOLAR_DISTANCE = 2.38668e+08
TARGET_NAME = MARS
/* CAMERA DATA ELEMENTS */
DETECTOR_TEMPERATURE = 18.1666
FOCAL_PLANE_TEMPERATURE = 8.7872
INST_CMPRS_NAME = "DISCRETE COSINE TRANSFORMATION (DCT)"
INST_CMPRS_RATIO = 5.88304
INST_CMPRS_QUALITY = 0
INST_CMPRS_QUANTZ_TBL_ID = 0
INSTRUMENT_TEMPERATURE = 11.8457
LENS_TEMPERATURE = 8.7872
MACROPIXEL_SIZE = 1
MISSING_FRAMES = 0
PIXEL_SUBSAMPLING_FLAG = N
SIGNAL_CHAIN_ID = 0
/* RADIOMETRIC DATA ELEMENTS */
BANDWIDTH = 177.0
CENTER_FILTER_WAVELENGTH = 677.5
RADIANCE_OFFSET = 0.297947
RADIANCE_SCALING_FACTOR = 0.0191954
REFLECTANCE_SCALING_FACTOR = 0.000580858
MEX:REFLECTANCE_OFFSET = 0.00901593
/* IMAGE OBJECT DEFINITIONS */
OBJECT = IMAGE
  INTERCHANGE_FORMAT = BINARY
  LINES = 32587
  LINE_SAMPLES = 5904
  SAMPLE_TYPE = UNSIGNED_INTEGER
  SAMPLE_BITS = 8
  BANDS = 1
  BAND_STORAGE_TYPE = BAND_SEQUENTIAL
  MAXIMUM = 255
  MEAN = 109.359
  MINIMUM = 1
  STANDARD_DEVIATION = 24.2517
END_OBJECT = IMAGE
/* MAP OBJECT DEFINITIONS */
OBJECT = IMAGE_MAP_PROJECTION
  ^DATA_SET_MAP_PROJECTION_CATALOG= "DSMAP.CAT"
  A_AXIS_RADIUS = 3396.0
  B_AXIS_RADIUS = 3396.0
  C_AXIS_RADIUS = 3396.0
  CENTER_LATITUDE = 0.0
  CENTER_LONGITUDE = 181.0
  COORDINATE_SYSTEM_NAME = PLANETOGRAPHIC
  COORDINATE_SYSTEM_TYPE = "BODY-FIXED ROTATING"
  EASTERNMOST_LONGITUDE = 182.783
  FIRST_STANDARD_PARALLEL = "N/A"
  LINE_FIRST_PIXEL = 1
  LINE_LAST_PIXEL = 32587
  LINE_PROJECTION_OFFSET = -92362.0
  MAP_PROJECTION_ROTATION = 0.0
  MAP_PROJECTION_TYPE = SINUSOIDAL
  MAP_RESOLUTION = 2370.85521546667
  MAP_SCALE = 0.025
  MAXIMUM_LATITUDE = -38.9564
  MINIMUM_LATITUDE = -52.7009
  POSITIVE_LONGITUDE_DIRECTION = EAST
  REFERENCE_LATITUDE = "N/A"
  REFERENCE_LONGITUDE = "N/A"
  SAMPLE_FIRST_PIXEL = 1
  SAMPLE_LAST_PIXEL = 5904
  SAMPLE_PROJECTION_OFFSET = 2615.0
  SECOND_STANDARD_PARALLEL = "N/A"
  WESTERNMOST_LONGITUDE = 179.238
END_OBJECT = IMAGE_MAP_PROJECTION
END
