PDS_VERSION_ID = PDS3
/* FILE DATA ELEMENTS */
RECORD_TYPE = UNDEFINED
/* POINTERS TO DATA OBJECTS */
^IMAGE = ("HA776_0000_GR4.TIF")
/* IDENTIFICATION DATA ELEMENTS */
DATA_SET_ID = "MEX-M-HRSC-4-REFDR-MAPPROJECT-EXT3-V4.0"
DATA_SET_NAME = "MARS EXPRESS HRSC MAP PROJECTED REFDR EXTENSION3 V4.0"
DETECTOR_ID = MEX_HRSC_GREEN
EVENT_TYPE = "MARS-REGIONAL-MAPPING-Im-Fl-Lc"
INSTRUMENT_HOST_ID = MEX
INSTRUMENT_HOST_NAME = "MARS EXPRESS"
INSTRUMENT_ID = HRSC
INSTRUMENT_NAME = "HIGH RESOLUTION STEREO CAMERA"
MISSION_NAME = "MARS EXPRESS"
MISSION_PHASE_NAME = ME_Phase_26
PROCESSING_LEVEL_ID = 4
PRODUCT_CREATION_TIME = 2023-02-05T03:55:10.000Z
PRODUCT_ID = "HA776_0000_GR4.TIF"
RELEASE_ID = 0009
REVISION_ID = 0000
/* QUALITY DATA ELEMENTS */
DATA_QUALITY_ID = 1
DATA_QUALITY_DESC = "Data calculated based on original SPICE kernels"
/* TIME DATA ELEMENTS */
SPACECRAFT_CLOCK_START_COUNT = "1/0288029360.08257"
SPACECRAFT_CLOCK_STOP_COUNT = "1/0288029739.16698"
START_TIME = 2012-06-17T16:10:17.975Z
STOP_TIME = 2012-06-17T16:14:23.039Z
/* ORBITAL DATA ELEMENTS */
ASCENDING_NODE_LONGITUDE = 11.69
MAXIMUM_RESOLUTION = 0.0803
FOOTPRINT_POINT_LATITUDE = (-52.6749,-52.6572,-52.6453,-52.6332, -52.6197,-52.5989,-52.5979,-52.6072, -52.1307,-51.6512,-51.1667,-50.6752, -50.4296,-50.1797,-49.8054,-49.5529, -49.2994,-49.0454,-48.7883,-48.5316, -48.1421,-47.8822,-47.6186,-47.3549, -46.9552,-46.6881,-46.4172,-46.1474, -45.8737,-45.5998,-45.3234,-45.0462, -44.7667,-44.4855,-44.202,-43.7747, -43.4875,-43.1982,-42.7608,-42.4669, -42.1705,-41.7231,-41.2718,-40.8155, -40.3545,-39.8887,-39.5762,-39.1024, -38.9432,-38.9399,-38.9474,-38.9558, -38.9615,-38.9644,-38.9628,-38.9617, -38.9615,-38.9631,-39.4403,-39.7564, -40.0709,-40.3818,-40.8454,-41.3042, -41.7581,-42.2075,-42.5049,-42.7993, -43.2384,-43.5296,-43.8183,-44.248, -44.5334,-44.8147,-45.0955,-45.3739, -45.6516,-45.9268,-46.3371,-46.6078, -47.0118,-47.4137,-47.6791,-47.942, -48.203,-48.5945,-48.8524,-49.2382, -49.4922,-49.873,-50.1231,-50.3741, -50.7461,-50.993,-51.2393,-51.7253, -52.2064,-52.5661,-52.685,-52.6749)
FOOTPRINT_POINT_LONGITUDE = (182.076,181.179,180.707,180.288,179.87 ,179.296,179.27,179.236,179.268,179.298 ,179.327,179.355,179.368,179.381, 179.399,179.411,179.423,179.434,179.445 ,179.456,179.47,179.479,179.488,179.497 ,179.509,179.517,179.524,179.53,179.537 ,179.543,179.548,179.553,179.557, 179.563,179.566,179.571,179.574,179.575 ,179.579,179.581,179.583,179.584, 179.583,179.581,179.579,179.576,179.574 ,179.569,179.567,179.567,179.988, 180.623,181.409,181.745,182.289,182.777 ,182.808,182.818,182.8,182.79,182.779, 182.768,182.752,182.735,182.717,182.699 ,182.687,182.673,182.655,182.643, 182.631,182.612,182.601,182.586,182.572 ,182.559,182.545,182.532,182.512, 182.495,182.474,182.455,182.443,182.423 ,182.408,182.387,182.373,182.35,182.335 ,182.311,182.295,182.28,182.256,182.239 ,182.222,182.188,182.152,182.127, 182.118,182.076)
ORBIT_NUMBER = 10776
ORBITAL_ECCENTRICITY = 0.577
ORBITAL_INCLINATION = 86.88
ORBITAL_SEMIMAJOR_AXIS = 8760.08
PERIAPSIS_ALTITUDE = 328.84
PERIAPSIS_ARGUMENT_ANGLE = 278.6
PERIAPSIS_TIME = 2012-06-17T16:02:42.000Z
SPACECRAFT_ORIENTATION = (0.0,1.0,0.0)
^MEX_ORIENTATION_DESC = "MEX_ORIENTATION_DESC.TXT"
SPACECRAFT_POINTING_MODE = ACROSSTRACK
^MEX_POINTING_DESC = "MEX_POINTING_DESC.TXT"
RIGHT_ASCENSION = -1e+32
DECLINATION = -1e+32
OFFSET_ANGLE = -0.2
SPACECRAFT_SOLAR_DISTANCE = 2.38668e+08
TARGET_NAME = MARS
/* CAMERA DATA ELEMENTS */
DETECTOR_TEMPERATURE = 18.1666
FOCAL_PLANE_TEMPERATURE = 8.7872
INST_CMPRS_NAME = "DISCRETE COSINE TRANSFORMATION (DCT)"
INST_CMPRS_RATIO = 8.16383
INST_CMPRS_QUALITY = 0
INST_CMPRS_QUANTZ_TBL_ID = 0
INSTRUMENT_TEMPERATURE = 11.8457
LENS_TEMPERATURE = 8.7872
MACROPIXEL_SIZE = 4
MISSING_FRAMES = 0
PIXEL_SUBSAMPLING_FLAG = N
SIGNAL_CHAIN_ID = 2
/* RADIOMETRIC DATA ELEMENTS */
BANDWIDTH = 88.0
CENTER_FILTER_WAVELENGTH = 538.0
RADIANCE_OFFSET = 0.177099
RADIANCE_SCALING_FACTOR = 0.00580407
REFLECTANCE_SCALING_FACTOR = 0.000284648
MEX:REFLECTANCE_OFFSET = 0.00868542
/* IMAGE OBJECT DEFINITIONS */
OBJECT = IMAGE
  INTERCHANGE_FORMAT = BINARY
  LINES = 8147
  LINE_SAMPLES = 1476
  SAMPLE_TYPE = UNSIGNED_INTEGER
  SAMPLE_BITS = 8
  BANDS = 1
  BAND_STORAGE_TYPE = BAND_SEQUENTIAL
  MAXIMUM = 255
  MEAN = 136.17
  MINIMUM = 1
  STANDARD_DEVIATION = 21.0473
END_OBJECT = IMAGE
/* MAP OBJECT DEFINITIONS */
OBJECT = IMAGE_MAP_PROJECTION
  ^DATA_SET_MAP_PROJECTION_CATALOG= "DSMAP.CAT"
  A_AXIS_RADIUS = 3396.0
  B_AXIS_RADIUS = 3396.0
  C_AXIS_RADIUS = 3396.0
  CENTER_LATITUDE = 0.0
  CENTER_LONGITUDE = 181.0
  COORDINATE_SYSTEM_NAME = PLANETOGRAPHIC
  COORDINATE_SYSTEM_TYPE = "BODY-FIXED ROTATING"
  EASTERNMOST_LONGITUDE = 182.818
  FIRST_STANDARD_PARALLEL = "N/A"
  LINE_FIRST_PIXEL = 1
  LINE_LAST_PIXEL = 8147
  LINE_PROJECTION_OFFSET = -23090.875
  MAP_PROJECTION_ROTATION = 0.0
  MAP_PROJECTION_TYPE = SINUSOIDAL
  MAP_RESOLUTION = 592.713803866667
  MAP_SCALE = 0.1
  MAXIMUM_LATITUDE = -38.9399
  MINIMUM_LATITUDE = -52.685
  POSITIVE_LONGITUDE_DIRECTION = EAST
  REFERENCE_LATITUDE = "N/A"
  REFERENCE_LONGITUDE = "N/A"
  SAMPLE_FIRST_PIXEL = 1
  SAMPLE_LAST_PIXEL = 1476
  SAMPLE_PROJECTION_OFFSET = 653.375
  SECOND_STANDARD_PARALLEL = "N/A"
  WESTERNMOST_LONGITUDE = 179.236
END_OBJECT = IMAGE_MAP_PROJECTION
END
