PDS_VERSION_ID = PDS3
/* FILE DATA ELEMENTS */
RECORD_TYPE = UNDEFINED
/* POINTERS TO DATA OBJECTS */
^IMAGE = ("HA775_0000_BL4.TIF")
/* IDENTIFICATION DATA ELEMENTS */
DATA_SET_ID = "MEX-M-HRSC-4-REFDR-MAPPROJECT-EXT3-V4.0"
DATA_SET_NAME = "MARS EXPRESS HRSC MAP PROJECTED REFDR EXTENSION3 V4.0"
DETECTOR_ID = MEX_HRSC_BLUE
EVENT_TYPE = "MARS-CLOUD-VARIABLE-At"
INSTRUMENT_HOST_ID = MEX
INSTRUMENT_HOST_NAME = "MARS EXPRESS"
INSTRUMENT_ID = HRSC
INSTRUMENT_NAME = "HIGH RESOLUTION STEREO CAMERA"
MISSION_NAME = "MARS EXPRESS"
MISSION_PHASE_NAME = ME_Phase_26
PROCESSING_LEVEL_ID = 4
PRODUCT_CREATION_TIME = 2023-02-05T03:55:10.000Z
PRODUCT_ID = "HA775_0000_BL4.TIF"
RELEASE_ID = 0009
REVISION_ID = 0000
/* QUALITY DATA ELEMENTS */
DATA_QUALITY_ID = 1
DATA_QUALITY_DESC = "Data calculated based on original SPICE kernels"
/* TIME DATA ELEMENTS */
SPACECRAFT_CLOCK_START_COUNT = "1/0288004750.09052"
SPACECRAFT_CLOCK_STOP_COUNT = "1/0288006364.07374"
START_TIME = 2012-06-17T09:20:40.169Z
STOP_TIME = 2012-06-17T09:41:00.466Z
/* ORBITAL DATA ELEMENTS */
ASCENDING_NODE_LONGITUDE = 11.72
MAXIMUM_RESOLUTION = 0.1822
FOOTPRINT_POINT_LATITUDE = (-20.2122,-20.2814,-20.308,-20.3192, -20.3197,-20.3204,-19.2246,-18.1443, -17.0793,-16.03,-14.9944,-13.9734, -12.9671,-11.9754,-10.9971,-10.0327, -9.08182,-7.67102,-6.76495,-5.41352, -4.09035,-3.22327,-2.36797,-1.52324, -0.691038,0.129003,0.939402,1.73447, 2.52066,3.29636,4.06167,4.81635,5.56103 ,6.29549,7.73491,9.13661,10.502,11.8323 ,13.1286,14.3925,15.6248,16.8269, 17.9997,19.1443,19.4261,19.4426,19.5658 ,19.6867,19.7908,19.892,19.9903,20.086, 20.2475,20.3362,20.4223,20.5375,20.6854 ,20.6949,20.6977,19.4971,18.2699,17.016 ,15.7319,14.4179,13.0733,11.6962, 10.2858,8.84023,7.35702,6.60212,5.83776 ,5.06382,4.27994,3.48642,2.68059, 1.86518,1.04046,0.205463,-0.6335, -1.92659,-2.8068,-3.69327,-4.59142, -5.49138,-6.4149,-7.35702,-8.29495, -9.25599,-10.2345,-11.2187,-12.2288, -13.2427,-14.2701,-15.3121,-16.3686, -17.439,-18.5244,-19.6246,-20.1804, -20.2122)
FOOTPRINT_POINT_LONGITUDE = (285.085,282.962,281.706,280.917, 280.878,280.87,280.788,280.703,280.615, 280.526,280.433,280.336,280.238,280.138 ,280.035,279.929,279.821,279.636, 279.545,279.373,279.196,279.075,278.952 ,278.824,278.696,278.568,278.434, 278.308,278.176,278.041,277.905,277.768 ,277.629,277.489,277.206,276.917, 276.622,276.322,276.017,275.706,275.391 ,275.07,274.744,274.415,274.331,274.326 ,275.249,276.179,277.003,277.825, 278.646,279.468,280.909,281.734,282.562 ,283.705,285.275,285.38,285.415,285.387 ,285.362,285.341,285.32,285.301,285.284 ,285.269,285.256,285.243,285.229, 285.224,285.219,285.214,285.209,285.205 ,285.198,285.193,285.189,285.186, 285.194,285.186,285.175,285.171,285.168 ,285.18,285.176,285.162,285.173,285.168 ,285.157,285.157,285.137,285.132, 285.127,285.121,285.114,285.107,285.098 ,285.089,285.083,285.085)
ORBIT_NUMBER = 10775
ORBITAL_ECCENTRICITY = 0.577
ORBITAL_INCLINATION = 86.88
ORBITAL_SEMIMAJOR_AXIS = 8759.63
PERIAPSIS_ALTITUDE = 328.59
PERIAPSIS_ARGUMENT_ANGLE = 278.78
PERIAPSIS_TIME = 2012-06-17T09:03:18.000Z
SPACECRAFT_ORIENTATION = (0.0,1.0,0.0)
^MEX_ORIENTATION_DESC = "MEX_ORIENTATION_DESC.TXT"
SPACECRAFT_POINTING_MODE = NADIR
^MEX_POINTING_DESC = "MEX_POINTING_DESC.TXT"
RIGHT_ASCENSION = -1e+32
DECLINATION = -1e+32
OFFSET_ANGLE = -1e+32
SPACECRAFT_SOLAR_DISTANCE = 2.38715e+08
TARGET_NAME = MARS
/* CAMERA DATA ELEMENTS */
DETECTOR_TEMPERATURE = 18.5744
FOCAL_PLANE_TEMPERATURE = 8.9911
INST_CMPRS_NAME = "DISCRETE COSINE TRANSFORMATION (DCT)"
INST_CMPRS_RATIO = 36.8893
INST_CMPRS_QUALITY = 0
INST_CMPRS_QUANTZ_TBL_ID = 0
INSTRUMENT_TEMPERATURE = 11.6418
LENS_TEMPERATURE = 9.195
MACROPIXEL_SIZE = 4
MISSING_FRAMES = 0
PIXEL_SUBSAMPLING_FLAG = N
SIGNAL_CHAIN_ID = 2
/* RADIOMETRIC DATA ELEMENTS */
BANDWIDTH = 76.0
CENTER_FILTER_WAVELENGTH = 444.0
RADIANCE_OFFSET = 0.515878
RADIANCE_SCALING_FACTOR = 0.00574973
REFLECTANCE_SCALING_FACTOR = 0.000336632
MEX:REFLECTANCE_OFFSET = 0.0302034
/* IMAGE OBJECT DEFINITIONS */
OBJECT = IMAGE
  INTERCHANGE_FORMAT = BINARY
  LINES = 12157
  LINE_SAMPLES = 3095
  SAMPLE_TYPE = UNSIGNED_INTEGER
  SAMPLE_BITS = 8
  BANDS = 1
  BAND_STORAGE_TYPE = BAND_SEQUENTIAL
  MAXIMUM = 255
  MEAN = 139.565
  MINIMUM = 1
  STANDARD_DEVIATION = 56.3501
END_OBJECT = IMAGE
/* MAP OBJECT DEFINITIONS */
OBJECT = IMAGE_MAP_PROJECTION
  ^DATA_SET_MAP_PROJECTION_CATALOG= "DSMAP.CAT"
  A_AXIS_RADIUS = 3396.0
  B_AXIS_RADIUS = 3396.0
  C_AXIS_RADIUS = 3396.0
  CENTER_LATITUDE = 0.0
  CENTER_LONGITUDE = 282.0
  COORDINATE_SYSTEM_NAME = PLANETOGRAPHIC
  COORDINATE_SYSTEM_TYPE = "BODY-FIXED ROTATING"
  EASTERNMOST_LONGITUDE = 285.415
  FIRST_STANDARD_PARALLEL = "N/A"
  LINE_FIRST_PIXEL = 1
  LINE_LAST_PIXEL = 12157
  LINE_PROJECTION_OFFSET = 6133.0
  MAP_PROJECTION_ROTATION = 0.0
  MAP_PROJECTION_TYPE = SINUSOIDAL
  MAP_RESOLUTION = 296.356901933333
  MAP_SCALE = 0.2
  MAXIMUM_LATITUDE = 20.6977
  MINIMUM_LATITUDE = -20.3204
  POSITIVE_LONGITUDE_DIRECTION = EAST
  REFERENCE_LATITUDE = "N/A"
  REFERENCE_LONGITUDE = "N/A"
  SAMPLE_FIRST_PIXEL = 1
  SAMPLE_LAST_PIXEL = 3095
  SAMPLE_PROJECTION_OFFSET = 2144.0
  SECOND_STANDARD_PARALLEL = "N/A"
  WESTERNMOST_LONGITUDE = 274.326
END_OBJECT = IMAGE_MAP_PROJECTION
END
