PDS_VERSION_ID = PDS3
/* FILE DATA ELEMENTS */
RECORD_TYPE = UNDEFINED
/* POINTERS TO DATA OBJECTS */
^IMAGE = ("HA770_0000_BL4.TIF")
/* IDENTIFICATION DATA ELEMENTS */
DATA_SET_ID = "MEX-M-HRSC-4-REFDR-MAPPROJECT-EXT3-V4.0"
DATA_SET_NAME = "MARS EXPRESS HRSC MAP PROJECTED REFDR EXTENSION3 V4.0"
DETECTOR_ID = MEX_HRSC_BLUE
EVENT_TYPE = "MARS-REGIONAL-MAPPING-Gl-Lc-Pf"
INSTRUMENT_HOST_ID = MEX
INSTRUMENT_HOST_NAME = "MARS EXPRESS"
INSTRUMENT_ID = HRSC
INSTRUMENT_NAME = "HIGH RESOLUTION STEREO CAMERA"
MISSION_NAME = "MARS EXPRESS"
MISSION_PHASE_NAME = ME_Phase_26
PROCESSING_LEVEL_ID = 4
PRODUCT_CREATION_TIME = 2023-02-05T03:55:10.000Z
PRODUCT_ID = "HA770_0000_BL4.TIF"
RELEASE_ID = 0009
REVISION_ID = 0000
/* QUALITY DATA ELEMENTS */
DATA_QUALITY_ID = 1
DATA_QUALITY_DESC = "Data calculated based on original SPICE kernels"
/* TIME DATA ELEMENTS */
SPACECRAFT_CLOCK_START_COUNT = "1/0287878416.08252"
SPACECRAFT_CLOCK_STOP_COUNT = "1/0287878972.49852"
START_TIME = 2012-06-15T22:14:20.921Z
STOP_TIME = 2012-06-15T22:20:17.874Z
/* ORBITAL DATA ELEMENTS */
ASCENDING_NODE_LONGITUDE = 11.8
MAXIMUM_RESOLUTION = 0.086
FOOTPRINT_POINT_LATITUDE = (-48.3023,-48.2899,-48.2679,-48.237, -48.2361,-48.2145,-47.5641,-46.9041, -46.2332,-45.5537,-44.6894,-43.9861, -43.4501,-43.0908,-42.7265,-42.36, -41.8045,-41.4316,-41.0531,-40.6723, -40.2891,-39.9028,-39.5117,-39.1177, -38.7204,-38.3195,-37.9157,-37.5074, -37.0952,-36.6795,-36.2594,-35.8355, -35.4079,-34.9764,-34.5405,-34.1004, -33.6558,-33.2072,-32.7543,-32.303, -31.8539,-31.4067,-30.962,-30.5182, -30.0777,-29.6389,-29.2033,-28.7689, -28.5521,-28.5418,-28.5427,-28.5403, -28.5357,-28.5298,-28.5236,-28.5138, -28.5131,-28.5145,-28.9516,-29.3914, -29.8322,-30.497,-30.9429,-31.3899, -31.8391,-32.2909,-32.972,-33.4254, -33.875,-34.3198,-34.7606,-35.1971, -35.6293,-36.0573,-36.481,-36.9008, -37.3169,-37.7289,-38.1376,-38.5423, -38.9439,-39.3411,-39.7345,-40.1247, -40.5124,-40.8968,-41.2764,-41.8414, -42.399,-42.9501,-43.3136,-44.0308, -44.738,-45.608,-46.2894,-46.9611, -47.6236,-48.1143,-48.2766,-48.3023)
FOOTPRINT_POINT_LONGITUDE = (75.4143,74.6279,73.6906,72.7281, 72.7028,72.6507,72.6796,72.7058,72.7263 ,72.7482,72.7726,72.7901,72.7988, 72.8051,72.8111,72.8153,72.8212,72.8251 ,72.8268,72.8286,72.8298,72.8313, 72.8306,72.8296,72.8283,72.8257,72.8234 ,72.8203,72.8159,72.8114,72.8051, 72.7979,72.7907,72.7829,72.774,72.7645, 72.7532,72.7419,72.7293,72.7163,72.7029 ,72.6887,72.6749,72.6581,72.6433, 72.6272,72.6128,72.5962,72.587,72.5865, 73.3142,74.1451,74.6769,75.1424,75.6061 ,76.1039,76.1372,76.1482,76.141,76.1319 ,76.1243,76.1129,76.1044,76.0973, 76.0894,76.0801,76.0659,76.0556,76.0444 ,76.0337,76.0223,76.0107,75.9985, 75.9864,75.9744,75.9622,75.9495,75.9367 ,75.9229,75.9102,75.8967,75.8833, 75.8695,75.8555,75.8403,75.8252,75.8112 ,75.7881,75.7655,75.7407,75.7248, 75.6937,75.6591,75.611,75.5773,75.5412, 75.5031,75.4742,75.4638,75.4143)
ORBIT_NUMBER = 10770
ORBITAL_ECCENTRICITY = 0.577
ORBITAL_INCLINATION = 86.89
ORBITAL_SEMIMAJOR_AXIS = 8760.3
PERIAPSIS_ALTITUDE = 327.74
PERIAPSIS_ARGUMENT_ANGLE = 279.61
PERIAPSIS_TIME = 2012-06-15T22:06:06.000Z
SPACECRAFT_ORIENTATION = (0.0,1.0,0.0)
^MEX_ORIENTATION_DESC = "MEX_ORIENTATION_DESC.TXT"
SPACECRAFT_POINTING_MODE = NADIR
^MEX_POINTING_DESC = "MEX_POINTING_DESC.TXT"
RIGHT_ASCENSION = -1e+32
DECLINATION = -1e+32
OFFSET_ANGLE = -1e+32
SPACECRAFT_SOLAR_DISTANCE = 2.38947e+08
TARGET_NAME = MARS
/* CAMERA DATA ELEMENTS */
DETECTOR_TEMPERATURE = 18.3705
FOCAL_PLANE_TEMPERATURE = 9.3989
INST_CMPRS_NAME = "DISCRETE COSINE TRANSFORMATION (DCT)"
INST_CMPRS_RATIO = 15.8195
INST_CMPRS_QUALITY = 0
INST_CMPRS_QUANTZ_TBL_ID = 0
INSTRUMENT_TEMPERATURE = 11.4379
LENS_TEMPERATURE = 8.9911
MACROPIXEL_SIZE = 4
MISSING_FRAMES = 0
PIXEL_SUBSAMPLING_FLAG = N
SIGNAL_CHAIN_ID = 2
/* RADIOMETRIC DATA ELEMENTS */
BANDWIDTH = 76.0
CENTER_FILTER_WAVELENGTH = 444.0
RADIANCE_OFFSET = 1.11564
RADIANCE_SCALING_FACTOR = 0.00614246
REFLECTANCE_SCALING_FACTOR = 0.000360329
MEX:REFLECTANCE_OFFSET = 0.0654457
/* IMAGE OBJECT DEFINITIONS */
OBJECT = IMAGE
  INTERCHANGE_FORMAT = BINARY
  LINES = 11723
  LINE_SAMPLES = 1912
  SAMPLE_TYPE = UNSIGNED_INTEGER
  SAMPLE_BITS = 8
  BANDS = 1
  BAND_STORAGE_TYPE = BAND_SEQUENTIAL
  MAXIMUM = 255
  MEAN = 123.992
  MINIMUM = 1
  STANDARD_DEVIATION = 42.4806
END_OBJECT = IMAGE
/* MAP OBJECT DEFINITIONS */
OBJECT = IMAGE_MAP_PROJECTION
  ^DATA_SET_MAP_PROJECTION_CATALOG= "DSMAP.CAT"
  A_AXIS_RADIUS = 3396.0
  B_AXIS_RADIUS = 3396.0
  C_AXIS_RADIUS = 3396.0
  CENTER_LATITUDE = 0.0
  CENTER_LONGITUDE = 74.0
  COORDINATE_SYSTEM_NAME = PLANETOGRAPHIC
  COORDINATE_SYSTEM_TYPE = "BODY-FIXED ROTATING"
  EASTERNMOST_LONGITUDE = 76.1482
  FIRST_STANDARD_PARALLEL = "N/A"
  LINE_FIRST_PIXEL = 1
  LINE_LAST_PIXEL = 11723
  LINE_PROJECTION_OFFSET = -16902.875
  MAP_PROJECTION_ROTATION = 0.0
  MAP_PROJECTION_TYPE = SINUSOIDAL
  MAP_RESOLUTION = 592.713803866667
  MAP_SCALE = 0.1
  MAXIMUM_LATITUDE = -28.5131
  MINIMUM_LATITUDE = -48.3023
  POSITIVE_LONGITUDE_DIRECTION = EAST
  REFERENCE_LATITUDE = "N/A"
  REFERENCE_LONGITUDE = "N/A"
  SAMPLE_FIRST_PIXEL = 1
  SAMPLE_LAST_PIXEL = 1912
  SAMPLE_PROJECTION_OFFSET = 770.125
  SECOND_STANDARD_PARALLEL = "N/A"
  WESTERNMOST_LONGITUDE = 72.5865
END_OBJECT = IMAGE_MAP_PROJECTION
END
