PDS_VERSION_ID = PDS3
/* FILE DATA ELEMENTS */
RECORD_TYPE = UNDEFINED
/* POINTERS TO DATA OBJECTS */
^IMAGE = ("HA749_0000_S14.TIF")
/* IDENTIFICATION DATA ELEMENTS */
DATA_SET_ID = "MEX-M-HRSC-4-REFDR-MAPPROJECT-EXT3-V4.0"
DATA_SET_NAME = "MARS EXPRESS HRSC MAP PROJECTED REFDR EXTENSION3 V4.0"
DETECTOR_ID = MEX_HRSC_S1
EVENT_TYPE = "MARS-REGIONAL-MAPPING-Fl-Pf-La"
INSTRUMENT_HOST_ID = MEX
INSTRUMENT_HOST_NAME = "MARS EXPRESS"
INSTRUMENT_ID = HRSC
INSTRUMENT_NAME = "HIGH RESOLUTION STEREO CAMERA"
MISSION_NAME = "MARS EXPRESS"
MISSION_PHASE_NAME = ME_Phase_26
PROCESSING_LEVEL_ID = 4
PRODUCT_CREATION_TIME = 2023-02-05T03:55:10.000Z
PRODUCT_ID = "HA749_0000_S14.TIF"
RELEASE_ID = 0009
REVISION_ID = 0000
/* QUALITY DATA ELEMENTS */
DATA_QUALITY_ID = 1
DATA_QUALITY_DESC = "Data calculated based on original SPICE kernels"
/* TIME DATA ELEMENTS */
SPACECRAFT_CLOCK_START_COUNT = "1/0287350150.09060"
SPACECRAFT_CLOCK_STOP_COUNT = "1/0287350701.04823"
START_TIME = 2012-06-09T19:32:15.322Z
STOP_TIME = 2012-06-09T19:38:22.937Z
/* ORBITAL DATA ELEMENTS */
ASCENDING_NODE_LONGITUDE = 12.19
MAXIMUM_RESOLUTION = 0.0779
FOOTPRINT_POINT_LATITUDE = (-30.9635,-30.9721,-30.9833,-30.9919, -30.9983,-31.004,-31.0084,-31.0087, -31.0895,-30.7813,-30.4762,-30.1731, -29.8673,-29.5532,-29.2496,-28.9507, -28.6537,-28.3593,-27.9211,-27.636, -27.3488,-27.0632,-26.7749,-26.3572, -26.0788,-25.8021,-25.3892,-24.9837, -24.7139,-24.3093,-24.043,-23.7788, -23.5137,-23.2495,-22.7376,-22.2294, -21.7262,-21.2284,-20.7364,-20.0004, -19.5269,-19.0671,-18.6042,-17.9087, -17.7965,-17.7891,-17.7646,-17.7353, -17.7097,-17.6844,-17.6761,-17.6638, -17.6463,-17.6223,-17.6095,-17.5931, -17.5776,-17.5683,-17.5661,-17.566, -17.9127,-18.3791,-18.8506,-19.4461, -19.8158,-20.3063,-21.0552,-21.5589, -22.0711,-22.5887,-22.8495,-23.1113, -23.3761,-23.642,-23.9096,-24.1772, -24.4545,-24.7207,-24.9977,-25.271, -25.5533,-25.8333,-26.1137,-26.4009, -26.8291,-27.1176,-27.4056,-27.8455, -28.14,-28.4357,-28.7326,-29.0191, -29.328,-29.6433,-29.9569,-30.2652, -30.5723,-30.8851,-31.0403,-30.9635)
FOOTPRINT_POINT_LONGITUDE = (63.2485,62.7108,61.9234,61.2436, 60.6717,60.0986,59.5961,59.5601,59.5195 ,59.5067,59.4932,59.4793,59.4667, 59.4573,59.4445,59.4304,59.416,59.401, 59.378,59.3608,59.3445,59.3281,59.3129, 59.2859,59.2683,59.2505,59.2237,59.1952 ,59.1765,59.1491,59.1301,59.1109, 59.0922,59.0736,59.0322,58.9911,58.9497 ,58.908,58.8659,58.8045,58.7602,58.7131 ,58.6683,58.6035,58.5919,58.5912, 59.1458,59.7024,60.3074,60.7607,61.1638 ,61.4665,61.8195,62.3237,62.6264, 63.0818,63.3843,63.7407,63.7913,63.8096 ,63.7937,63.7723,63.7506,63.7227, 63.7091,63.6881,63.6572,63.6353,63.6144 ,63.593,63.5822,63.5711,63.5606,63.5499 ,63.5391,63.5277,63.5195,63.5062, 63.4965,63.4847,63.4757,63.4651,63.454, 63.4449,63.4288,63.4184,63.4071,63.3919 ,63.3813,63.3704,63.3593,63.3433, 63.3354,63.3292,63.3216,63.3112,63.2995 ,63.2892,63.2833,63.2485)
ORBIT_NUMBER = 10749
ORBITAL_ECCENTRICITY = 0.577
ORBITAL_INCLINATION = 86.89
ORBITAL_SEMIMAJOR_AXIS = 8763.02
PERIAPSIS_ALTITUDE = 328.33
PERIAPSIS_ARGUMENT_ANGLE = 283.17
PERIAPSIS_TIME = 2012-06-09T19:18:01.000Z
SPACECRAFT_ORIENTATION = (0.0,1.0,0.0)
^MEX_ORIENTATION_DESC = "MEX_ORIENTATION_DESC.TXT"
SPACECRAFT_POINTING_MODE = NADIR
^MEX_POINTING_DESC = "MEX_POINTING_DESC.TXT"
RIGHT_ASCENSION = -1e+32
DECLINATION = -1e+32
OFFSET_ANGLE = -1e+32
SPACECRAFT_SOLAR_DISTANCE = 2.39902e+08
TARGET_NAME = MARS
/* CAMERA DATA ELEMENTS */
DETECTOR_TEMPERATURE = 17.5549
FOCAL_PLANE_TEMPERATURE = 8.1755
INST_CMPRS_NAME = "DISCRETE COSINE TRANSFORMATION (DCT)"
INST_CMPRS_RATIO = 9.9116
INST_CMPRS_QUALITY = 0
INST_CMPRS_QUANTZ_TBL_ID = 0
INSTRUMENT_TEMPERATURE = 12.0496
LENS_TEMPERATURE = 8.5833
MACROPIXEL_SIZE = 2
MISSING_FRAMES = 0
PIXEL_SUBSAMPLING_FLAG = N
SIGNAL_CHAIN_ID = 1
/* RADIOMETRIC DATA ELEMENTS */
BANDWIDTH = 180.0
CENTER_FILTER_WAVELENGTH = 677.0
RADIANCE_OFFSET = 2.93408
RADIANCE_SCALING_FACTOR = 0.0198382
REFLECTANCE_SCALING_FACTOR = 0.000595671
MEX:REFLECTANCE_OFFSET = 0.0880997
/* IMAGE OBJECT DEFINITIONS */
OBJECT = IMAGE
  INTERCHANGE_FORMAT = BINARY
  LINES = 15918
  LINE_SAMPLES = 4627
  SAMPLE_TYPE = UNSIGNED_INTEGER
  SAMPLE_BITS = 8
  BANDS = 1
  BAND_STORAGE_TYPE = BAND_SEQUENTIAL
  MAXIMUM = 255
  MEAN = 139.234
  MINIMUM = 1
  STANDARD_DEVIATION = 31.5946
END_OBJECT = IMAGE
/* MAP OBJECT DEFINITIONS */
OBJECT = IMAGE_MAP_PROJECTION
  ^DATA_SET_MAP_PROJECTION_CATALOG= "DSMAP.CAT"
  A_AXIS_RADIUS = 3396.0
  B_AXIS_RADIUS = 3396.0
  C_AXIS_RADIUS = 3396.0
  CENTER_LATITUDE = 0.0
  CENTER_LONGITUDE = 61.0
  COORDINATE_SYSTEM_NAME = PLANETOGRAPHIC
  COORDINATE_SYSTEM_TYPE = "BODY-FIXED ROTATING"
  EASTERNMOST_LONGITUDE = 63.8096
  FIRST_STANDARD_PARALLEL = "N/A"
  LINE_FIRST_PIXEL = 1
  LINE_LAST_PIXEL = 15918
  LINE_PROJECTION_OFFSET = -20874.75
  MAP_PROJECTION_ROTATION = 0.0
  MAP_PROJECTION_TYPE = SINUSOIDAL
  MAP_RESOLUTION = 1185.42760773333
  MAP_SCALE = 0.05
  MAXIMUM_LATITUDE = -17.566
  MINIMUM_LATITUDE = -31.0895
  POSITIVE_LONGITUDE_DIRECTION = EAST
  REFERENCE_LATITUDE = "N/A"
  REFERENCE_LONGITUDE = "N/A"
  SAMPLE_FIRST_PIXEL = 1
  SAMPLE_LAST_PIXEL = 4627
  SAMPLE_PROJECTION_OFFSET = 2174.25
  SECOND_STANDARD_PARALLEL = "N/A"
  WESTERNMOST_LONGITUDE = 58.5912
END_OBJECT = IMAGE_MAP_PROJECTION
END
