PDS_VERSION_ID = PDS3
/* FILE DATA ELEMENTS */
RECORD_TYPE = UNDEFINED
/* POINTERS TO DATA OBJECTS */
^IMAGE = ("HA736_0000_P24.TIF")
/* IDENTIFICATION DATA ELEMENTS */
DATA_SET_ID = "MEX-M-HRSC-4-REFDR-MAPPROJECT-EXT3-V4.0"
DATA_SET_NAME = "MARS EXPRESS HRSC MAP PROJECTED REFDR EXTENSION3 V4.0"
DETECTOR_ID = MEX_HRSC_P2
EVENT_TYPE = "MARS-REGIONAL-MAPPING-Im-Fl-Gl"
INSTRUMENT_HOST_ID = MEX
INSTRUMENT_HOST_NAME = "MARS EXPRESS"
INSTRUMENT_ID = HRSC
INSTRUMENT_NAME = "HIGH RESOLUTION STEREO CAMERA"
MISSION_NAME = "MARS EXPRESS"
MISSION_PHASE_NAME = ME_Phase_26
PROCESSING_LEVEL_ID = 4
PRODUCT_CREATION_TIME = 2023-02-05T03:55:10.000Z
PRODUCT_ID = "HA736_0000_P24.TIF"
RELEASE_ID = 0009
REVISION_ID = 0000
/* QUALITY DATA ELEMENTS */
DATA_QUALITY_ID = 1
DATA_QUALITY_DESC = "Data calculated based on original SPICE kernels"
/* TIME DATA ELEMENTS */
SPACECRAFT_CLOCK_START_COUNT = "1/0287022698.09033"
SPACECRAFT_CLOCK_STOP_COUNT = "1/0287023054.48319"
START_TIME = 2012-06-06T00:31:56.273Z
STOP_TIME = 2012-06-06T00:35:29.302Z
/* ORBITAL DATA ELEMENTS */
ASCENDING_NODE_LONGITUDE = 12.44
MAXIMUM_RESOLUTION = 0.0379
FOOTPRINT_POINT_LATITUDE = (-47.2884,-47.2737,-47.2562,-47.2296, -47.2287,-47.1791,-46.9076,-46.5164, -46.2354,-45.9657,-45.5708,-45.1553, -44.8986,-44.6256,-44.224,-43.9501, -43.5527,-43.2868,-43.025,-42.6379, -42.3744,-42.1087,-41.7122,-41.439, -41.1804,-40.9155,-40.6447,-40.3807, -40.1189,-39.864,-39.6023,-39.3411, -39.0849,-38.8233,-38.5634,-38.3045, -37.9161,-37.6541,-37.259,-37.0014, -36.4928,-36.1089,-35.7242,-35.4674, -35.2112,-34.9557,-34.7011,-34.1934, -34.0664,-34.0266,-34.0364,-34.0455, -34.0478,-34.0406,-34.0405,-34.041, -34.299,-34.5592,-35.0644,-35.3248, -35.7142,-36.2162,-36.4727,-36.7307, -36.9892,-37.2551,-37.5164,-37.7759, -38.1688,-38.4314,-38.6934,-39.0855, -39.3454,-39.8555,-40.1214,-40.3791, -40.6458,-41.0459,-41.4393,-41.7046, -41.9673,-42.2324,-42.6326,-42.9019, -43.1634,-43.4314,-43.833,-44.1032, -44.3717,-44.6328,-45.0329,-45.3, -45.571,-45.839,-46.1244,-46.3904, -46.6507,-47.0525,-47.1876,-47.2884)
FOOTPRINT_POINT_LONGITUDE = (311.275,310.443,309.77,308.985,308.963 ,308.928,308.94,308.965,308.97,308.981, 309.001,309.009,309.024,309.03,309.042, 309.047,309.059,309.066,309.075,309.091 ,309.097,309.102,309.11,309.109,309.116 ,309.119,309.119,309.121,309.125, 309.131,309.133,309.136,309.14,309.141, 309.142,309.144,309.145,309.144,309.14, 309.14,309.141,309.14,309.138,309.135, 309.133,309.13,309.128,309.122,309.121, 309.12,309.612,310.311,310.777,311.766, 311.792,311.801,311.793,311.784,311.774 ,311.765,311.753,311.746,311.739, 311.732,311.725,311.713,311.704,311.697 ,311.683,311.674,311.665,311.652, 311.644,311.635,311.624,311.618,311.606 ,311.589,311.576,311.565,311.556, 311.546,311.529,311.516,311.508,311.495 ,311.477,311.463,311.451,311.443, 311.426,311.414,311.399,311.387,311.363 ,311.351,311.344,311.325,311.318, 311.275)
ORBIT_NUMBER = 10736
ORBITAL_ECCENTRICITY = 0.577
ORBITAL_INCLINATION = 86.88
ORBITAL_SEMIMAJOR_AXIS = 8763.1
PERIAPSIS_ALTITUDE = 329.07
PERIAPSIS_ARGUMENT_ANGLE = 285.38
PERIAPSIS_TIME = 2012-06-06T00:25:20.000Z
SPACECRAFT_ORIENTATION = (0.0,1.0,0.0)
^MEX_ORIENTATION_DESC = "MEX_ORIENTATION_DESC.TXT"
SPACECRAFT_POINTING_MODE = NADIR
^MEX_POINTING_DESC = "MEX_POINTING_DESC.TXT"
RIGHT_ASCENSION = -1e+32
DECLINATION = -1e+32
OFFSET_ANGLE = -1e+32
SPACECRAFT_SOLAR_DISTANCE = 2.40474e+08
TARGET_NAME = MARS
/* CAMERA DATA ELEMENTS */
DETECTOR_TEMPERATURE = 18.7783
FOCAL_PLANE_TEMPERATURE = 8.7872
INST_CMPRS_NAME = "DISCRETE COSINE TRANSFORMATION (DCT)"
INST_CMPRS_RATIO = 6.53274
INST_CMPRS_QUALITY = 0
INST_CMPRS_QUANTZ_TBL_ID = 0
INSTRUMENT_TEMPERATURE = 11.6418
LENS_TEMPERATURE = 9.195
MACROPIXEL_SIZE = 2
MISSING_FRAMES = 0
PIXEL_SUBSAMPLING_FLAG = N
SIGNAL_CHAIN_ID = 3
/* RADIOMETRIC DATA ELEMENTS */
BANDWIDTH = 177.0
CENTER_FILTER_WAVELENGTH = 676.5
RADIANCE_OFFSET = 0.502372
RADIANCE_SCALING_FACTOR = 0.0135588
REFLECTANCE_SCALING_FACTOR = 0.000415731
MEX:REFLECTANCE_OFFSET = 0.0154034
/* IMAGE OBJECT DEFINITIONS */
OBJECT = IMAGE
  INTERCHANGE_FORMAT = BINARY
  LINES = 15674
  LINE_SAMPLES = 2800
  SAMPLE_TYPE = UNSIGNED_INTEGER
  SAMPLE_BITS = 8
  BANDS = 1
  BAND_STORAGE_TYPE = BAND_SEQUENTIAL
  MAXIMUM = 255
  MEAN = 111.507
  MINIMUM = 1
  STANDARD_DEVIATION = 27.8001
END_OBJECT = IMAGE
/* MAP OBJECT DEFINITIONS */
OBJECT = IMAGE_MAP_PROJECTION
  ^DATA_SET_MAP_PROJECTION_CATALOG= "DSMAP.CAT"
  A_AXIS_RADIUS = 3396.0
  B_AXIS_RADIUS = 3396.0
  C_AXIS_RADIUS = 3396.0
  CENTER_LATITUDE = 0.0
  CENTER_LONGITUDE = 310.0
  COORDINATE_SYSTEM_NAME = PLANETOGRAPHIC
  COORDINATE_SYSTEM_TYPE = "BODY-FIXED ROTATING"
  EASTERNMOST_LONGITUDE = 311.801
  FIRST_STANDARD_PARALLEL = "N/A"
  LINE_FIRST_PIXEL = 1
  LINE_LAST_PIXEL = 15674
  LINE_PROJECTION_OFFSET = -40335.25
  MAP_PROJECTION_ROTATION = 0.0
  MAP_PROJECTION_TYPE = SINUSOIDAL
  MAP_RESOLUTION = 1185.42760773333
  MAP_SCALE = 0.05
  MAXIMUM_LATITUDE = -34.0266
  MINIMUM_LATITUDE = -47.2884
  POSITIVE_LONGITUDE_DIRECTION = EAST
  REFERENCE_LATITUDE = "N/A"
  REFERENCE_LONGITUDE = "N/A"
  SAMPLE_FIRST_PIXEL = 1
  SAMPLE_LAST_PIXEL = 2800
  SAMPLE_PROJECTION_OFFSET = 952.25
  SECOND_STANDARD_PARALLEL = "N/A"
  WESTERNMOST_LONGITUDE = 308.928
END_OBJECT = IMAGE_MAP_PROJECTION
END
