PDS_VERSION_ID = PDS3
/* FILE DATA ELEMENTS */
RECORD_TYPE = UNDEFINED
/* POINTERS TO DATA OBJECTS */
^IMAGE = ("HA736_0000_IR4.TIF")
/* IDENTIFICATION DATA ELEMENTS */
DATA_SET_ID = "MEX-M-HRSC-4-REFDR-MAPPROJECT-EXT3-V4.0"
DATA_SET_NAME = "MARS EXPRESS HRSC MAP PROJECTED REFDR EXTENSION3 V4.0"
DETECTOR_ID = MEX_HRSC_IR
EVENT_TYPE = "MARS-REGIONAL-MAPPING-Im-Fl-Gl"
INSTRUMENT_HOST_ID = MEX
INSTRUMENT_HOST_NAME = "MARS EXPRESS"
INSTRUMENT_ID = HRSC
INSTRUMENT_NAME = "HIGH RESOLUTION STEREO CAMERA"
MISSION_NAME = "MARS EXPRESS"
MISSION_PHASE_NAME = ME_Phase_26
PROCESSING_LEVEL_ID = 4
PRODUCT_CREATION_TIME = 2023-02-05T03:55:10.000Z
PRODUCT_ID = "HA736_0000_IR4.TIF"
RELEASE_ID = 0009
REVISION_ID = 0000
/* QUALITY DATA ELEMENTS */
DATA_QUALITY_ID = 1
DATA_QUALITY_DESC = "Data calculated based on original SPICE kernels"
/* TIME DATA ELEMENTS */
SPACECRAFT_CLOCK_START_COUNT = "1/0287022698.09033"
SPACECRAFT_CLOCK_STOP_COUNT = "1/0287023054.48319"
START_TIME = 2012-06-06T00:33:06.373Z
STOP_TIME = 2012-06-06T00:37:20.539Z
/* ORBITAL DATA ELEMENTS */
ASCENDING_NODE_LONGITUDE = 12.44
MAXIMUM_RESOLUTION = 0.0854
FOOTPRINT_POINT_LATITUDE = (-47.1847,-47.17,-47.1604,-47.1517, -47.133,-47.1323,-47.1865,-46.7652, -46.4699,-46.1989,-45.7834,-45.5038, -45.2369,-44.9532,-44.5401,-44.2608, -43.9984,-43.7271,-43.4542,-43.0397, -42.7648,-42.3539,-42.084,-41.8144, -41.4271,-41.0323,-40.7682,-40.5144, -40.1172,-39.8502,-39.5909,-39.3333, -39.0732,-38.6835,-38.4274,-38.0437, -37.6641,-37.1669,-36.9121,-36.6619, -36.4124,-36.1623,-35.6686,-35.1788, -34.6927,-34.2071,-34.087,-34.0171, -34.0194,-34.0201,-34.0193,-34.0195, -34.0245,-34.0224,-34.0149,-34.0129, -34.0136,-34.4944,-34.7438,-35.1129, -35.5963,-35.9777,-36.3546,-36.6079, -37.1043,-37.3562,-37.6067,-37.8623, -38.1178,-38.621,-38.8764,-39.2688, -39.5417,-39.8106,-40.0727,-40.3355, -40.5992,-40.8581,-41.1199,-41.3885, -41.7928,-42.0615,-42.4645,-42.7353, -43.0076,-43.4154,-43.6863,-43.9512, -44.3623,-44.6509,-44.9307,-45.2094, -45.6255,-45.9021,-46.1682,-46.4594, -46.749,-47.0335,-47.1759,-47.1847)
FOOTPRINT_POINT_LONGITUDE = (311.416,310.457,309.977,309.594, 308.874,308.85,308.81,308.826,308.846, 308.85,308.863,308.873,308.875,308.887, 308.898,308.907,308.907,308.913,308.918 ,308.93,308.938,308.948,308.952,308.957 ,308.954,308.956,308.958,308.955, 308.959,308.962,308.962,308.961,308.962 ,308.963,308.961,308.96,308.956,308.948 ,308.947,308.944,308.94,308.938,308.929 ,308.92,308.909,308.899,308.896,308.895 ,309.305,309.895,310.454,310.778, 311.221,311.576,312.017,312.046,312.056 ,312.036,312.03,312.017,311.994,311.984 ,311.971,311.963,311.94,311.929,311.918 ,311.908,311.898,311.871,311.859, 311.845,311.84,311.833,311.821,311.81, 311.798,311.784,311.77,311.759,311.742, 311.73,311.71,311.697,311.685,311.664, 311.649,311.63,311.608,311.6,311.587, 311.572,311.548,311.531,311.507,311.496 ,311.484,311.468,311.46,311.416)
ORBIT_NUMBER = 10736
ORBITAL_ECCENTRICITY = 0.577
ORBITAL_INCLINATION = 86.88
ORBITAL_SEMIMAJOR_AXIS = 8763.1
PERIAPSIS_ALTITUDE = 329.07
PERIAPSIS_ARGUMENT_ANGLE = 285.38
PERIAPSIS_TIME = 2012-06-06T00:25:20.000Z
SPACECRAFT_ORIENTATION = (0.0,1.0,0.0)
^MEX_ORIENTATION_DESC = "MEX_ORIENTATION_DESC.TXT"
SPACECRAFT_POINTING_MODE = NADIR
^MEX_POINTING_DESC = "MEX_POINTING_DESC.TXT"
RIGHT_ASCENSION = -1e+32
DECLINATION = -1e+32
OFFSET_ANGLE = -1e+32
SPACECRAFT_SOLAR_DISTANCE = 2.40474e+08
TARGET_NAME = MARS
/* CAMERA DATA ELEMENTS */
DETECTOR_TEMPERATURE = 18.1666
FOCAL_PLANE_TEMPERATURE = 8.7872
INST_CMPRS_NAME = "DISCRETE COSINE TRANSFORMATION (DCT)"
INST_CMPRS_RATIO = 9.05215
INST_CMPRS_QUALITY = 0
INST_CMPRS_QUANTZ_TBL_ID = 0
INSTRUMENT_TEMPERATURE = 11.6418
LENS_TEMPERATURE = 9.195
MACROPIXEL_SIZE = 4
MISSING_FRAMES = 0
PIXEL_SUBSAMPLING_FLAG = N
SIGNAL_CHAIN_ID = 2
/* RADIOMETRIC DATA ELEMENTS */
BANDWIDTH = 81.0
CENTER_FILTER_WAVELENGTH = 955.5
RADIANCE_OFFSET = 0.0828448
RADIANCE_SCALING_FACTOR = 0.0036098
REFLECTANCE_SCALING_FACTOR = 0.000450345
MEX:REFLECTANCE_OFFSET = 0.0103354
/* IMAGE OBJECT DEFINITIONS */
OBJECT = IMAGE
  INTERCHANGE_FORMAT = BINARY
  LINES = 7837
  LINE_SAMPLES = 1400
  SAMPLE_TYPE = UNSIGNED_INTEGER
  SAMPLE_BITS = 8
  BANDS = 1
  BAND_STORAGE_TYPE = BAND_SEQUENTIAL
  MAXIMUM = 255
  MEAN = 108.514
  MINIMUM = 1
  STANDARD_DEVIATION = 28.3421
END_OBJECT = IMAGE
/* MAP OBJECT DEFINITIONS */
OBJECT = IMAGE_MAP_PROJECTION
  ^DATA_SET_MAP_PROJECTION_CATALOG= "DSMAP.CAT"
  A_AXIS_RADIUS = 3396.0
  B_AXIS_RADIUS = 3396.0
  C_AXIS_RADIUS = 3396.0
  CENTER_LATITUDE = 0.0
  CENTER_LONGITUDE = 310.0
  COORDINATE_SYSTEM_NAME = PLANETOGRAPHIC
  COORDINATE_SYSTEM_TYPE = "BODY-FIXED ROTATING"
  EASTERNMOST_LONGITUDE = 312.056
  FIRST_STANDARD_PARALLEL = "N/A"
  LINE_FIRST_PIXEL = 1
  LINE_LAST_PIXEL = 7837
  LINE_PROJECTION_OFFSET = -20167.875
  MAP_PROJECTION_ROTATION = 0.0
  MAP_PROJECTION_TYPE = SINUSOIDAL
  MAP_RESOLUTION = 592.713803866667
  MAP_SCALE = 0.1
  MAXIMUM_LATITUDE = -34.0129
  MINIMUM_LATITUDE = -47.1865
  POSITIVE_LONGITUDE_DIRECTION = EAST
  REFERENCE_LATITUDE = "N/A"
  REFERENCE_LONGITUDE = "N/A"
  SAMPLE_FIRST_PIXEL = 1
  SAMPLE_LAST_PIXEL = 1400
  SAMPLE_PROJECTION_OFFSET = 475.875
  SECOND_STANDARD_PARALLEL = "N/A"
  WESTERNMOST_LONGITUDE = 308.81
END_OBJECT = IMAGE_MAP_PROJECTION
END
