PDS_VERSION_ID = PDS3
/* FILE DATA ELEMENTS */
RECORD_TYPE = UNDEFINED
/* POINTERS TO DATA OBJECTS */
^IMAGE = ("HA735_0000_ND4.TIF")
/* IDENTIFICATION DATA ELEMENTS */
DATA_SET_ID = "MEX-M-HRSC-4-REFDR-MAPPROJECT-EXT3-V4.0"
DATA_SET_NAME = "MARS EXPRESS HRSC MAP PROJECTED REFDR EXTENSION3 V4.0"
DETECTOR_ID = MEX_HRSC_NADIR
EVENT_TYPE = "MARS-REGIONAL-MAPPING-Im-Fl-La"
INSTRUMENT_HOST_ID = MEX
INSTRUMENT_HOST_NAME = "MARS EXPRESS"
INSTRUMENT_ID = HRSC
INSTRUMENT_NAME = "HIGH RESOLUTION STEREO CAMERA"
MISSION_NAME = "MARS EXPRESS"
MISSION_PHASE_NAME = ME_Phase_26
PROCESSING_LEVEL_ID = 4
PRODUCT_CREATION_TIME = 2023-02-05T03:55:10.000Z
PRODUCT_ID = "HA735_0000_ND4.TIF"
RELEASE_ID = 0009
REVISION_ID = 0000
/* QUALITY DATA ELEMENTS */
DATA_QUALITY_ID = 1
DATA_QUALITY_DESC = "Data calculated based on original SPICE kernels"
/* TIME DATA ELEMENTS */
SPACECRAFT_CLOCK_START_COUNT = "1/0286997810.09066"
SPACECRAFT_CLOCK_STOP_COUNT = "1/0286998161.28998"
START_TIME = 2012-06-05T17:37:55.807Z
STOP_TIME = 2012-06-05T17:41:03.778Z
/* ORBITAL DATA ELEMENTS */
ASCENDING_NODE_LONGITUDE = 12.46
MAXIMUM_RESOLUTION = 0.0302
FOOTPRINT_POINT_LATITUDE = (-31.3913,-31.4071,-31.4216,-31.4347, -31.4465,-31.4569,-31.4679,-31.4684, -31.4801,-31.2444,-31.0093,-30.7734, -30.4199,-30.1839,-29.9486,-29.7138, -29.4787,-29.0124,-28.4266,-28.1921, -27.9576,-27.7215,-27.487,-27.1359, -26.9018,-26.4338,-26.1994,-25.7315, -25.0301,-24.5621,-23.9771,-23.5094, -23.1588,-22.6912,-22.3404,-21.9896, -21.6387,-21.1707,-20.8199,-20.3519, -20.1177,-19.8837,-19.7667,-19.7522, -19.7448,-19.7333,-19.727,-19.7169, -19.7091,-19.6952,-19.6806,-19.6701, -19.6596,-19.6405,-19.6389,-19.6386, -19.8735,-20.1083,-20.3432,-20.6954, -20.9303,-21.1653,-21.6334,-21.8682, -22.1032,-22.4558,-22.6903,-22.925, -23.2768,-23.6289,-23.8635,-24.2155, -24.4501,-24.6848,-24.9195,-25.1543, -25.5065,-25.7412,-25.976,-26.2106, -26.679,-26.9145,-27.2673,-27.5025, -27.7381,-27.9739,-28.2089,-28.4441, -28.6793,-29.0322,-29.2682,-29.6216, -29.8572,-30.0925,-30.3287,-30.6826, -31.0377,-31.274,-31.3934,-31.3913)
FOOTPRINT_POINT_LONGITUDE = (52.9344,52.4556,51.9735,51.4874, 50.9977,50.5035,49.8783,49.8469,49.8062 ,49.803,49.7983,49.7957,49.7909,49.7886 ,49.7848,49.7796,49.7754,49.7548, 49.7369,49.7303,49.7241,49.7241,49.7179 ,49.7062,49.6983,49.6813,49.6755, 49.6584,49.6251,49.6065,49.5827,49.5683 ,49.5572,49.537,49.521,49.5039,49.4866, 49.4631,49.4462,49.4222,49.4095,49.3975 ,49.3914,49.3907,49.7566,50.2668,50.52, 50.8791,51.1292,51.5569,51.9469,52.2299 ,52.5118,52.9684,53.0035,53.0207, 53.0201,53.0194,53.0188,53.0177,53.0169 ,53.0159,53.0151,53.0143,53.0131, 53.0111,53.0102,53.0092,53.0078,53.0057 ,53.0045,53.0025,53.0012,53.0,52.9984, 52.9971,52.995,52.9934,52.9916,52.9898, 52.9854,52.984,52.9813,52.9794,52.9776, 52.9757,52.9735,52.9712,52.9688,52.9652 ,52.9629,52.959,52.9564,52.9535,52.9508 ,52.9465,52.9422,52.9391,52.9377, 52.9344)
ORBIT_NUMBER = 10735
ORBITAL_ECCENTRICITY = 0.577
ORBITAL_INCLINATION = 86.88
ORBITAL_SEMIMAJOR_AXIS = 8765.34
PERIAPSIS_ALTITUDE = 328.79
PERIAPSIS_ARGUMENT_ANGLE = 285.54
PERIAPSIS_TIME = 2012-06-05T17:25:52.000Z
SPACECRAFT_ORIENTATION = (0.0,1.0,0.0)
^MEX_ORIENTATION_DESC = "MEX_ORIENTATION_DESC.TXT"
SPACECRAFT_POINTING_MODE = INERT
^MEX_POINTING_DESC = "MEX_POINTING_DESC.TXT"
RIGHT_ASCENSION = 292.656
DECLINATION = 49.728
OFFSET_ANGLE = -1e+32
SPACECRAFT_SOLAR_DISTANCE = 2.40517e+08
TARGET_NAME = MARS
/* CAMERA DATA ELEMENTS */
DETECTOR_TEMPERATURE = 17.7588
FOCAL_PLANE_TEMPERATURE = 8.1755
INST_CMPRS_NAME = "DISCRETE COSINE TRANSFORMATION (DCT)"
INST_CMPRS_RATIO = 6.1724
INST_CMPRS_QUALITY = 0
INST_CMPRS_QUANTZ_TBL_ID = 0
INSTRUMENT_TEMPERATURE = 10.8262
LENS_TEMPERATURE = 8.5833
MACROPIXEL_SIZE = 1
MISSING_FRAMES = 0
PIXEL_SUBSAMPLING_FLAG = N
SIGNAL_CHAIN_ID = 0
/* RADIOMETRIC DATA ELEMENTS */
BANDWIDTH = 177.0
CENTER_FILTER_WAVELENGTH = 677.5
RADIANCE_OFFSET = 1.49081
RADIANCE_SCALING_FACTOR = 0.0189309
REFLECTANCE_SCALING_FACTOR = 0.00058176
MEX:REFLECTANCE_OFFSET = 0.0458136
/* IMAGE OBJECT DEFINITIONS */
OBJECT = IMAGE
  INTERCHANGE_FORMAT = BINARY
  LINES = 28075
  LINE_SAMPLES = 8104
  SAMPLE_TYPE = UNSIGNED_INTEGER
  SAMPLE_BITS = 8
  BANDS = 1
  BAND_STORAGE_TYPE = BAND_SEQUENTIAL
  MAXIMUM = 255
  MEAN = 145.277
  MINIMUM = 1
  STANDARD_DEVIATION = 21.7252
END_OBJECT = IMAGE
/* MAP OBJECT DEFINITIONS */
OBJECT = IMAGE_MAP_PROJECTION
  ^DATA_SET_MAP_PROJECTION_CATALOG= "DSMAP.CAT"
  A_AXIS_RADIUS = 3396.0
  B_AXIS_RADIUS = 3396.0
  C_AXIS_RADIUS = 3396.0
  CENTER_LATITUDE = 0.0
  CENTER_LONGITUDE = 51.0
  COORDINATE_SYSTEM_NAME = PLANETOGRAPHIC
  COORDINATE_SYSTEM_TYPE = "BODY-FIXED ROTATING"
  EASTERNMOST_LONGITUDE = 53.0207
  FIRST_STANDARD_PARALLEL = "N/A"
  LINE_FIRST_PIXEL = 1
  LINE_LAST_PIXEL = 28075
  LINE_PROJECTION_OFFSET = -46561.0
  MAP_PROJECTION_ROTATION = 0.0
  MAP_PROJECTION_TYPE = SINUSOIDAL
  MAP_RESOLUTION = 2370.85521546667
  MAP_SCALE = 0.025
  MAXIMUM_LATITUDE = -19.6386
  MINIMUM_LATITUDE = -31.4801
  POSITIVE_LONGITUDE_DIRECTION = EAST
  REFERENCE_LATITUDE = "N/A"
  REFERENCE_LONGITUDE = "N/A"
  SAMPLE_FIRST_PIXEL = 1
  SAMPLE_LAST_PIXEL = 8104
  SAMPLE_PROJECTION_OFFSET = 3590.0
  SECOND_STANDARD_PARALLEL = "N/A"
  WESTERNMOST_LONGITUDE = 49.3907
END_OBJECT = IMAGE_MAP_PROJECTION
END
