PDS_VERSION_ID = PDS3
/* FILE DATA ELEMENTS */
RECORD_TYPE = UNDEFINED
/* POINTERS TO DATA OBJECTS */
^IMAGE = ("HA727_0000_S24.TIF")
/* IDENTIFICATION DATA ELEMENTS */
DATA_SET_ID = "MEX-M-HRSC-4-REFDR-MAPPROJECT-EXT3-V4.0"
DATA_SET_NAME = "MARS EXPRESS HRSC MAP PROJECTED REFDR EXTENSION3 V4.0"
DETECTOR_ID = MEX_HRSC_S2
EVENT_TYPE = "MARS-REGIONAL-MAPPING-Im-Fl-Lc"
INSTRUMENT_HOST_ID = MEX
INSTRUMENT_HOST_NAME = "MARS EXPRESS"
INSTRUMENT_ID = HRSC
INSTRUMENT_NAME = "HIGH RESOLUTION STEREO CAMERA"
MISSION_NAME = "MARS EXPRESS"
MISSION_PHASE_NAME = ME_Phase_26
PROCESSING_LEVEL_ID = 4
PRODUCT_CREATION_TIME = 2023-02-05T03:55:10.000Z
PRODUCT_ID = "HA727_0000_S24.TIF"
RELEASE_ID = 0009
REVISION_ID = 0000
/* QUALITY DATA ELEMENTS */
DATA_QUALITY_ID = 1
DATA_QUALITY_DESC = "Data calculated based on original SPICE kernels"
/* TIME DATA ELEMENTS */
SPACECRAFT_CLOCK_START_COUNT = "1/0286796114.09039"
SPACECRAFT_CLOCK_STOP_COUNT = "1/0286796413.00964"
START_TIME = 2012-06-03T09:35:17.932Z
STOP_TIME = 2012-06-03T09:38:17.634Z
/* ORBITAL DATA ELEMENTS */
ASCENDING_NODE_LONGITUDE = 12.61
MAXIMUM_RESOLUTION = 0.0343
FOOTPRINT_POINT_LATITUDE = (-51.1747,-51.1186,-51.088,-51.0556, -51.0213,-50.971,-50.9686,-50.8938, -50.2654,-49.7434,-49.4231,-49.0051, -48.4654,-48.2464,-48.0275,-47.8068, -47.3702,-47.1458,-46.9169,-46.6933, -46.47,-46.2453,-46.013,-45.7821, -45.5522,-45.3235,-45.091,-44.8573, -44.6191,-44.3889,-44.1528,-43.7952, -43.556,-43.3156,-43.0711,-42.8275, -42.5843,-42.3391,-42.0908,-41.8427, -41.5946,-41.3433,-41.0914,-40.8392, -40.5849,-40.3279,-39.9443,-39.683, -39.4215,-39.2901,-39.2675,-39.3095, -39.3505,-39.3835,-39.4117,-39.4412, -39.4425,-39.4436,-39.8382,-40.0979, -40.3603,-40.6179,-40.874,-41.2531, -41.5046,-41.7575,-42.0055,-42.3788, -42.6278,-42.872,-43.1163,-43.3609, -43.6037,-43.8434,-44.0838,-44.3229, -44.6795,-44.9161,-45.2688,-45.5052, -45.7344,-46.078,-46.3061,-46.5345, -46.759,-46.9836,-47.2093,-47.4355, -47.6593,-47.8812,-48.1025,-48.4343, -48.7611,-49.4037,-49.832,-50.2502, -50.6704,-50.9855,-51.092,-51.1747)
FOOTPRINT_POINT_LONGITUDE = (149.281,148.601,148.254,147.904, 147.549,147.054,147.031,146.949,147.022 ,147.081,147.116,147.171,147.22,147.242 ,147.263,147.282,147.323,147.342, 147.357,147.376,147.395,147.413,147.429 ,147.445,147.461,147.478,147.494, 147.511,147.523,147.542,147.558,147.581 ,147.595,147.608,147.621,147.635, 147.648,147.661,147.674,147.687,147.699 ,147.712,147.724,147.736,147.747, 147.758,147.776,147.785,147.796,147.8, 147.801,148.302,148.822,149.287,149.725 ,150.181,150.203,150.211,150.189, 150.174,150.159,150.144,150.128,150.105 ,150.089,150.073,150.056,150.032, 150.015,149.999,149.982,149.965,149.947 ,149.93,149.913,149.895,149.868,149.851 ,149.823,149.805,149.786,149.758, 149.738,149.719,149.7,149.68,149.66, 149.64,149.62,149.6,149.58,149.549, 149.517,149.452,149.407,149.362,149.316 ,149.281,149.27,149.281)
ORBIT_NUMBER = 10727
ORBITAL_ECCENTRICITY = 0.577
ORBITAL_INCLINATION = 86.87
ORBITAL_SEMIMAJOR_AXIS = 8767.02
PERIAPSIS_ALTITUDE = 329.79
PERIAPSIS_ARGUMENT_ANGLE = 286.89
PERIAPSIS_TIME = 2012-06-03T09:30:18.000Z
SPACECRAFT_ORIENTATION = (0.0,1.0,0.0)
^MEX_ORIENTATION_DESC = "MEX_ORIENTATION_DESC.TXT"
SPACECRAFT_POINTING_MODE = ACROSSTRACK
^MEX_POINTING_DESC = "MEX_POINTING_DESC.TXT"
RIGHT_ASCENSION = -1e+32
DECLINATION = -1e+32
OFFSET_ANGLE = 1.145
SPACECRAFT_SOLAR_DISTANCE = 2.40861e+08
TARGET_NAME = MARS
/* CAMERA DATA ELEMENTS */
DETECTOR_TEMPERATURE = 18.7783
FOCAL_PLANE_TEMPERATURE = 8.3794
INST_CMPRS_NAME = "DISCRETE COSINE TRANSFORMATION (DCT)"
INST_CMPRS_RATIO = 6.85943
INST_CMPRS_QUALITY = 0
INST_CMPRS_QUANTZ_TBL_ID = 0
INSTRUMENT_TEMPERATURE = 11.8457
LENS_TEMPERATURE = 8.7872
MACROPIXEL_SIZE = 2
MISSING_FRAMES = 0
PIXEL_SUBSAMPLING_FLAG = N
SIGNAL_CHAIN_ID = 1
/* RADIOMETRIC DATA ELEMENTS */
BANDWIDTH = 178.0
CENTER_FILTER_WAVELENGTH = 679.0
RADIANCE_OFFSET = 0.401399
RADIANCE_SCALING_FACTOR = 0.0200699
REFLECTANCE_SCALING_FACTOR = 0.000616608
MEX:REFLECTANCE_OFFSET = 0.0123322
/* IMAGE OBJECT DEFINITIONS */
OBJECT = IMAGE
  INTERCHANGE_FORMAT = BINARY
  LINES = 27853
  LINE_SAMPLES = 5525
  SAMPLE_TYPE = UNSIGNED_INTEGER
  SAMPLE_BITS = 8
  BANDS = 1
  BAND_STORAGE_TYPE = BAND_SEQUENTIAL
  MAXIMUM = 255
  MEAN = 110.718
  MINIMUM = 1
  STANDARD_DEVIATION = 24.9895
END_OBJECT = IMAGE
/* MAP OBJECT DEFINITIONS */
OBJECT = IMAGE_MAP_PROJECTION
  ^DATA_SET_MAP_PROJECTION_CATALOG= "DSMAP.CAT"
  A_AXIS_RADIUS = 3396.0
  B_AXIS_RADIUS = 3396.0
  C_AXIS_RADIUS = 3396.0
  CENTER_LATITUDE = 0.0
  CENTER_LONGITUDE = 149.0
  COORDINATE_SYSTEM_NAME = PLANETOGRAPHIC
  COORDINATE_SYSTEM_TYPE = "BODY-FIXED ROTATING"
  EASTERNMOST_LONGITUDE = 150.211
  FIRST_STANDARD_PARALLEL = "N/A"
  LINE_FIRST_PIXEL = 1
  LINE_LAST_PIXEL = 27853
  LINE_PROJECTION_OFFSET = -93170.25
  MAP_PROJECTION_ROTATION = 0.0
  MAP_PROJECTION_TYPE = SINUSOIDAL
  MAP_RESOLUTION = 2370.85521546667
  MAP_SCALE = 0.025
  MAXIMUM_LATITUDE = -39.2675
  MINIMUM_LATITUDE = -51.1747
  POSITIVE_LONGITUDE_DIRECTION = EAST
  REFERENCE_LATITUDE = "N/A"
  REFERENCE_LONGITUDE = "N/A"
  SAMPLE_FIRST_PIXEL = 1
  SAMPLE_LAST_PIXEL = 5525
  SAMPLE_PROJECTION_OFFSET = 3131.25
  SECOND_STANDARD_PARALLEL = "N/A"
  WESTERNMOST_LONGITUDE = 146.949
END_OBJECT = IMAGE_MAP_PROJECTION
END
