PDS_VERSION_ID = PDS3
/* FILE DATA ELEMENTS */
RECORD_TYPE = UNDEFINED
/* POINTERS TO DATA OBJECTS */
^IMAGE = ("HA721_0000_S14.TIF")
/* IDENTIFICATION DATA ELEMENTS */
DATA_SET_ID = "MEX-M-HRSC-4-REFDR-MAPPROJECT-EXT3-V4.0"
DATA_SET_NAME = "MARS EXPRESS HRSC MAP PROJECTED REFDR EXTENSION3 V4.0"
DETECTOR_ID = MEX_HRSC_S1
EVENT_TYPE = "MARS-REGIONAL-MAPPING-Te-Fl-Lc"
INSTRUMENT_HOST_ID = MEX
INSTRUMENT_HOST_NAME = "MARS EXPRESS"
INSTRUMENT_ID = HRSC
INSTRUMENT_NAME = "HIGH RESOLUTION STEREO CAMERA"
MISSION_NAME = "MARS EXPRESS"
MISSION_PHASE_NAME = ME_Phase_26
PROCESSING_LEVEL_ID = 4
PRODUCT_CREATION_TIME = 2023-02-05T03:55:10.000Z
PRODUCT_ID = "HA721_0000_S14.TIF"
RELEASE_ID = 0009
REVISION_ID = 0000
/* QUALITY DATA ELEMENTS */
DATA_QUALITY_ID = 1
DATA_QUALITY_DESC = "Data calculated based on original SPICE kernels"
/* TIME DATA ELEMENTS */
SPACECRAFT_CLOCK_START_COUNT = "1/0286645129.07311"
SPACECRAFT_CLOCK_STOP_COUNT = "1/0286645445.29384"
START_TIME = 2012-06-01T15:40:16.273Z
STOP_TIME = 2012-06-01T15:44:07.267Z
/* ORBITAL DATA ELEMENTS */
ASCENDING_NODE_LONGITUDE = 12.72
MAXIMUM_RESOLUTION = 0.0395
FOOTPRINT_POINT_LATITUDE = (-48.8742,-48.8563,-48.8422,-48.8275, -48.812,-48.7959,-48.779,-48.7779, -48.8473,-48.1732,-47.7398,-47.177, -46.8379,-46.3803,-46.1518,-45.9174, -45.683,-45.3281,-45.0923,-44.8599, -44.6243,-44.2723,-43.9125,-43.5489, -43.3068,-43.0629,-42.8167,-42.5647, -42.3209,-41.9431,-41.6876,-41.3086, -40.9259,-40.6716,-40.4118,-40.0316, -39.7704,-39.5069,-39.2409,-38.844, -38.4442,-38.1737,-37.9033,-37.6291, -37.349,-36.9336,-36.6557,-36.5201, -36.4836,-36.4939,-36.5056,-36.5212, -36.5245,-36.5329,-36.5419,-36.5431, -36.5439,-36.9591,-37.2591,-37.5383, -37.8118,-38.0875,-38.3598,-38.7645, -39.0292,-39.298,-39.5621,-39.8188, -40.0914,-40.3516,-40.6137,-41.0012, -41.3841,-41.6389,-41.8892,-42.1426, -42.3944,-42.6415,-42.89,-43.2485, -43.4879,-43.7364,-43.9699,-44.2191, -44.4621,-44.8214,-45.1685,-45.4067, -45.6455,-45.9908,-46.2225,-46.4546, -46.7986,-47.254,-47.7065,-48.1519, -48.589,-48.8173,-48.9284,-48.8742)
FOOTPRINT_POINT_LONGITUDE = (46.0869,45.5536,45.17,44.7897,44.4132, 44.0396,43.6688,43.6457,43.6352,43.6533 ,43.6632,43.6749,43.6811,43.6887, 43.6921,43.6954,43.6985,43.7028,43.7052 ,43.7072,43.7089,43.7108,43.7125, 43.7139,43.7142,43.7144,43.7146,43.7147 ,43.7139,43.7129,43.7122,43.7099, 43.7072,43.7048,43.7026,43.6976,43.6943 ,43.6911,43.6876,43.6814,43.6745, 43.6696,43.6645,43.6591,43.6541,43.6451 ,43.6386,43.6348,43.6339,44.1028, 44.7141,45.2477,45.5854,46.0117,46.4992 ,46.5285,46.5389,46.5251,46.5333, 46.5276,46.5202,46.5144,46.5081,46.4974 ,46.4873,46.4825,46.4742,46.4627, 46.4623,46.4555,46.4495,46.4402,46.4287 ,46.4218,46.4127,46.4071,46.4002, 46.3923,46.3848,46.3657,46.3533,46.3501 ,46.3357,46.3334,46.3293,46.3182, 46.3002,46.2943,46.289,46.2746,46.2655, 46.2585,46.2465,46.2294,46.213,46.1943, 46.169,46.1675,46.1647,46.0869)
ORBIT_NUMBER = 10721
ORBITAL_ECCENTRICITY = 0.577
ORBITAL_INCLINATION = 86.88
ORBITAL_SEMIMAJOR_AXIS = 8767.85
PERIAPSIS_ALTITUDE = 329.13
PERIAPSIS_ARGUMENT_ANGLE = 287.9
PERIAPSIS_TIME = 2012-06-01T15:33:35.000Z
SPACECRAFT_ORIENTATION = (0.0,1.0,0.0)
^MEX_ORIENTATION_DESC = "MEX_ORIENTATION_DESC.TXT"
SPACECRAFT_POINTING_MODE = ACROSSTRACK
^MEX_POINTING_DESC = "MEX_POINTING_DESC.TXT"
RIGHT_ASCENSION = -1e+32
DECLINATION = -1e+32
OFFSET_ANGLE = -0.8
SPACECRAFT_SOLAR_DISTANCE = 2.41116e+08
TARGET_NAME = MARS
/* CAMERA DATA ELEMENTS */
DETECTOR_TEMPERATURE = 17.5549
FOCAL_PLANE_TEMPERATURE = 8.3794
INST_CMPRS_NAME = "DISCRETE COSINE TRANSFORMATION (DCT)"
INST_CMPRS_RATIO = 8.32021
INST_CMPRS_QUALITY = 0
INST_CMPRS_QUANTZ_TBL_ID = 0
INSTRUMENT_TEMPERATURE = 11.4379
LENS_TEMPERATURE = 8.5833
MACROPIXEL_SIZE = 2
MISSING_FRAMES = 0
PIXEL_SUBSAMPLING_FLAG = N
SIGNAL_CHAIN_ID = 1
/* RADIOMETRIC DATA ELEMENTS */
BANDWIDTH = 180.0
CENTER_FILTER_WAVELENGTH = 677.0
RADIANCE_OFFSET = 0.355473
RADIANCE_SCALING_FACTOR = 0.0235714
REFLECTANCE_SCALING_FACTOR = 0.000714951
MEX:REFLECTANCE_OFFSET = 0.0107819
/* IMAGE OBJECT DEFINITIONS */
OBJECT = IMAGE
  INTERCHANGE_FORMAT = BINARY
  LINES = 29416
  LINE_SAMPLES = 4942
  SAMPLE_TYPE = UNSIGNED_INTEGER
  SAMPLE_BITS = 8
  BANDS = 1
  BAND_STORAGE_TYPE = BAND_SEQUENTIAL
  MAXIMUM = 255
  MEAN = 141.102
  MINIMUM = 1
  STANDARD_DEVIATION = 42.0984
END_OBJECT = IMAGE
/* MAP OBJECT DEFINITIONS */
OBJECT = IMAGE_MAP_PROJECTION
  ^DATA_SET_MAP_PROJECTION_CATALOG= "DSMAP.CAT"
  A_AXIS_RADIUS = 3396.0
  B_AXIS_RADIUS = 3396.0
  C_AXIS_RADIUS = 3396.0
  CENTER_LATITUDE = 0.0
  CENTER_LONGITUDE = 45.0
  COORDINATE_SYSTEM_NAME = PLANETOGRAPHIC
  COORDINATE_SYSTEM_TYPE = "BODY-FIXED ROTATING"
  EASTERNMOST_LONGITUDE = 46.5389
  FIRST_STANDARD_PARALLEL = "N/A"
  LINE_FIRST_PIXEL = 1
  LINE_LAST_PIXEL = 29416
  LINE_PROJECTION_OFFSET = -86579.75
  MAP_PROJECTION_ROTATION = 0.0
  MAP_PROJECTION_TYPE = SINUSOIDAL
  MAP_RESOLUTION = 2370.85521546667
  MAP_SCALE = 0.025
  MAXIMUM_LATITUDE = -36.4836
  MINIMUM_LATITUDE = -48.9284
  POSITIVE_LONGITUDE_DIRECTION = EAST
  REFERENCE_LATITUDE = "N/A"
  REFERENCE_LONGITUDE = "N/A"
  SAMPLE_FIRST_PIXEL = 1
  SAMPLE_LAST_PIXEL = 4942
  SAMPLE_PROJECTION_OFFSET = 2366.25
  SECOND_STANDARD_PARALLEL = "N/A"
  WESTERNMOST_LONGITUDE = 43.6339
END_OBJECT = IMAGE_MAP_PROJECTION
END
