PDS_VERSION_ID = PDS3
/* FILE DATA ELEMENTS */
RECORD_TYPE = UNDEFINED
/* POINTERS TO DATA OBJECTS */
^IMAGE = ("HA721_0000_P24.TIF")
/* IDENTIFICATION DATA ELEMENTS */
DATA_SET_ID = "MEX-M-HRSC-4-REFDR-MAPPROJECT-EXT3-V4.0"
DATA_SET_NAME = "MARS EXPRESS HRSC MAP PROJECTED REFDR EXTENSION3 V4.0"
DETECTOR_ID = MEX_HRSC_P2
EVENT_TYPE = "MARS-REGIONAL-MAPPING-Te-Fl-Lc"
INSTRUMENT_HOST_ID = MEX
INSTRUMENT_HOST_NAME = "MARS EXPRESS"
INSTRUMENT_ID = HRSC
INSTRUMENT_NAME = "HIGH RESOLUTION STEREO CAMERA"
MISSION_NAME = "MARS EXPRESS"
MISSION_PHASE_NAME = ME_Phase_26
PROCESSING_LEVEL_ID = 4
PRODUCT_CREATION_TIME = 2023-02-05T03:55:10.000Z
PRODUCT_ID = "HA721_0000_P24.TIF"
RELEASE_ID = 0009
REVISION_ID = 0000
/* QUALITY DATA ELEMENTS */
DATA_QUALITY_ID = 1
DATA_QUALITY_DESC = "Data calculated based on original SPICE kernels"
/* TIME DATA ELEMENTS */
SPACECRAFT_CLOCK_START_COUNT = "1/0286645129.07311"
SPACECRAFT_CLOCK_STOP_COUNT = "1/0286645445.29384"
START_TIME = 2012-06-01T15:39:05.736Z
STOP_TIME = 2012-06-01T15:42:21.485Z
/* ORBITAL DATA ELEMENTS */
ASCENDING_NODE_LONGITUDE = 12.72
MAXIMUM_RESOLUTION = 0.0346
FOOTPRINT_POINT_LATITUDE = (-48.9567,-48.9625,-48.9651,-48.9664, -48.9628,-48.9626,-48.915,-48.592, -48.1595,-47.9304,-47.7057,-47.37, -47.0343,-46.806,-46.4638,-46.2357, -45.8927,-45.5464,-45.3155,-45.0836, -44.846,-44.6073,-44.3673,-44.1291, -43.7662,-43.5243,-43.2823,-43.0379, -42.6704,-42.4235,-42.1731,-41.9231, -41.6758,-41.2944,-41.0402,-40.7811, -40.5247,-40.1324,-39.7386,-39.4745, -39.0805,-38.6792,-38.2693,-37.8592, -37.5894,-37.1724,-36.7526,-36.6091, -36.5466,-36.5459,-36.5446,-36.5372, -36.5313,-36.5259,-36.5082,-36.5074, -36.5078,-36.9297,-37.1983,-37.4759, -37.8886,-38.1616,-38.5674,-38.8395, -39.2397,-39.5064,-39.9102,-40.1637, -40.4246,-40.8093,-41.1938,-41.4514, -41.8334,-42.0837,-42.3305,-42.579, -42.9504,-43.2009,-43.4467,-43.6912, -44.0508,-44.2868,-44.5249,-44.7676, -45.0031,-45.239,-45.5873,-45.8186, -46.0528,-46.2801,-46.5088,-46.7373, -46.9655,-47.1922,-47.6407,-47.8648, -48.0949,-48.7484,-48.8548,-48.9567)
FOOTPRINT_POINT_LONGITUDE = (45.9503,45.4667,45.1192,44.4333, 43.7589,43.738,43.7381,43.7484,43.7616, 43.769,43.7756,43.7847,43.7934,43.7989, 43.8067,43.8116,43.8185,43.8248,43.8287 ,43.8325,43.8363,43.8398,43.8431, 43.8461,43.8501,43.8525,43.8547,43.8567 ,43.8592,43.8606,43.8618,43.8628, 43.8635,43.8642,43.8644,43.8644,43.8641 ,43.8632,43.8618,43.8605,43.8584, 43.8556,43.852,43.8481,43.8454,43.8405, 43.835,43.8329,43.832,44.2057,44.5113, 44.9378,45.2481,45.6066,46.2611,46.2855 ,46.2943,46.2908,46.2969,46.2943, 46.2885,46.286,46.2809,46.2743,46.2692, 46.2635,46.2491,46.2526,46.2482,46.2444 ,46.2374,46.2309,46.2183,46.2153, 46.2147,46.2078,46.1996,46.1891,46.1795 ,46.1717,46.1691,46.1659,46.1599, 46.1481,46.1456,46.1359,46.1288,46.1255 ,46.1164,46.1114,46.1047,46.0985, 46.0927,46.0838,46.0686,46.0614,46.0458 ,46.0296,46.0305,45.9503)
ORBIT_NUMBER = 10721
ORBITAL_ECCENTRICITY = 0.577
ORBITAL_INCLINATION = 86.88
ORBITAL_SEMIMAJOR_AXIS = 8767.85
PERIAPSIS_ALTITUDE = 329.13
PERIAPSIS_ARGUMENT_ANGLE = 287.9
PERIAPSIS_TIME = 2012-06-01T15:33:35.000Z
SPACECRAFT_ORIENTATION = (0.0,1.0,0.0)
^MEX_ORIENTATION_DESC = "MEX_ORIENTATION_DESC.TXT"
SPACECRAFT_POINTING_MODE = ACROSSTRACK
^MEX_POINTING_DESC = "MEX_POINTING_DESC.TXT"
RIGHT_ASCENSION = -1e+32
DECLINATION = -1e+32
OFFSET_ANGLE = -0.8
SPACECRAFT_SOLAR_DISTANCE = 2.41116e+08
TARGET_NAME = MARS
/* CAMERA DATA ELEMENTS */
DETECTOR_TEMPERATURE = 18.7783
FOCAL_PLANE_TEMPERATURE = 8.3794
INST_CMPRS_NAME = "DISCRETE COSINE TRANSFORMATION (DCT)"
INST_CMPRS_RATIO = 6.47483
INST_CMPRS_QUALITY = 0
INST_CMPRS_QUANTZ_TBL_ID = 0
INSTRUMENT_TEMPERATURE = 11.4379
LENS_TEMPERATURE = 8.5833
MACROPIXEL_SIZE = 2
MISSING_FRAMES = 0
PIXEL_SUBSAMPLING_FLAG = N
SIGNAL_CHAIN_ID = 3
/* RADIOMETRIC DATA ELEMENTS */
BANDWIDTH = 177.0
CENTER_FILTER_WAVELENGTH = 676.5
RADIANCE_OFFSET = 0.358558
RADIANCE_SCALING_FACTOR = 0.0189284
REFLECTANCE_SCALING_FACTOR = 0.000583471
MEX:REFLECTANCE_OFFSET = 0.0110526
/* IMAGE OBJECT DEFINITIONS */
OBJECT = IMAGE
  INTERCHANGE_FORMAT = BINARY
  LINES = 29416
  LINE_SAMPLES = 4942
  SAMPLE_TYPE = UNSIGNED_INTEGER
  SAMPLE_BITS = 8
  BANDS = 1
  BAND_STORAGE_TYPE = BAND_SEQUENTIAL
  MAXIMUM = 255
  MEAN = 142.254
  MINIMUM = 1
  STANDARD_DEVIATION = 43.2273
END_OBJECT = IMAGE
/* MAP OBJECT DEFINITIONS */
OBJECT = IMAGE_MAP_PROJECTION
  ^DATA_SET_MAP_PROJECTION_CATALOG= "DSMAP.CAT"
  A_AXIS_RADIUS = 3396.0
  B_AXIS_RADIUS = 3396.0
  C_AXIS_RADIUS = 3396.0
  CENTER_LATITUDE = 0.0
  CENTER_LONGITUDE = 45.0
  COORDINATE_SYSTEM_NAME = PLANETOGRAPHIC
  COORDINATE_SYSTEM_TYPE = "BODY-FIXED ROTATING"
  EASTERNMOST_LONGITUDE = 46.2969
  FIRST_STANDARD_PARALLEL = "N/A"
  LINE_FIRST_PIXEL = 1
  LINE_LAST_PIXEL = 29416
  LINE_PROJECTION_OFFSET = -86579.75
  MAP_PROJECTION_ROTATION = 0.0
  MAP_PROJECTION_TYPE = SINUSOIDAL
  MAP_RESOLUTION = 2370.85521546667
  MAP_SCALE = 0.025
  MAXIMUM_LATITUDE = -36.5074
  MINIMUM_LATITUDE = -48.9664
  POSITIVE_LONGITUDE_DIRECTION = EAST
  REFERENCE_LATITUDE = "N/A"
  REFERENCE_LONGITUDE = "N/A"
  SAMPLE_FIRST_PIXEL = 1
  SAMPLE_LAST_PIXEL = 4942
  SAMPLE_PROJECTION_OFFSET = 2366.25
  SECOND_STANDARD_PARALLEL = "N/A"
  WESTERNMOST_LONGITUDE = 43.738
END_OBJECT = IMAGE_MAP_PROJECTION
END
