PDS_VERSION_ID = PDS3
/* FILE DATA ELEMENTS */
RECORD_TYPE = UNDEFINED
/* POINTERS TO DATA OBJECTS */
^IMAGE = ("HA721_0000_P14.TIF")
/* IDENTIFICATION DATA ELEMENTS */
DATA_SET_ID = "MEX-M-HRSC-4-REFDR-MAPPROJECT-EXT3-V4.0"
DATA_SET_NAME = "MARS EXPRESS HRSC MAP PROJECTED REFDR EXTENSION3 V4.0"
DETECTOR_ID = MEX_HRSC_P1
EVENT_TYPE = "MARS-REGIONAL-MAPPING-Te-Fl-Lc"
INSTRUMENT_HOST_ID = MEX
INSTRUMENT_HOST_NAME = "MARS EXPRESS"
INSTRUMENT_ID = HRSC
INSTRUMENT_NAME = "HIGH RESOLUTION STEREO CAMERA"
MISSION_NAME = "MARS EXPRESS"
MISSION_PHASE_NAME = ME_Phase_26
PROCESSING_LEVEL_ID = 4
PRODUCT_CREATION_TIME = 2023-02-05T03:55:10.000Z
PRODUCT_ID = "HA721_0000_P14.TIF"
RELEASE_ID = 0009
REVISION_ID = 0000
/* QUALITY DATA ELEMENTS */
DATA_QUALITY_ID = 1
DATA_QUALITY_DESC = "Data calculated based on original SPICE kernels"
/* TIME DATA ELEMENTS */
SPACECRAFT_CLOCK_START_COUNT = "1/0286645129.07311"
SPACECRAFT_CLOCK_STOP_COUNT = "1/0286645445.29384"
START_TIME = 2012-06-01T15:40:00.129Z
STOP_TIME = 2012-06-01T15:43:41.800Z
/* ORBITAL DATA ELEMENTS */
ASCENDING_NODE_LONGITUDE = 12.72
MAXIMUM_RESOLUTION = 0.0372
FOOTPRINT_POINT_LATITUDE = (-48.9011,-48.8881,-48.8776,-48.8662, -48.8541,-48.8411,-48.8273,-48.8264, -48.8711,-48.312,-47.8732,-47.4249, -46.8605,-46.5163,-46.2861,-46.057, -45.704,-45.4686,-45.1146,-44.8787, -44.6434,-44.4078,-44.0478,-43.6857, -43.4406,-43.1983,-42.952,-42.7008, -42.4548,-42.2063,-41.9533,-41.6982, -41.3176,-40.9332,-40.6773,-40.4179, -40.032,-39.637,-39.3727,-39.1035, -38.7013,-38.4343,-38.1629,-37.8901, -37.6151,-37.3338,-36.9169,-36.6397, -36.4986,-36.4906,-36.5016,-36.5111, -36.519,-36.5211,-36.524,-36.5293, -36.5298,-36.5305,-36.9511,-37.2449, -37.5234,-37.8015,-38.0765,-38.3506, -38.6218,-39.0234,-39.2938,-39.5587, -39.8164,-40.0888,-40.3509,-40.7432, -41.0019,-41.3866,-41.6403,-42.0189, -42.2732,-42.5248,-42.8958,-43.2592, -43.5017,-43.7479,-43.9883,-44.2349, -44.4776,-44.8328,-45.187,-45.4249, -45.6601,-45.8937,-46.2417,-46.5874, -46.9332,-47.387,-47.8378,-48.1706, -48.5034,-48.8391,-48.9495,-48.9011)
FOOTPRINT_POINT_LONGITUDE = (46.0417,45.5224,45.1489,44.7787, 44.4119,44.048,43.687,43.6645,43.6562, 43.672,43.6832,43.6936,43.7053,43.7117, 43.7156,43.7193,43.7246,43.7279,43.7323 ,43.7347,43.7369,43.7387,43.7412, 43.7433,43.7445,43.7452,43.7458,43.7465 ,43.7465,43.7462,43.746,43.7458,43.7443 ,43.7424,43.7406,43.7388,43.7347, 43.7308,43.7279,43.7249,43.7197,43.7153 ,43.7111,43.7066,43.7019,43.6976, 43.6893,43.6832,43.6801,43.6801,44.2079 ,44.7935,45.2504,45.6007,45.8993, 46.4204,46.4482,46.4581,46.4468,46.4544 ,46.4499,46.4447,46.4397,46.4339, 46.4281,46.4153,46.4118,46.404,46.3899, 46.3931,46.3876,46.3801,46.3744,46.3641 ,46.3562,46.3446,46.3414,46.3349, 46.3238,46.3044,46.2951,46.2896,46.2797 ,46.2796,46.2738,46.2601,46.2458, 46.2407,46.2349,46.2265,46.2141,46.2027 ,46.1914,46.1761,46.1578,46.1431, 46.1268,46.1218,46.1188,46.0417)
ORBIT_NUMBER = 10721
ORBITAL_ECCENTRICITY = 0.577
ORBITAL_INCLINATION = 86.88
ORBITAL_SEMIMAJOR_AXIS = 8767.85
PERIAPSIS_ALTITUDE = 329.13
PERIAPSIS_ARGUMENT_ANGLE = 287.9
PERIAPSIS_TIME = 2012-06-01T15:33:35.000Z
SPACECRAFT_ORIENTATION = (0.0,1.0,0.0)
^MEX_ORIENTATION_DESC = "MEX_ORIENTATION_DESC.TXT"
SPACECRAFT_POINTING_MODE = ACROSSTRACK
^MEX_POINTING_DESC = "MEX_POINTING_DESC.TXT"
RIGHT_ASCENSION = -1e+32
DECLINATION = -1e+32
OFFSET_ANGLE = -0.8
SPACECRAFT_SOLAR_DISTANCE = 2.41116e+08
TARGET_NAME = MARS
/* CAMERA DATA ELEMENTS */
DETECTOR_TEMPERATURE = 17.5549
FOCAL_PLANE_TEMPERATURE = 8.3794
INST_CMPRS_NAME = "DISCRETE COSINE TRANSFORMATION (DCT)"
INST_CMPRS_RATIO = 7.5067
INST_CMPRS_QUALITY = 0
INST_CMPRS_QUANTZ_TBL_ID = 0
INSTRUMENT_TEMPERATURE = 11.4379
LENS_TEMPERATURE = 8.5833
MACROPIXEL_SIZE = 2
MISSING_FRAMES = 0
PIXEL_SUBSAMPLING_FLAG = N
SIGNAL_CHAIN_ID = 3
/* RADIOMETRIC DATA ELEMENTS */
BANDWIDTH = 174.0
CENTER_FILTER_WAVELENGTH = 675.0
RADIANCE_OFFSET = 0.337368
RADIANCE_SCALING_FACTOR = 0.0214989
REFLECTANCE_SCALING_FACTOR = 0.000672281
MEX:REFLECTANCE_OFFSET = 0.0105496
/* IMAGE OBJECT DEFINITIONS */
OBJECT = IMAGE
  INTERCHANGE_FORMAT = BINARY
  LINES = 29416
  LINE_SAMPLES = 4942
  SAMPLE_TYPE = UNSIGNED_INTEGER
  SAMPLE_BITS = 8
  BANDS = 1
  BAND_STORAGE_TYPE = BAND_SEQUENTIAL
  MAXIMUM = 255
  MEAN = 138.307
  MINIMUM = 1
  STANDARD_DEVIATION = 41.4683
END_OBJECT = IMAGE
/* MAP OBJECT DEFINITIONS */
OBJECT = IMAGE_MAP_PROJECTION
  ^DATA_SET_MAP_PROJECTION_CATALOG= "DSMAP.CAT"
  A_AXIS_RADIUS = 3396.0
  B_AXIS_RADIUS = 3396.0
  C_AXIS_RADIUS = 3396.0
  CENTER_LATITUDE = 0.0
  CENTER_LONGITUDE = 45.0
  COORDINATE_SYSTEM_NAME = PLANETOGRAPHIC
  COORDINATE_SYSTEM_TYPE = "BODY-FIXED ROTATING"
  EASTERNMOST_LONGITUDE = 46.4581
  FIRST_STANDARD_PARALLEL = "N/A"
  LINE_FIRST_PIXEL = 1
  LINE_LAST_PIXEL = 29416
  LINE_PROJECTION_OFFSET = -86579.75
  MAP_PROJECTION_ROTATION = 0.0
  MAP_PROJECTION_TYPE = SINUSOIDAL
  MAP_RESOLUTION = 2370.85521546667
  MAP_SCALE = 0.025
  MAXIMUM_LATITUDE = -36.4906
  MINIMUM_LATITUDE = -48.9495
  POSITIVE_LONGITUDE_DIRECTION = EAST
  REFERENCE_LATITUDE = "N/A"
  REFERENCE_LONGITUDE = "N/A"
  SAMPLE_FIRST_PIXEL = 1
  SAMPLE_LAST_PIXEL = 4942
  SAMPLE_PROJECTION_OFFSET = 2366.25
  SECOND_STANDARD_PARALLEL = "N/A"
  WESTERNMOST_LONGITUDE = 43.6562
END_OBJECT = IMAGE_MAP_PROJECTION
END
