PDS_VERSION_ID = PDS3
/* FILE DATA ELEMENTS */
RECORD_TYPE = UNDEFINED
/* POINTERS TO DATA OBJECTS */
^IMAGE = ("HA721_0000_GR4.TIF")
/* IDENTIFICATION DATA ELEMENTS */
DATA_SET_ID = "MEX-M-HRSC-4-REFDR-MAPPROJECT-EXT3-V4.0"
DATA_SET_NAME = "MARS EXPRESS HRSC MAP PROJECTED REFDR EXTENSION3 V4.0"
DETECTOR_ID = MEX_HRSC_GREEN
EVENT_TYPE = "MARS-REGIONAL-MAPPING-Te-Fl-Lc"
INSTRUMENT_HOST_ID = MEX
INSTRUMENT_HOST_NAME = "MARS EXPRESS"
INSTRUMENT_ID = HRSC
INSTRUMENT_NAME = "HIGH RESOLUTION STEREO CAMERA"
MISSION_NAME = "MARS EXPRESS"
MISSION_PHASE_NAME = ME_Phase_26
PROCESSING_LEVEL_ID = 4
PRODUCT_CREATION_TIME = 2023-02-05T03:55:10.000Z
PRODUCT_ID = "HA721_0000_GR4.TIF"
RELEASE_ID = 0009
REVISION_ID = 0000
/* QUALITY DATA ELEMENTS */
DATA_QUALITY_ID = 1
DATA_QUALITY_DESC = "Data calculated based on original SPICE kernels"
/* TIME DATA ELEMENTS */
SPACECRAFT_CLOCK_START_COUNT = "1/0286645129.07311"
SPACECRAFT_CLOCK_STOP_COUNT = "1/0286645445.29384"
START_TIME = 2012-06-01T15:39:38.842Z
STOP_TIME = 2012-06-01T15:43:09.441Z
/* ORBITAL DATA ELEMENTS */
ASCENDING_NODE_LONGITUDE = 12.72
MAXIMUM_RESOLUTION = 0.0703
FOOTPRINT_POINT_LATITUDE = (-48.9232,-48.9158,-48.91,-48.8957, -48.8778,-48.8772,-48.8871,-48.3382, -47.6761,-47.2317,-46.7782,-46.3256, -46.0947,-45.8636,-45.5174,-45.1659, -44.9316,-44.6977,-44.4608,-44.2225, -43.8653,-43.623,-43.3806,-43.1386, -42.8934,-42.6464,-42.4009,-42.1522, -41.9017,-41.6512,-41.3984,-41.1444, -40.8913,-40.6338,-40.248,-39.8566, -39.5957,-39.3307,-38.9332,-38.664, -38.3968,-37.9895,-37.7175,-37.4408, -37.1659,-36.7477,-36.6092,-36.5019, -36.5084,-36.5114,-36.5145,-36.5148, -36.5144,-36.5129,-36.5129,-36.5142, -36.9342,-37.2162,-37.4927,-37.7691, -38.0416,-38.4501,-38.7193,-38.9877, -39.2536,-39.5192,-39.78,-40.0441, -40.306,-40.6935,-40.952,-41.206, -41.4606,-41.7135,-41.9638,-42.2154, -42.4645,-42.711,-42.9573,-43.2015, -43.4437,-43.6865,-43.9286,-44.169, -44.4083,-44.6474,-44.8827,-45.1171, -45.3526,-45.5867,-45.9329,-46.164, -46.3952,-46.8491,-47.5259,-47.8604, -48.3045,-48.7419,-48.8522,-48.9232)
FOOTPRINT_POINT_LONGITUDE = (45.9927,45.4236,45.0772,44.3938, 43.7209,43.7,43.6968,43.7129,43.7312, 43.742,43.7519,43.7609,43.7651,43.7691, 43.7746,43.7797,43.7827,43.7855,43.7881 ,43.7904,43.7935,43.7953,43.7969, 43.7982,43.7994,43.8004,43.8009,43.8013 ,43.8016,43.8018,43.8014,43.8009,43.8, 43.7989,43.7969,43.7942,43.7922,43.79, 43.7864,43.7837,43.7801,43.7748,43.7712 ,43.7676,43.7631,43.756,43.7531,43.7513 ,44.3027,44.6653,45.1286,45.4957, 46.0152,46.3388,46.3643,46.3727,46.3649 ,46.3724,46.3684,46.3644,46.3593, 46.3532,46.3483,46.3393,46.3373,46.3308 ,46.3148,46.3198,46.3156,46.3097, 46.3053,46.2991,46.2938,46.2858,46.2793 ,46.2771,46.2714,46.2648,46.2549, 46.2436,46.235,46.2269,46.2189,46.2212, 46.2156,46.2069,46.202,46.1916,46.1851, 46.1809,46.1693,46.1609,46.1551,46.1409 ,46.119,46.1071,46.0886,46.0708,46.0713 ,45.9927)
ORBIT_NUMBER = 10721
ORBITAL_ECCENTRICITY = 0.577
ORBITAL_INCLINATION = 86.88
ORBITAL_SEMIMAJOR_AXIS = 8767.85
PERIAPSIS_ALTITUDE = 329.13
PERIAPSIS_ARGUMENT_ANGLE = 287.9
PERIAPSIS_TIME = 2012-06-01T15:33:35.000Z
SPACECRAFT_ORIENTATION = (0.0,1.0,0.0)
^MEX_ORIENTATION_DESC = "MEX_ORIENTATION_DESC.TXT"
SPACECRAFT_POINTING_MODE = ACROSSTRACK
^MEX_POINTING_DESC = "MEX_POINTING_DESC.TXT"
RIGHT_ASCENSION = -1e+32
DECLINATION = -1e+32
OFFSET_ANGLE = -0.8
SPACECRAFT_SOLAR_DISTANCE = 2.41116e+08
TARGET_NAME = MARS
/* CAMERA DATA ELEMENTS */
DETECTOR_TEMPERATURE = 18.5744
FOCAL_PLANE_TEMPERATURE = 8.3794
INST_CMPRS_NAME = "DISCRETE COSINE TRANSFORMATION (DCT)"
INST_CMPRS_RATIO = 5.89092
INST_CMPRS_QUALITY = 0
INST_CMPRS_QUANTZ_TBL_ID = 0
INSTRUMENT_TEMPERATURE = 11.4379
LENS_TEMPERATURE = 8.5833
MACROPIXEL_SIZE = 4
MISSING_FRAMES = 0
PIXEL_SUBSAMPLING_FLAG = N
SIGNAL_CHAIN_ID = 2
/* RADIOMETRIC DATA ELEMENTS */
BANDWIDTH = 88.0
CENTER_FILTER_WAVELENGTH = 538.0
RADIANCE_OFFSET = 0.140788
RADIANCE_SCALING_FACTOR = 0.0109633
REFLECTANCE_SCALING_FACTOR = 0.000548758
MEX:REFLECTANCE_OFFSET = 0.007047
/* IMAGE OBJECT DEFINITIONS */
OBJECT = IMAGE
  INTERCHANGE_FORMAT = BINARY
  LINES = 14708
  LINE_SAMPLES = 2471
  SAMPLE_TYPE = UNSIGNED_INTEGER
  SAMPLE_BITS = 8
  BANDS = 1
  BAND_STORAGE_TYPE = BAND_SEQUENTIAL
  MAXIMUM = 255
  MEAN = 127.723
  MINIMUM = 1
  STANDARD_DEVIATION = 50.131
END_OBJECT = IMAGE
/* MAP OBJECT DEFINITIONS */
OBJECT = IMAGE_MAP_PROJECTION
  ^DATA_SET_MAP_PROJECTION_CATALOG= "DSMAP.CAT"
  A_AXIS_RADIUS = 3396.0
  B_AXIS_RADIUS = 3396.0
  C_AXIS_RADIUS = 3396.0
  CENTER_LATITUDE = 0.0
  CENTER_LONGITUDE = 45.0
  COORDINATE_SYSTEM_NAME = PLANETOGRAPHIC
  COORDINATE_SYSTEM_TYPE = "BODY-FIXED ROTATING"
  EASTERNMOST_LONGITUDE = 46.3727
  FIRST_STANDARD_PARALLEL = "N/A"
  LINE_FIRST_PIXEL = 1
  LINE_LAST_PIXEL = 14708
  LINE_PROJECTION_OFFSET = -43290.125
  MAP_PROJECTION_ROTATION = 0.0
  MAP_PROJECTION_TYPE = SINUSOIDAL
  MAP_RESOLUTION = 1185.42760773333
  MAP_SCALE = 0.05
  MAXIMUM_LATITUDE = -36.5019
  MINIMUM_LATITUDE = -48.9232
  POSITIVE_LONGITUDE_DIRECTION = EAST
  REFERENCE_LATITUDE = "N/A"
  REFERENCE_LONGITUDE = "N/A"
  SAMPLE_FIRST_PIXEL = 1
  SAMPLE_LAST_PIXEL = 2471
  SAMPLE_PROJECTION_OFFSET = 1182.875
  SECOND_STANDARD_PARALLEL = "N/A"
  WESTERNMOST_LONGITUDE = 43.6968
END_OBJECT = IMAGE_MAP_PROJECTION
END
