PDS_VERSION_ID = PDS3
/* FILE DATA ELEMENTS */
RECORD_TYPE = UNDEFINED
/* POINTERS TO DATA OBJECTS */
^IMAGE = ("HA720_0000_S24.TIF")
/* IDENTIFICATION DATA ELEMENTS */
DATA_SET_ID = "MEX-M-HRSC-4-REFDR-MAPPROJECT-EXT3-V4.0"
DATA_SET_NAME = "MARS EXPRESS HRSC MAP PROJECTED REFDR EXTENSION3 V4.0"
DETECTOR_ID = MEX_HRSC_S2
EVENT_TYPE = "MARS-REGIONAL-MAPPING-Te-Im-Fl"
INSTRUMENT_HOST_ID = MEX
INSTRUMENT_HOST_NAME = "MARS EXPRESS"
INSTRUMENT_ID = HRSC
INSTRUMENT_NAME = "HIGH RESOLUTION STEREO CAMERA"
MISSION_NAME = "MARS EXPRESS"
MISSION_PHASE_NAME = ME_Phase_26
PROCESSING_LEVEL_ID = 4
PRODUCT_CREATION_TIME = 2023-02-05T03:55:10.000Z
PRODUCT_ID = "HA720_0000_S24.TIF"
RELEASE_ID = 0009
REVISION_ID = 0000
/* QUALITY DATA ELEMENTS */
DATA_QUALITY_ID = 1
DATA_QUALITY_DESC = "Data calculated based on original SPICE kernels"
/* TIME DATA ELEMENTS */
SPACECRAFT_CLOCK_START_COUNT = "1/0286620012.08263"
SPACECRAFT_CLOCK_STOP_COUNT = "1/0286620337.35894"
START_TIME = 2012-06-01T08:40:15.859Z
STOP_TIME = 2012-06-01T08:43:21.895Z
/* ORBITAL DATA ELEMENTS */
ASCENDING_NODE_LONGITUDE = 12.74
MAXIMUM_RESOLUTION = 0.0375
FOOTPRINT_POINT_LATITUDE = (-45.5398,-45.5597,-45.5722,-45.583, -45.5922,-45.5999,-45.6062,-45.6066, -45.552,-44.9139,-44.486,-44.0536, -43.7251,-43.2854,-42.7304,-42.506, -42.2825,-42.0547,-41.8276,-41.4875, -41.2569,-41.0257,-40.7947,-40.4462, -40.0925,-39.8569,-39.6195,-39.3804, -39.1399,-38.9,-38.6566,-38.4119, -38.1676,-37.9198,-37.6708,-37.4232, -37.1648,-36.9082,-36.6552,-36.4063, -36.1483,-35.8896,-35.4965,-35.2349, -34.9701,-34.7016,-34.4364,-34.1663, -33.7618,-33.6252,-33.6117,-33.6015, -33.5892,-33.5681,-33.5531,-33.5335, -33.5127,-33.5112,-33.5115,-33.9207, -34.1895,-34.5908,-34.8577,-35.1221, -35.5162,-35.7802,-36.0314,-36.2938, -36.5534,-36.8086,-37.0621,-37.4392, -37.6879,-38.0614,-38.4294,-38.6746, -39.0387,-39.281,-39.5233,-39.7623, -39.9991,-40.2353,-40.4721,-40.7028, -41.0491,-41.3958,-41.6223,-41.8497, -42.0777,-42.3041,-42.5279,-42.8634, -43.1985,-43.6382,-44.1859,-44.6146, -44.9391,-45.362,-45.467,-45.5398)
FOOTPRINT_POINT_LONGITUDE = (148.707,148.218,147.867,147.521, 147.178,146.839,146.504,146.483,146.488 ,146.495,146.499,146.502,146.504, 146.506,146.507,146.508,146.508,146.508 ,146.507,146.507,146.506,146.505, 146.504,146.502,146.499,146.497,146.495 ,146.493,146.491,146.488,146.486, 146.483,146.48,146.477,146.473,146.469, 146.466,146.462,146.458,146.453,146.449 ,146.444,146.437,146.431,146.426,146.42 ,146.414,146.408,146.398,146.395, 146.395,146.771,147.152,147.704,148.044 ,148.484,148.856,148.881,148.89,148.887 ,148.887,148.885,148.883,148.882, 148.879,148.876,148.879,148.874,148.87, 148.867,148.866,148.863,148.862,148.859 ,148.856,148.854,148.85,148.847,148.844 ,148.84,148.838,148.836,148.834,148.832 ,148.831,148.828,148.826,148.824, 148.821,148.818,148.815,148.811,148.806 ,148.798,148.791,148.784,148.777, 148.773,148.771,148.707)
ORBIT_NUMBER = 10720
ORBITAL_ECCENTRICITY = 0.577
ORBITAL_INCLINATION = 86.87
ORBITAL_SEMIMAJOR_AXIS = 8768.33
PERIAPSIS_ALTITUDE = 329.76
PERIAPSIS_ARGUMENT_ANGLE = 288.07
PERIAPSIS_TIME = 2012-06-01T08:34:09.000Z
SPACECRAFT_ORIENTATION = (0.0,1.0,0.0)
^MEX_ORIENTATION_DESC = "MEX_ORIENTATION_DESC.TXT"
SPACECRAFT_POINTING_MODE = ACROSSTRACK
^MEX_POINTING_DESC = "MEX_POINTING_DESC.TXT"
RIGHT_ASCENSION = -1e+32
DECLINATION = -1e+32
OFFSET_ANGLE = -1.078
SPACECRAFT_SOLAR_DISTANCE = 2.41158e+08
TARGET_NAME = MARS
/* CAMERA DATA ELEMENTS */
DETECTOR_TEMPERATURE = 18.7783
FOCAL_PLANE_TEMPERATURE = 8.3794
INST_CMPRS_NAME = "DISCRETE COSINE TRANSFORMATION (DCT)"
INST_CMPRS_RATIO = 6.26897
INST_CMPRS_QUALITY = 0
INST_CMPRS_QUANTZ_TBL_ID = 0
INSTRUMENT_TEMPERATURE = 11.6418
LENS_TEMPERATURE = 8.7872
MACROPIXEL_SIZE = 2
MISSING_FRAMES = 0
PIXEL_SUBSAMPLING_FLAG = N
SIGNAL_CHAIN_ID = 1
/* RADIOMETRIC DATA ELEMENTS */
BANDWIDTH = 178.0
CENTER_FILTER_WAVELENGTH = 679.0
RADIANCE_OFFSET = 0.307195
RADIANCE_SCALING_FACTOR = 0.019034
REFLECTANCE_SCALING_FACTOR = 0.00058622
MEX:REFLECTANCE_OFFSET = 0.00946114
/* IMAGE OBJECT DEFINITIONS */
OBJECT = IMAGE
  INTERCHANGE_FORMAT = BINARY
  LINES = 28411
  LINE_SAMPLES = 5336
  SAMPLE_TYPE = UNSIGNED_INTEGER
  SAMPLE_BITS = 8
  BANDS = 1
  BAND_STORAGE_TYPE = BAND_SEQUENTIAL
  MAXIMUM = 255
  MEAN = 111.449
  MINIMUM = 1
  STANDARD_DEVIATION = 21.858
END_OBJECT = IMAGE
/* MAP OBJECT DEFINITIONS */
OBJECT = IMAGE_MAP_PROJECTION
  ^DATA_SET_MAP_PROJECTION_CATALOG= "DSMAP.CAT"
  A_AXIS_RADIUS = 3396.0
  B_AXIS_RADIUS = 3396.0
  C_AXIS_RADIUS = 3396.0
  CENTER_LATITUDE = 0.0
  CENTER_LONGITUDE = 148.0
  COORDINATE_SYSTEM_NAME = PLANETOGRAPHIC
  COORDINATE_SYSTEM_TYPE = "BODY-FIXED ROTATING"
  EASTERNMOST_LONGITUDE = 148.89
  FIRST_STANDARD_PARALLEL = "N/A"
  LINE_FIRST_PIXEL = 1
  LINE_LAST_PIXEL = 28411
  LINE_PROJECTION_OFFSET = -79489.75
  MAP_PROJECTION_ROTATION = 0.0
  MAP_PROJECTION_TYPE = SINUSOIDAL
  MAP_RESOLUTION = 2370.85521546667
  MAP_SCALE = 0.025
  MAXIMUM_LATITUDE = -33.5112
  MINIMUM_LATITUDE = -45.6066
  POSITIVE_LONGITUDE_DIRECTION = EAST
  REFERENCE_LATITUDE = "N/A"
  REFERENCE_LONGITUDE = "N/A"
  SAMPLE_FIRST_PIXEL = 1
  SAMPLE_LAST_PIXEL = 5336
  SAMPLE_PROJECTION_OFFSET = 3427.25
  SECOND_STANDARD_PARALLEL = "N/A"
  WESTERNMOST_LONGITUDE = 146.395
END_OBJECT = IMAGE_MAP_PROJECTION
END
