PDS_VERSION_ID = PDS3
/* FILE DATA ELEMENTS */
RECORD_TYPE = UNDEFINED
/* POINTERS TO DATA OBJECTS */
^IMAGE = ("HA720_0000_RE4.TIF")
/* IDENTIFICATION DATA ELEMENTS */
DATA_SET_ID = "MEX-M-HRSC-4-REFDR-MAPPROJECT-EXT3-V4.0"
DATA_SET_NAME = "MARS EXPRESS HRSC MAP PROJECTED REFDR EXTENSION3 V4.0"
DETECTOR_ID = MEX_HRSC_RED
EVENT_TYPE = "MARS-REGIONAL-MAPPING-Te-Im-Fl"
INSTRUMENT_HOST_ID = MEX
INSTRUMENT_HOST_NAME = "MARS EXPRESS"
INSTRUMENT_ID = HRSC
INSTRUMENT_NAME = "HIGH RESOLUTION STEREO CAMERA"
MISSION_NAME = "MARS EXPRESS"
MISSION_PHASE_NAME = ME_Phase_26
PROCESSING_LEVEL_ID = 4
PRODUCT_CREATION_TIME = 2023-02-05T03:55:10.000Z
PRODUCT_ID = "HA720_0000_RE4.TIF"
RELEASE_ID = 0009
REVISION_ID = 0000
/* QUALITY DATA ELEMENTS */
DATA_QUALITY_ID = 1
DATA_QUALITY_DESC = "Data calculated based on original SPICE kernels"
/* TIME DATA ELEMENTS */
SPACECRAFT_CLOCK_START_COUNT = "1/0286620012.08263"
SPACECRAFT_CLOCK_STOP_COUNT = "1/0286620337.35894"
START_TIME = 2012-06-01T08:40:22.850Z
STOP_TIME = 2012-06-01T08:43:31.751Z
/* ORBITAL DATA ELEMENTS */
ASCENDING_NODE_LONGITUDE = 12.74
MAXIMUM_RESOLUTION = 0.0744
FOOTPRINT_POINT_LATITUDE = (-45.5338,-45.5521,-45.5615,-45.5695, -45.576,-45.5813,-45.5854,-45.5856, -45.5396,-45.1167,-44.6954,-44.2641, -43.8347,-43.5046,-43.2848,-42.8478, -42.6254,-42.4002,-42.1763,-41.9526, -41.6117,-41.3844,-41.0433,-40.8114, -40.5801,-40.2329,-39.8794,-39.6431, -39.408,-39.0482,-38.8081,-38.4462, -38.2009,-37.9572,-37.7093,-37.3376, -37.0836,-36.828,-36.5756,-36.3277, -35.9418,-35.6845,-35.4227,-35.0316, -34.7653,-34.3685,-34.1006,-33.8321, -33.698,-33.5875,-33.5795,-33.5698, -33.5539,-33.5337,-33.503,-33.5018, -33.5029,-33.7749,-34.0433,-34.3106, -34.5755,-34.8413,-35.2343,-35.4959, -35.7567,-36.0082,-36.2679,-36.523, -36.7799,-37.0331,-37.406,-37.6553, -37.9025,-38.2701,-38.5153,-38.7563, -39.1189,-39.3605,-39.5977,-39.9534, -40.1888,-40.4211,-40.6526,-40.9998, -41.2273,-41.5689,-41.9101,-42.1342, -42.4709,-42.6956,-42.9158,-43.1356, -43.3558,-43.5768,-43.7954,-44.2257, -44.8689,-45.2907,-45.3962,-45.5338)
FOOTPRINT_POINT_LONGITUDE = (148.706,148.149,147.81,147.476,147.145 ,146.818,146.493,146.473,146.479, 146.484,146.488,146.491,146.493,146.495 ,146.496,146.497,146.497,146.497, 146.497,146.497,146.496,146.495,146.494 ,146.492,146.491,146.488,146.486, 146.484,146.481,146.478,146.475,146.47, 146.467,146.464,146.461,146.455,146.451 ,146.447,146.443,146.438,146.431, 146.426,146.42,146.412,146.406,146.397, 146.391,146.384,146.381,146.378,146.743 ,147.113,147.625,148.191,148.861, 148.885,148.893,148.891,148.89,148.889, 148.888,148.886,148.884,148.882,148.879 ,148.882,148.878,148.875,148.87,148.868 ,148.866,148.864,148.862,148.859, 148.857,148.855,148.85,148.847,148.844, 148.84,148.838,148.835,148.834,148.832, 148.83,148.827,148.824,148.821,148.816, 148.813,148.81,148.807,148.804,148.799, 148.795,148.789,148.778,148.772,148.771 ,148.706)
ORBIT_NUMBER = 10720
ORBITAL_ECCENTRICITY = 0.577
ORBITAL_INCLINATION = 86.87
ORBITAL_SEMIMAJOR_AXIS = 8768.33
PERIAPSIS_ALTITUDE = 329.76
PERIAPSIS_ARGUMENT_ANGLE = 288.07
PERIAPSIS_TIME = 2012-06-01T08:34:09.000Z
SPACECRAFT_ORIENTATION = (0.0,1.0,0.0)
^MEX_ORIENTATION_DESC = "MEX_ORIENTATION_DESC.TXT"
SPACECRAFT_POINTING_MODE = ACROSSTRACK
^MEX_POINTING_DESC = "MEX_POINTING_DESC.TXT"
RIGHT_ASCENSION = -1e+32
DECLINATION = -1e+32
OFFSET_ANGLE = -1.078
SPACECRAFT_SOLAR_DISTANCE = 2.41158e+08
TARGET_NAME = MARS
/* CAMERA DATA ELEMENTS */
DETECTOR_TEMPERATURE = 18.7783
FOCAL_PLANE_TEMPERATURE = 8.3794
INST_CMPRS_NAME = "DISCRETE COSINE TRANSFORMATION (DCT)"
INST_CMPRS_RATIO = 6.32408
INST_CMPRS_QUALITY = 0
INST_CMPRS_QUANTZ_TBL_ID = 0
INSTRUMENT_TEMPERATURE = 11.6418
LENS_TEMPERATURE = 8.7872
MACROPIXEL_SIZE = 4
MISSING_FRAMES = 0
PIXEL_SUBSAMPLING_FLAG = N
SIGNAL_CHAIN_ID = 2
/* RADIOMETRIC DATA ELEMENTS */
BANDWIDTH = 48.0
CENTER_FILTER_WAVELENGTH = 748.0
RADIANCE_OFFSET = 0.085872
RADIANCE_SCALING_FACTOR = 0.00521967
REFLECTANCE_SCALING_FACTOR = 0.000692741
MEX:REFLECTANCE_OFFSET = 0.0113967
/* IMAGE OBJECT DEFINITIONS */
OBJECT = IMAGE
  INTERCHANGE_FORMAT = BINARY
  LINES = 14206
  LINE_SAMPLES = 2668
  SAMPLE_TYPE = UNSIGNED_INTEGER
  SAMPLE_BITS = 8
  BANDS = 1
  BAND_STORAGE_TYPE = BAND_SEQUENTIAL
  MAXIMUM = 255
  MEAN = 107.51
  MINIMUM = 1
  STANDARD_DEVIATION = 21.621
END_OBJECT = IMAGE
/* MAP OBJECT DEFINITIONS */
OBJECT = IMAGE_MAP_PROJECTION
  ^DATA_SET_MAP_PROJECTION_CATALOG= "DSMAP.CAT"
  A_AXIS_RADIUS = 3396.0
  B_AXIS_RADIUS = 3396.0
  C_AXIS_RADIUS = 3396.0
  CENTER_LATITUDE = 0.0
  CENTER_LONGITUDE = 148.0
  COORDINATE_SYSTEM_NAME = PLANETOGRAPHIC
  COORDINATE_SYSTEM_TYPE = "BODY-FIXED ROTATING"
  EASTERNMOST_LONGITUDE = 148.893
  FIRST_STANDARD_PARALLEL = "N/A"
  LINE_FIRST_PIXEL = 1
  LINE_LAST_PIXEL = 14206
  LINE_PROJECTION_OFFSET = -39745.125
  MAP_PROJECTION_ROTATION = 0.0
  MAP_PROJECTION_TYPE = SINUSOIDAL
  MAP_RESOLUTION = 1185.42760773333
  MAP_SCALE = 0.05
  MAXIMUM_LATITUDE = -33.5018
  MINIMUM_LATITUDE = -45.5856
  POSITIVE_LONGITUDE_DIRECTION = EAST
  REFERENCE_LATITUDE = "N/A"
  REFERENCE_LONGITUDE = "N/A"
  SAMPLE_FIRST_PIXEL = 1
  SAMPLE_LAST_PIXEL = 2668
  SAMPLE_PROJECTION_OFFSET = 1713.375
  SECOND_STANDARD_PARALLEL = "N/A"
  WESTERNMOST_LONGITUDE = 146.378
END_OBJECT = IMAGE_MAP_PROJECTION
END
