PDS_VERSION_ID = PDS3
/* FILE DATA ELEMENTS */
RECORD_TYPE = UNDEFINED
/* POINTERS TO DATA OBJECTS */
^IMAGE = ("HA708_0000_IR4.TIF")
/* IDENTIFICATION DATA ELEMENTS */
DATA_SET_ID = "MEX-M-HRSC-4-REFDR-MAPPROJECT-EXT3-V4.0"
DATA_SET_NAME = "MARS EXPRESS HRSC MAP PROJECTED REFDR EXTENSION3 V4.0"
DETECTOR_ID = MEX_HRSC_IR
EVENT_TYPE = "MARS-REGIONAL-MAPPING-Te-Im-Fl"
INSTRUMENT_HOST_ID = MEX
INSTRUMENT_HOST_NAME = "MARS EXPRESS"
INSTRUMENT_ID = HRSC
INSTRUMENT_NAME = "HIGH RESOLUTION STEREO CAMERA"
MISSION_NAME = "MARS EXPRESS"
MISSION_PHASE_NAME = ME_Phase_26
PROCESSING_LEVEL_ID = 4
PRODUCT_CREATION_TIME = 2023-02-05T03:55:10.000Z
PRODUCT_ID = "HA708_0000_IR4.TIF"
RELEASE_ID = 0009
REVISION_ID = 0000
/* QUALITY DATA ELEMENTS */
DATA_QUALITY_ID = 1
DATA_QUALITY_DESC = "Data calculated based on original SPICE kernels"
/* TIME DATA ELEMENTS */
SPACECRAFT_CLOCK_START_COUNT = "1/0286317921.07293"
SPACECRAFT_CLOCK_STOP_COUNT = "1/0286318197.47220"
START_TIME = 2012-05-28T20:46:34.514Z
STOP_TIME = 2012-05-28T20:49:48.492Z
/* ORBITAL DATA ELEMENTS */
ASCENDING_NODE_LONGITUDE = 12.96
MAXIMUM_RESOLUTION = 0.0716
FOOTPRINT_POINT_LATITUDE = (-49.298,-49.2815,-49.2708,-49.2618, -49.2431,-49.2424,-49.2856,-48.9421, -48.7153,-48.4895,-48.2624,-48.0359, -47.6963,-47.3585,-47.0205,-46.797, -46.4642,-46.2387,-46.0173,-45.7954, -45.4632,-45.2393,-45.0196,-44.7993, -44.5795,-44.3623,-44.1425,-43.9249, -43.7066,-43.4886,-43.2715,-42.9458, -42.7287,-42.4059,-42.1966,-41.9801, -41.7588,-41.5452,-41.3323,-41.0131, -40.8003,-40.5881,-40.3769,-40.1664, -39.7478,-39.3313,-39.0189,-38.5013, -38.3985,-38.326,-38.3379,-38.343, -38.3457,-38.3491,-38.3514,-38.3514, -38.3523,-38.767,-39.1825,-39.6013, -40.0202,-40.2308,-40.5529,-40.7668, -40.9792,-41.3986,-41.6123,-41.9345, -42.149,-42.3641,-42.5819,-42.7992, -43.0165,-43.3423,-43.667,-43.8838, -44.2175,-44.4392,-44.659,-44.9906, -45.2118,-45.4336,-45.6554,-45.877, -46.0992,-46.3222,-46.5438,-46.7669, -46.9916,-47.2161,-47.4419,-47.6685, -47.895,-48.1227,-48.4651,-48.6935, -48.9243,-49.1557,-49.2705,-49.298)
FOOTPRINT_POINT_LONGITUDE = (293.808,292.992,292.552,292.218, 291.591,291.57,291.536,291.557,291.57, 291.582,291.594,291.607,291.625,291.641 ,291.658,291.668,291.681,291.692,291.7, 291.709,291.721,291.73,291.738,291.745, 291.752,291.758,291.765,291.771,291.777 ,291.783,291.788,291.796,291.802, 291.808,291.81,291.815,291.823,291.826, 291.829,291.834,291.837,291.84,291.843, 291.845,291.848,291.85,291.852,291.854, 291.854,291.854,292.656,293.129,293.414 ,293.84,294.362,294.385,294.393,294.377 ,294.36,294.343,294.325,294.316,294.305 ,294.296,294.287,294.265,294.255, 294.241,294.231,294.221,294.211,294.202 ,294.191,294.175,294.158,294.146, 294.132,294.122,294.11,294.093,294.081, 294.07,294.057,294.045,294.032,294.019, 294.005,293.991,293.978,293.965,293.951 ,293.938,293.924,293.911,293.89,293.876 ,293.862,293.849,293.841,293.808)
ORBIT_NUMBER = 10708
ORBITAL_ECCENTRICITY = 0.577
ORBITAL_INCLINATION = 86.87
ORBITAL_SEMIMAJOR_AXIS = 8768.18
PERIAPSIS_ALTITUDE = 329.25
PERIAPSIS_ARGUMENT_ANGLE = 290.11
PERIAPSIS_TIME = 2012-05-28T20:40:47.000Z
SPACECRAFT_ORIENTATION = (0.0,1.0,0.0)
^MEX_ORIENTATION_DESC = "MEX_ORIENTATION_DESC.TXT"
SPACECRAFT_POINTING_MODE = NADIR
^MEX_POINTING_DESC = "MEX_POINTING_DESC.TXT"
RIGHT_ASCENSION = -1e+32
DECLINATION = -1e+32
OFFSET_ANGLE = -1e+32
SPACECRAFT_SOLAR_DISTANCE = 2.41655e+08
TARGET_NAME = MARS
/* CAMERA DATA ELEMENTS */
DETECTOR_TEMPERATURE = 17.5549
FOCAL_PLANE_TEMPERATURE = 7.9716
INST_CMPRS_NAME = "DISCRETE COSINE TRANSFORMATION (DCT)"
INST_CMPRS_RATIO = 11.5616
INST_CMPRS_QUALITY = 0
INST_CMPRS_QUANTZ_TBL_ID = 0
INSTRUMENT_TEMPERATURE = 11.4379
LENS_TEMPERATURE = 8.5833
MACROPIXEL_SIZE = 4
MISSING_FRAMES = 0
PIXEL_SUBSAMPLING_FLAG = N
SIGNAL_CHAIN_ID = 2
/* RADIOMETRIC DATA ELEMENTS */
BANDWIDTH = 81.0
CENTER_FILTER_WAVELENGTH = 955.5
RADIANCE_OFFSET = 0.0731416
RADIANCE_SCALING_FACTOR = 0.00274537
REFLECTANCE_SCALING_FACTOR = 0.000345875
MEX:REFLECTANCE_OFFSET = 0.00921473
/* IMAGE OBJECT DEFINITIONS */
OBJECT = IMAGE
  INTERCHANGE_FORMAT = BINARY
  LINES = 13066
  LINE_SAMPLES = 2299
  SAMPLE_TYPE = UNSIGNED_INTEGER
  SAMPLE_BITS = 8
  BANDS = 1
  BAND_STORAGE_TYPE = BAND_SEQUENTIAL
  MAXIMUM = 255
  MEAN = 109.76
  MINIMUM = 1
  STANDARD_DEVIATION = 27.6707
END_OBJECT = IMAGE
/* MAP OBJECT DEFINITIONS */
OBJECT = IMAGE_MAP_PROJECTION
  ^DATA_SET_MAP_PROJECTION_CATALOG= "DSMAP.CAT"
  A_AXIS_RADIUS = 3396.0
  B_AXIS_RADIUS = 3396.0
  C_AXIS_RADIUS = 3396.0
  CENTER_LATITUDE = 0.0
  CENTER_LONGITUDE = 293.0
  COORDINATE_SYSTEM_NAME = PLANETOGRAPHIC
  COORDINATE_SYSTEM_TYPE = "BODY-FIXED ROTATING"
  EASTERNMOST_LONGITUDE = 294.393
  FIRST_STANDARD_PARALLEL = "N/A"
  LINE_FIRST_PIXEL = 1
  LINE_LAST_PIXEL = 13066
  LINE_PROJECTION_OFFSET = -45441.875
  MAP_PROJECTION_ROTATION = 0.0
  MAP_PROJECTION_TYPE = SINUSOIDAL
  MAP_RESOLUTION = 1185.42760773333
  MAP_SCALE = 0.05
  MAXIMUM_LATITUDE = -38.326
  MINIMUM_LATITUDE = -49.298
  POSITIVE_LONGITUDE_DIRECTION = EAST
  REFERENCE_LATITUDE = "N/A"
  REFERENCE_LONGITUDE = "N/A"
  SAMPLE_FIRST_PIXEL = 1
  SAMPLE_LAST_PIXEL = 2299
  SAMPLE_PROJECTION_OFFSET = 1100.875
  SECOND_STANDARD_PARALLEL = "N/A"
  WESTERNMOST_LONGITUDE = 291.536
END_OBJECT = IMAGE_MAP_PROJECTION
END
