PDS_VERSION_ID = PDS3
/* FILE DATA ELEMENTS */
RECORD_TYPE = UNDEFINED
/* POINTERS TO DATA OBJECTS */
^IMAGE = ("HA694_0000_P14.TIF")
/* IDENTIFICATION DATA ELEMENTS */
DATA_SET_ID = "MEX-M-HRSC-4-REFDR-MAPPROJECT-EXT3-V4.0"
DATA_SET_NAME = "MARS EXPRESS HRSC MAP PROJECTED REFDR EXTENSION3 V4.0"
DETECTOR_ID = MEX_HRSC_P1
EVENT_TYPE = "MARS-REGIONAL-MAPPING-Te-Fl"
INSTRUMENT_HOST_ID = MEX
INSTRUMENT_HOST_NAME = "MARS EXPRESS"
INSTRUMENT_ID = HRSC
INSTRUMENT_NAME = "HIGH RESOLUTION STEREO CAMERA"
MISSION_NAME = "MARS EXPRESS"
MISSION_PHASE_NAME = ME_Phase_26
PROCESSING_LEVEL_ID = 4
PRODUCT_CREATION_TIME = 2023-02-05T03:55:10.000Z
PRODUCT_ID = "HA694_0000_P14.TIF"
RELEASE_ID = 0009
REVISION_ID = 0000
/* QUALITY DATA ELEMENTS */
DATA_QUALITY_ID = 1
DATA_QUALITY_DESC = "Data calculated based on original SPICE kernels"
/* TIME DATA ELEMENTS */
SPACECRAFT_CLOCK_START_COUNT = "1/0285965672.08262"
SPACECRAFT_CLOCK_STOP_COUNT = "1/0285966034.26790"
START_TIME = 2012-05-24T18:55:48.128Z
STOP_TIME = 2012-05-24T19:00:05.796Z
/* ORBITAL DATA ELEMENTS */
ASCENDING_NODE_LONGITUDE = 13.23
MAXIMUM_RESOLUTION = 0.0395
FOOTPRINT_POINT_LATITUDE = (-41.5352,-41.5323,-41.5267,-41.5223, -41.5171,-41.5078,-41.5074,-41.5284, -41.044,-40.6781,-40.1879,-39.4427, -38.9411,-38.4319,-38.1749,-37.9159, -37.6577,-37.3966,-37.1342,-36.8701, -36.608,-36.2033,-35.9356,-35.5291, -35.2573,-34.9828,-34.7066,-34.4307, -34.1524,-33.8704,-33.5897,-33.3064, -33.0211,-32.7333,-32.2979,-32.006, -31.7115,-31.2683,-30.9719,-30.6726, -30.3723,-30.0698,-29.7647,-29.4583, -29.1497,-28.8377,-28.524,-28.2085, -27.8902,-27.7302,-27.6871,-27.6835, -27.6794,-27.6743,-27.666,-27.6567, -27.6563,-27.6569,-28.1385,-28.4554, -28.7718,-29.0854,-29.3956,-29.8578, -30.3173,-30.6201,-30.9229,-31.2221, -31.6672,-31.9621,-32.2542,-32.6902, -32.9793,-33.2656,-33.6931,-33.9776, -34.2579,-34.6786,-34.9564,-35.2343, -35.5081,-35.7815,-36.0505,-36.4538, -36.7196,-36.9858,-37.3791,-37.6415, -37.9003,-38.1595,-38.5444,-38.7998, -39.0541,-39.5576,-39.9314,-40.4283, -40.9171,-41.4019,-41.522,-41.5352)
FOOTPRINT_POINT_LONGITUDE = (285.2,284.771,284.212,283.867,283.521, 283.001,282.979,282.954,282.968,282.976 ,282.985,282.997,283.004,283.009, 283.012,283.015,283.017,283.019,283.021 ,283.023,283.021,283.026,283.025, 283.025,283.024,283.024,283.023,283.02, 283.018,283.017,283.014,283.01,283.007, 283.004,282.999,282.995,282.99,282.983, 282.976,282.969,282.962,282.954,282.947 ,282.938,282.93,282.921,282.912,282.903 ,282.894,282.889,282.887,283.516,283.98 ,284.388,284.986,285.664,285.692, 285.701,285.688,285.678,285.67,285.66, 285.651,285.637,285.623,285.614,285.605 ,285.596,285.582,285.572,285.563, 285.549,285.539,285.53,285.516,285.507, 285.498,285.484,285.475,285.467,285.458 ,285.448,285.438,285.423,285.413, 285.403,285.388,285.377,285.367,285.357 ,285.341,285.331,285.32,285.299,285.283 ,285.261,285.239,285.216,285.21,285.2)
ORBIT_NUMBER = 10694
ORBITAL_ECCENTRICITY = 0.577
ORBITAL_INCLINATION = 86.87
ORBITAL_SEMIMAJOR_AXIS = 8770.92
PERIAPSIS_ALTITUDE = 329.16
PERIAPSIS_ARGUMENT_ANGLE = 292.47
PERIAPSIS_TIME = 2012-05-24T18:48:35.000Z
SPACECRAFT_ORIENTATION = (0.0,1.0,0.0)
^MEX_ORIENTATION_DESC = "MEX_ORIENTATION_DESC.TXT"
SPACECRAFT_POINTING_MODE = ACROSSTRACK
^MEX_POINTING_DESC = "MEX_POINTING_DESC.TXT"
RIGHT_ASCENSION = -1e+32
DECLINATION = -1e+32
OFFSET_ANGLE = 0.2
SPACECRAFT_SOLAR_DISTANCE = 2.42219e+08
TARGET_NAME = MARS
/* CAMERA DATA ELEMENTS */
DETECTOR_TEMPERATURE = 17.351
FOCAL_PLANE_TEMPERATURE = 7.9716
INST_CMPRS_NAME = "DISCRETE COSINE TRANSFORMATION (DCT)"
INST_CMPRS_RATIO = 8.29956
INST_CMPRS_QUALITY = 0
INST_CMPRS_QUANTZ_TBL_ID = 0
INSTRUMENT_TEMPERATURE = 11.234
LENS_TEMPERATURE = 8.5833
MACROPIXEL_SIZE = 2
MISSING_FRAMES = 0
PIXEL_SUBSAMPLING_FLAG = N
SIGNAL_CHAIN_ID = 3
/* RADIOMETRIC DATA ELEMENTS */
BANDWIDTH = 174.0
CENTER_FILTER_WAVELENGTH = 675.0
RADIANCE_OFFSET = 0.336486
RADIANCE_SCALING_FACTOR = 0.0228722
REFLECTANCE_SCALING_FACTOR = 0.000721785
MEX:REFLECTANCE_OFFSET = 0.0106186
/* IMAGE OBJECT DEFINITIONS */
OBJECT = IMAGE
  INTERCHANGE_FORMAT = BINARY
  LINES = 32938
  LINE_SAMPLES = 5456
  SAMPLE_TYPE = UNSIGNED_INTEGER
  SAMPLE_BITS = 8
  BANDS = 1
  BAND_STORAGE_TYPE = BAND_SEQUENTIAL
  MAXIMUM = 255
  MEAN = 97.4661
  MINIMUM = 1
  STANDARD_DEVIATION = 20.9546
END_OBJECT = IMAGE
/* MAP OBJECT DEFINITIONS */
OBJECT = IMAGE_MAP_PROJECTION
  ^DATA_SET_MAP_PROJECTION_CATALOG= "DSMAP.CAT"
  A_AXIS_RADIUS = 3396.0
  B_AXIS_RADIUS = 3396.0
  C_AXIS_RADIUS = 3396.0
  CENTER_LATITUDE = 0.0
  CENTER_LONGITUDE = 284.0
  COORDINATE_SYSTEM_NAME = PLANETOGRAPHIC
  COORDINATE_SYSTEM_TYPE = "BODY-FIXED ROTATING"
  EASTERNMOST_LONGITUDE = 285.701
  FIRST_STANDARD_PARALLEL = "N/A"
  LINE_FIRST_PIXEL = 1
  LINE_LAST_PIXEL = 32938
  LINE_PROJECTION_OFFSET = -65643.75
  MAP_PROJECTION_ROTATION = 0.0
  MAP_PROJECTION_TYPE = SINUSOIDAL
  MAP_RESOLUTION = 2370.85521546667
  MAP_SCALE = 0.025
  MAXIMUM_LATITUDE = -27.6563
  MINIMUM_LATITUDE = -41.5352
  POSITIVE_LONGITUDE_DIRECTION = EAST
  REFERENCE_LATITUDE = "N/A"
  REFERENCE_LONGITUDE = "N/A"
  SAMPLE_FIRST_PIXEL = 1
  SAMPLE_LAST_PIXEL = 5456
  SAMPLE_PROJECTION_OFFSET = 2126.25
  SECOND_STANDARD_PARALLEL = "N/A"
  WESTERNMOST_LONGITUDE = 282.887
END_OBJECT = IMAGE_MAP_PROJECTION
END
