PDS_VERSION_ID = PDS3
/* FILE DATA ELEMENTS */
RECORD_TYPE = UNDEFINED
/* POINTERS TO DATA OBJECTS */
^IMAGE = ("HA694_0000_IR4.TIF")
/* IDENTIFICATION DATA ELEMENTS */
DATA_SET_ID = "MEX-M-HRSC-4-REFDR-MAPPROJECT-EXT3-V4.0"
DATA_SET_NAME = "MARS EXPRESS HRSC MAP PROJECTED REFDR EXTENSION3 V4.0"
DETECTOR_ID = MEX_HRSC_IR
EVENT_TYPE = "MARS-REGIONAL-MAPPING-Te-Fl"
INSTRUMENT_HOST_ID = MEX
INSTRUMENT_HOST_NAME = "MARS EXPRESS"
INSTRUMENT_ID = HRSC
INSTRUMENT_NAME = "HIGH RESOLUTION STEREO CAMERA"
MISSION_NAME = "MARS EXPRESS"
MISSION_PHASE_NAME = ME_Phase_26
PROCESSING_LEVEL_ID = 4
PRODUCT_CREATION_TIME = 2023-02-05T03:55:10.000Z
PRODUCT_ID = "HA694_0000_IR4.TIF"
RELEASE_ID = 0009
REVISION_ID = 0000
/* QUALITY DATA ELEMENTS */
DATA_QUALITY_ID = 1
DATA_QUALITY_DESC = "Data calculated based on original SPICE kernels"
/* TIME DATA ELEMENTS */
SPACECRAFT_CLOCK_START_COUNT = "1/0285965672.08262"
SPACECRAFT_CLOCK_STOP_COUNT = "1/0285966034.26790"
START_TIME = 2012-05-24T18:55:56.769Z
STOP_TIME = 2012-05-24T19:00:20.723Z
/* ORBITAL DATA ELEMENTS */
ASCENDING_NODE_LONGITUDE = 13.23
MAXIMUM_RESOLUTION = 0.0815
FOOTPRINT_POINT_LATITUDE = (-41.5216,-41.5178,-41.5148,-41.5112, -41.5069,-41.4979,-41.4975,-41.5228, -41.1583,-40.6708,-40.0566,-39.5594, -39.0565,-38.6768,-38.4211,-38.035, -37.7755,-37.5171,-37.2539,-36.9897, -36.5966,-36.3276,-35.9218,-35.5154, -35.2433,-34.9682,-34.6924,-34.2782, -33.8559,-33.5759,-33.2925,-33.0062, -32.7196,-32.4297,-32.1386,-31.8453, -31.4025,-30.9584,-30.5111,-30.2108, -29.7553,-29.4495,-29.1414,-28.8305, -28.5176,-28.202,-27.8848,-27.7258, -27.6875,-27.6831,-27.6769,-27.672, -27.6627,-27.6573,-27.6493,-27.6489, -27.6503,-27.97,-28.2886,-28.6048, -28.9192,-29.2306,-29.539,-29.8458, -30.154,-30.455,-30.759,-31.0593, -31.358,-31.654,-31.9476,-32.3852, -32.8198,-33.2503,-33.6784,-33.9619, -34.3842,-34.6651,-34.9434,-35.2213, -35.4959,-35.7693,-36.0385,-36.4419, -36.7083,-36.9742,-37.2371,-37.5003, -37.7599,-38.0201,-38.4061,-38.6625, -39.0441,-39.2969,-39.7982,-40.2961, -40.9121,-41.3955,-41.5168,-41.5216)
FOOTPRINT_POINT_LONGITUDE = (285.219,284.591,284.255,283.918, 283.582,282.99,282.969,282.946,282.955, 282.966,282.977,282.985,282.991,282.995 ,282.998,283.002,283.004,283.005, 283.007,283.009,283.008,283.01,283.011, 283.01,283.01,283.009,283.007,283.003, 283.0,282.997,282.993,282.99,282.986, 282.982,282.978,282.974,282.966,282.956 ,282.945,282.937,282.925,282.916, 282.907,282.898,282.889,282.879,282.869 ,282.864,282.862,283.373,283.911,284.26 ,284.823,285.197,285.705,285.731,285.74 ,285.73,285.721,285.711,285.701,285.691 ,285.681,285.671,285.662,285.651, 285.642,285.633,285.623,285.613,285.603 ,285.588,285.573,285.559,285.544, 285.535,285.52,285.511,285.502,285.492, 285.483,285.473,285.463,285.447,285.437 ,285.426,285.416,285.405,285.395, 285.384,285.368,285.358,285.341,285.33, 285.308,285.286,285.258,285.235,285.229 ,285.219)
ORBIT_NUMBER = 10694
ORBITAL_ECCENTRICITY = 0.577
ORBITAL_INCLINATION = 86.87
ORBITAL_SEMIMAJOR_AXIS = 8770.92
PERIAPSIS_ALTITUDE = 329.16
PERIAPSIS_ARGUMENT_ANGLE = 292.47
PERIAPSIS_TIME = 2012-05-24T18:48:35.000Z
SPACECRAFT_ORIENTATION = (0.0,1.0,0.0)
^MEX_ORIENTATION_DESC = "MEX_ORIENTATION_DESC.TXT"
SPACECRAFT_POINTING_MODE = ACROSSTRACK
^MEX_POINTING_DESC = "MEX_POINTING_DESC.TXT"
RIGHT_ASCENSION = -1e+32
DECLINATION = -1e+32
OFFSET_ANGLE = 0.2
SPACECRAFT_SOLAR_DISTANCE = 2.42219e+08
TARGET_NAME = MARS
/* CAMERA DATA ELEMENTS */
DETECTOR_TEMPERATURE = 17.351
FOCAL_PLANE_TEMPERATURE = 7.9716
INST_CMPRS_NAME = "DISCRETE COSINE TRANSFORMATION (DCT)"
INST_CMPRS_RATIO = 13.7355
INST_CMPRS_QUALITY = 0
INST_CMPRS_QUANTZ_TBL_ID = 0
INSTRUMENT_TEMPERATURE = 11.234
LENS_TEMPERATURE = 8.5833
MACROPIXEL_SIZE = 4
MISSING_FRAMES = 0
PIXEL_SUBSAMPLING_FLAG = N
SIGNAL_CHAIN_ID = 2
/* RADIOMETRIC DATA ELEMENTS */
BANDWIDTH = 81.0
CENTER_FILTER_WAVELENGTH = 955.5
RADIANCE_OFFSET = 0.080185
RADIANCE_SCALING_FACTOR = 0.00507614
REFLECTANCE_SCALING_FACTOR = 0.0006425
MEX:REFLECTANCE_OFFSET = 0.0101492
/* IMAGE OBJECT DEFINITIONS */
OBJECT = IMAGE
  INTERCHANGE_FORMAT = BINARY
  LINES = 16469
  LINE_SAMPLES = 2728
  SAMPLE_TYPE = UNSIGNED_INTEGER
  SAMPLE_BITS = 8
  BANDS = 1
  BAND_STORAGE_TYPE = BAND_SEQUENTIAL
  MAXIMUM = 255
  MEAN = 99.0372
  MINIMUM = 1
  STANDARD_DEVIATION = 25.7218
END_OBJECT = IMAGE
/* MAP OBJECT DEFINITIONS */
OBJECT = IMAGE_MAP_PROJECTION
  ^DATA_SET_MAP_PROJECTION_CATALOG= "DSMAP.CAT"
  A_AXIS_RADIUS = 3396.0
  B_AXIS_RADIUS = 3396.0
  C_AXIS_RADIUS = 3396.0
  CENTER_LATITUDE = 0.0
  CENTER_LONGITUDE = 284.0
  COORDINATE_SYSTEM_NAME = PLANETOGRAPHIC
  COORDINATE_SYSTEM_TYPE = "BODY-FIXED ROTATING"
  EASTERNMOST_LONGITUDE = 285.74
  FIRST_STANDARD_PARALLEL = "N/A"
  LINE_FIRST_PIXEL = 1
  LINE_LAST_PIXEL = 16469
  LINE_PROJECTION_OFFSET = -32822.125
  MAP_PROJECTION_ROTATION = 0.0
  MAP_PROJECTION_TYPE = SINUSOIDAL
  MAP_RESOLUTION = 1185.42760773333
  MAP_SCALE = 0.05
  MAXIMUM_LATITUDE = -27.6489
  MINIMUM_LATITUDE = -41.5228
  POSITIVE_LONGITUDE_DIRECTION = EAST
  REFERENCE_LATITUDE = "N/A"
  REFERENCE_LONGITUDE = "N/A"
  SAMPLE_FIRST_PIXEL = 1
  SAMPLE_LAST_PIXEL = 2728
  SAMPLE_PROJECTION_OFFSET = 1062.875
  SECOND_STANDARD_PARALLEL = "N/A"
  WESTERNMOST_LONGITUDE = 282.862
END_OBJECT = IMAGE_MAP_PROJECTION
END
